BEGIN:VCALENDAR
VERSION:2.0
PRODID:-//https://techplay.jp//JP
CALSCALE:GREGORIAN
METHOD:PUBLISH
X-WR-CALDESC:知らなければ勿体ない、今、注目の補助金と
 活用戦略について
X-WR-CALNAME:知らなければ勿体ない、今、注目の補助金と
 活用戦略について
X-WR-TIMEZONE:Asia/Tokyo
BEGIN:VTIMEZONE
TZID:Asia/Tokyo
BEGIN:STANDARD
DTSTART:19700101T000000
TZOFFSETFROM:+0900
TZOFFSETTO:+0900
TZNAME:JST
END:STANDARD
END:VTIMEZONE
BEGIN:VEVENT
UID:992338@techplay.jp
SUMMARY:知らなければ勿体ない、今、注目の補助金と活用
 戦略について
DTSTART;TZID=Asia/Tokyo:20260225T130000
DTEND;TZID=Asia/Tokyo:20260225T140000
DTSTAMP:20260420T095020Z
CREATED:20260213T003142Z
DESCRIPTION:イベント詳細はこちら\nhttps://techplay.jp/event/99233
 8?utm_medium=referral&utm_source=ics&utm_campaign=ics\n\n知らなけれ
 ば勿体ない、今、注目の補助金と活用戦略について\n
 概要\n>>ウェビナーに申し込む<<\n「どの補助金が自社
 に最適か」迷っていませんか？豊富な実績に基づく“
 通る”申請ノウハウを公開刻々と変化する補助金制度
 。その情報を正確に追い、数ある中から「自社に最適
 な施策」を見極めることは容易ではありません。本ウ
 ェビナーでは、支援実績500件以上、平均採択率約74%と
 いう確かな実績を持つ、株式会社ユニヴィスコンサル
 ティングの谷 佳剛氏が登壇。 2025年度の最新かつ注目
 の補助金情報を、具体的な活用事例を交えて徹底解説
 します。単なる制度の説明にとどまらず、「売上高100
 億円」を目指す成長志向の企業や、人手不足解消・生
 産性の抜本的向上を図りたい企業に向け、経営戦略を
 加速させるための実践的な「補助金活用術」を余すと
 ころなくお伝えします。不慣れな申請で機会を逃した
 くない方、専門家のフルサポートで次なる飛躍への一
 手を打ちたい経営者様・企画担当者様必見の内容です
 。\n開催情報👤講師： 谷 佳剛 氏（株式会社ユニヴィ
 スコンサルティング  マネージャー）📅開催日時： 20
 26年2月25日（水） 13:00〜14:00💻形式： Zoomウェビナー（
 参加無料／事前登録制）>>ウェビナーに申し込む<<
LOCATION:
URL:https://techplay.jp/event/992338?utm_medium=referral&utm_source=ics&utm
 _campaign=ics
END:VEVENT
END:VCALENDAR
