BEGIN:VCALENDAR
VERSION:2.0
PRODID:-//https://techplay.jp//JP
CALSCALE:GREGORIAN
METHOD:PUBLISH
X-WR-CALDESC:最新“情報セキュリティ10大脅威 2026”から読
 み解く セキュリティー最新トレンドとサイバー攻撃へ
 の対応の最適解を解説！
X-WR-CALNAME:最新“情報セキュリティ10大脅威 2026”から読
 み解く セキュリティー最新トレンドとサイバー攻撃へ
 の対応の最適解を解説！
X-WR-TIMEZONE:Asia/Tokyo
BEGIN:VTIMEZONE
TZID:Asia/Tokyo
BEGIN:STANDARD
DTSTART:19700101T000000
TZOFFSETFROM:+0900
TZOFFSETTO:+0900
TZNAME:JST
END:STANDARD
END:VTIMEZONE
BEGIN:VEVENT
UID:992341@techplay.jp
SUMMARY:最新“情報セキュリティ10大脅威 2026”から読み解
 く セキュリティー最新トレンドとサイバー攻撃への対
 応の最適解を解説！
DTSTART;TZID=Asia/Tokyo:20260326T100000
DTEND;TZID=Asia/Tokyo:20260326T110000
DTSTAMP:20260421T152048Z
CREATED:20260213T015229Z
DESCRIPTION:イベント詳細はこちら\nhttps://techplay.jp/event/99234
 1?utm_medium=referral&utm_source=ics&utm_campaign=ics\n\n最新“情報
 セキュリティ10大脅威 2026”から読み解くセキュリティ
 ー最新トレンドとサイバー攻撃への対応の最適解を解
 説！\n情報処理推進機構・IPAより、「情報セキュリテ
 ィ10大脅威　2026」が発表されました。毎年ご好評いた
 だいている解説セミナーを今年も実施いたします。「
 情報セキュリティ10大脅威」は、その年に社会的影響
 が大きいと想定される脅威をIPAがランキング形式で発
 表し、企業・組織や個人がセキュリティ対策を講じる
 ための重要な指針となるものです。セキュリティーの
 脅威に対しては、技術的対策も重要ですが、人を侵入
 口としてサイバー被害にあったケースも増加しており
 、人への対策も疎かにはできません。\n本セミナーで
 は、IPAの「情報セキュリティ10大脅威 2026」を解説する
 とともに、当社が提供するセキュリティーサービス全
 般についてもご紹介します。ぜひこの機会にご参加い
 ただき、最新の脅威動向と有効な対策について理解を
 深めていただければ幸いです。\nこのような方にオス
 スメ\n\n社内のセキュリティポリシー策定や運用を担っ
 ている担当者様\nサイバー攻撃による事業リスクを理
 解し、戦略的に対応したい方\n\nイベント詳細\n・日時
 ：　　　2026年3月26日（木）　10:00-11:00（9:50　受付開始
 ）・会場：　　　オンライン（Cisco Webex）・参加費：
 　　無料（事前登録制）・主催：　　　三菱電機デジ
 タルイノベーション株式会社・登録締切：　2026年3月25
 日（水）　10:00\nアジェンダ\n「情報セキュリティ10大
 脅威 2026」 を題材に、セキュリティートレンドと対応
 策の解説\n三菱電機デジタルイノベーション株式会社
 セキュリティ事業 セキュリティサービス推進部 サー
 ビス企画課高田　直樹\n注意事項\n\n企業・団体にご所
 属でないお客様、および弊社競合製品・サービスを取
 り扱う企業にご在籍のお客様につきましては、ご参加
 をお断りする場合がございますのであらかじめご了承
 ください。\nご視聴方法は、セミナー開催日前日まで
 に、お申込みいただいた方へ主催よりメールにてご案
 内いたします。本セミナーはCisco Webexにて配信を行い
 ます。視聴方法をご案内するメールに記載のURLからア
 クセスを行ってください。\n参加登録には、個人情報
 のお取り扱いに同意いただく必要があります。\n主催
 者の事前の承諾なしに、コンテンツを自ら又は第三者
 を通じて転載、複製、出版、放送、公衆送信、改変、
 翻訳、翻案、頒布、送信可能化、貸与、譲渡、使用許
 諾、上映その他知的財産権を侵害する一切の行為を禁
 止いたします。\nキャンセル待ち・補欠・落選の方は
 ご参加いただくことが出来ませんのでご了承ください
 。\n欠席される場合は、お手数ですが速やかにキャン
 セル処理をお願い致します。\n無断キャンセルや欠席
 が続く場合、次回以降の参加をお断りさせていただく
 場合がございます。\n
LOCATION:
URL:https://techplay.jp/event/992341?utm_medium=referral&utm_source=ics&utm
 _campaign=ics
END:VEVENT
END:VCALENDAR
