BEGIN:VCALENDAR
VERSION:2.0
PRODID:-//https://techplay.jp//JP
CALSCALE:GREGORIAN
METHOD:PUBLISH
X-WR-CALDESC:本番提供できる品質へ：SaaSにAI機能を実装す
 るまでのリアル
X-WR-CALNAME:本番提供できる品質へ：SaaSにAI機能を実装す
 るまでのリアル
X-WR-TIMEZONE:Asia/Tokyo
BEGIN:VTIMEZONE
TZID:Asia/Tokyo
BEGIN:STANDARD
DTSTART:19700101T000000
TZOFFSETFROM:+0900
TZOFFSETTO:+0900
TZNAME:JST
END:STANDARD
END:VTIMEZONE
BEGIN:VEVENT
UID:992472@techplay.jp
SUMMARY:本番提供できる品質へ：SaaSにAI機能を実装するま
 でのリアル
DTSTART;TZID=Asia/Tokyo:20260325T190000
DTEND;TZID=Asia/Tokyo:20260325T223000
DTSTAMP:20260422T080307Z
CREATED:20260216T070416Z
DESCRIPTION:イベント詳細はこちら\nhttps://techplay.jp/event/99247
 2?utm_medium=referral&utm_source=ics&utm_campaign=ics\n\n概要\n生成AI
 をSaaSの機能として提供する動きが加速しています。と
 はいえ現場では「動くもの」はできても、そのまま顧
 客に出せるケースは依然として少ない。出力の揺れ、
 データ範囲の拡大、運用コストの変動——AI機能の組
 み込みは、従来のSaaS開発にはなかった難しい判断を迫
 ります。\n本イベントはオフライン開催です。会場で
 集まって、各社のリアルな実例を聞きながら「学び」
 と「つながり」を持ち帰れる夜にします。\n本番提供
 までにどこでつまずき、どんな観点で、どう判断した
 のか、実例を通して共有します。セッション後の懇親
 会でも登壇者や参加者同士で、気軽に情報交換しまし
 ょう！\nタイムテーブル\n\n\n\n時間\nセッションタイト
 ル\n企業名\nスピーカー\n\n\n\n\n18:30\n開場（受付開始）\
 n—\n—\n\n\n19:00\nオープニング・イベント趣旨説明\n—\
 n—\n\n\n19:05\nセッション① (仮) LLMに何を任せ、何を任
 せないか\n株式会社LayerX\nan（Connpass: cap120）\n\n\n19:25\n
 セッション② Wowを産むAI開発のプロセスを作るまで\n
 株式会社SmartHR\n金岡 亮 (@ryopenguin)\n\n\n19:45\nセッション
 ③ AI機能、動いてますか ~AI機能を持つマルチテナント
 SaaSの開発で直面した課題~\n株式会社はてな\nnoy72 (@noyno
 te)\n\n\n20:05\n懇親会（ネットワーキング）\n—\n—\n\n\n21
 :30\nクロージング\n—\n—\n\n\n\nこんな方におすすめ\n※
 このイベントはどなたでもご参加いただけます。「生
 成AI/LLMをプロダクトに入れてみたい」「入れたけど難
 しい」どちらの方も歓迎です。\n\n生成AI/LLMをSaaS機能
 として これから検討し始める／すでに 実装・運用し
 ている 方\nPoCは動いたが、本番提供の品質・安全性・
 運用で「次の一手」に悩んでいる方\nプロダクトと開
 発の意思決定に関わる方（テックリード / EM / バック
 エンドエンジニア / PdM など）\n\nイベントのゴール\nこ
 のイベントで目指すのは、AI機能を「動く」から「き
 ちんと顧客へ出せる」へ進めるための、判断軸と進め
 方を持ち帰っていただくことです。\n\nPoCから本番まで
 に、何を・どの順番で決めるべきか（優先順位）が分
 かる\n各社の実例から、詰まりやすいポイントと乗り
 越え方が分かる\nAI機能を組み込むための次の一手を持
 ち帰る（例：設計／品質の担保／運用の観点）\n\n登壇
 者情報\n(仮) LLMに何を任せ、何を任せないか\n\nan (Connpa
 ss: cap120)株式会社LayerXソフトウェアエンジニア\n新卒で
 ITコンサルに入社し、金融機関・保険会社など向けの
 受託開発に従事。その後SalesforceにてCSを経験。再びエ
 ンジニアとして開発に携わった後、2025年にLayerXへ入社
 し、バクラク申請・経費精算の開発に携わっている。
 稀にいるCSS好き。\n\nWowを産むAI開発のプロセスを作る
 まで\n\n金岡 亮 (@ryopenguin)株式会社SmartHRHead of AI / AIプ
 ロダクトマネージャー\n2020年10月にSmartHRに入社。タレ
 ントマネジメントプロダクト（従業員サーベイ、スキ
 ル管理、学習管理）、プロダクトグロースチームの立
 ち上げを経験したのち、2024年8月からプロダクトへのAI
 導入の責任者。前職はAI特化の受託開発企業でプロジ
 ェクトマネージャーやデータアナリストを担当。\n\nAI
 機能、動いてますか ~AI機能を持つマルチテナントSaaS
 の開発で直面した課題~\n\nnoy72 (Connpass: noy72 / X: @noynote)
 株式会社はてなエンジニアリングマネージャー\n2021年4
 月に株式会社はてなへ入社し、ビジネスプラットフォ
 ームチームに配属。2023年10月より toitta チームに配属
 され、プロダクト開発に携わっている。\n懇親会につ
 いて\n20:05〜21:25の約80分間、参加者同士の交流・ネッ
 トワーキングの時間を設けます。\n同じ課題を抱える
 開発者同士で情報交換したり、登壇者に直接質問した
 りできる貴重な機会です。ぜひご参加ください！\n※
 軽食・飲み物をご用意する予定です\n会場について\n会
 場: アートヴィレッジ大崎セントラルタワー（5階）住
 所: 〒141-0032 東京都品川区大崎1丁目2−2 5階地図: Google
 マップで開く\n開場時間: 18:30\n諸注意\n参加について\n\
 n参加用リンクおよび会場詳細は、開催3日前に参加確
 定者にconnpass経由で通知します\nキャンセルされる場合
 は、前日までに必ずキャンセル処理をお願いします\n
 エージェントの方や営業目的でのイベント参加はご遠
 慮ください\n\n行動規範\n\n性別/性的指向/障碍の有無/
 人種/宗教/年齢/容姿/体格/技術の選択に関わりなく、
 誰もが気持ちよく参加できるようにご協力ください\n
 ハラスメント行為は一切認めません。違反が確認され
 た場合、退場いただく場合があります\n\nその他\n\n当
 イベントの内容およびスケジュールは、予告なく変更
 となる場合があります。予めご了承ください\nイベン
 ト参加時に入力いただいた情報は、以下に基づき扱い
 ますファインディ株式会社 プライバシーポリシー\n\n
 主催・運営\n【主催】株式会社アンチパターン\n\n株式
 会社アンチパターン\n【共催】ファインディ株式会社\n
 \nファインディ株式会社\nお問い合わせ: event@findy.co.jp
LOCATION:ファインディ株式会社 東京都品川区大崎１丁目
 ２−２ アートヴィレッジ大崎セントラルタワー 5 階
URL:https://techplay.jp/event/992472?utm_medium=referral&utm_source=ics&utm
 _campaign=ics
END:VEVENT
END:VCALENDAR
