BEGIN:VCALENDAR
VERSION:2.0
PRODID:-//https://techplay.jp//JP
CALSCALE:GREGORIAN
METHOD:PUBLISH
X-WR-CALDESC:アバントグループ主催 「経営DXフォーラム 2026
  『先進事例に学ぶデータ活用と経営意思決定の未来 
 ～高品質なデータ基盤が拓く企業価値向上～』」を開
 催します
X-WR-CALNAME:アバントグループ主催 「経営DXフォーラム 2026
  『先進事例に学ぶデータ活用と経営意思決定の未来 
 ～高品質なデータ基盤が拓く企業価値向上～』」を開
 催します
X-WR-TIMEZONE:Asia/Tokyo
BEGIN:VTIMEZONE
TZID:Asia/Tokyo
BEGIN:STANDARD
DTSTART:19700101T000000
TZOFFSETFROM:+0900
TZOFFSETTO:+0900
TZNAME:JST
END:STANDARD
END:VTIMEZONE
BEGIN:VEVENT
UID:992589@techplay.jp
SUMMARY:アバントグループ主催 「経営DXフォーラム 2026 『
 先進事例に学ぶデータ活用と経営意思決定の未来 ～高
 品質なデータ基盤が拓く企業価値向上～』」を開催し
 ます
DTSTART;TZID=Asia/Tokyo:20260309T143000
DTEND;TZID=Asia/Tokyo:20260309T190000
DTSTAMP:20260420T060332Z
CREATED:20260218T074424Z
DESCRIPTION:イベント詳細はこちら\nhttps://techplay.jp/event/99258
 9?utm_medium=referral&utm_source=ics&utm_campaign=ics\n\nアバントグ
 ループ主催「経営DXフォーラム 2026 『先進事例に学ぶ
 データ活用と経営意思決定の未来 ～高品質なデータ基
 盤が拓く企業価値向上～』」を開催します\nイベント
 の見どころ\nデジタル技術の進化と経営環境の複雑化
 により、企業の競争力は「経験や勘」から「データを
 起点とした合理的かつ迅速な意思決定」へと大きくシ
 フトし、データを経営の中核に据えた意思決定の仕組
 みづくりが不可欠となっています。経営DXは単なる業
 務の効率性を求めたシステム化にとどまらず、経営意
 思決定の質そのものを高め、企業価値向上につなげる
 ための重要な取り組みとして位置づけられています。\
 n本フォーラムでは、“先進事例に学ぶデータ活用と経
 営意思決定の未来”をテーマに、経営企画・経理財務
 ・IT／情報システム・DX部門のリーダーが一堂に会し、
 いち早く困難な改革に取り組む先進企業の挑戦の歩み
 から、真のデータ活用による経営管理の高度化と企業
 価値向上のヒントを考察してまいります。\nプログラ
 ム\n14:30 - 14:35オープニング\n株式会社アバント 代表取
 締役社長株式会社ジール 取締役会長岡部 貴弘\n---------
 -----------------14:35 - 15:05基調講演\nグループ全体最適で
 企業価値向上を実現する実践ROIC経営～CFO視点からみた
 より良い意思決定／実行力向上に向けての経営DX\n元 
 オムロン株式会社取締役執行役員専務 CFO 兼 グローバ
 ル戦略本部長（現 株式会社ワコールホールディングス
 ／株式会社ジーエス・ユアサコーポレーション／株式
 会社T&Dホールディングス 各社 社外取締役）日戸興史
 事務所 代表日戸 興史 氏\n--------------------------15:05 - 15:2
 5主催者講演\n市場との対話を「実質化」する経営管理
 ～投資家の期待を社内の規律に変えるデータ基盤～\n
 株式会社アバントグループ CSO株式会社アバント 取締
 役諸井 伸吾\n--------------------------15:25 - 15:55特別ゲスト
 講演\n人・データ・組織風土を起点としたDXと経営～旭
 化成にみる変革の歩みと更なる成長に向けて～\n旭化
 成株式会社取締役 副社長執行役員 研究開発・DX・知的
 財産統括久世 和資 氏\n--------------------------15:55 - 16:10休
 憩、移動時間\n--------------------------16:10 - 16:50ブレイク
 アウトセッション＊お申し込み時に参加希望のセッシ
 ョンをご選択ください\n【事例講演 A-1】住友ベークラ
 イトにおける製品別収益可視化への挑戦​ ～連結多軸
 分析で実現する事業成長と価値創造 ～\n住友ベークラ
 イト株式会社HPPグローバル事業企画室長奥 智宏 氏\n【
 事例講演 B-1】キャラクターIP企業サンリオのデータ活
 用改革 ～基盤刷新と Microsoft Fabric で実現した“全社で
 使える”データ活用～\n株式会社サンリオ経営戦略本
 部 データ・テクノロジー推進室大畑 正利 氏\n-----------
 ---------------16:50 - 17:05休憩、移動時間\n----------------------
 ----17:05 - 17:45ブレイクアウトセッション＊お申し込み
 時に参加希望のセッションをご選択ください\n【事例
 講演 A-2】旭有機材が語る、経営管理改革への道 ～予
 実管理効率化とROIC経営浸透の道筋～\n旭有機材株式会
 社コーポレート統括本部 経理・財務部 部長橘 康弘 氏
 \n【事例講演 B-2】売上高1兆円への挑戦：スシローが描
 く「次世代データ戦略」の全貌 ～グローバル成長を支
 えるデータ活用基盤の刷新～\n株式会社FOOD & LIFE COMPANIE
 S経営企画部 デジタル戦略課 課長高井 将吾 氏\n---------
 -----------------17:45 - 19:00懇親会\n--------------------------\n参
 加費\n無料（事前登録制）\n\n参加対象者・前提条件\n
 皆様のお申込みを心よりお待ちしております。※ 申し
 込み多数の場合は抽選とさせていただきます。※ 当セ
 ミナーは参加対象を限定させていただいております。
 　 対象者以外の方に関しましては、お断りさせていた
 だく場合がございますので、予めご了承ください。※ 
 参加対象者：経営者、役員、CFO、CIO、CDO、経営企画、
 経理財務、IT/DX部門の管理職の方
LOCATION:JPタワー ホール＆カンファレンス 〒100-0005　東京
 都千代田区丸の内2-7-2 KITTE 4階 　JR、東京メトロ丸の内
 線「東京駅」より徒歩約1分
URL:https://techplay.jp/event/992589?utm_medium=referral&utm_source=ics&utm
 _campaign=ics
END:VEVENT
END:VCALENDAR
