BEGIN:VCALENDAR
VERSION:2.0
PRODID:-//https://techplay.jp//JP
CALSCALE:GREGORIAN
METHOD:PUBLISH
X-WR-CALDESC:スマホで完結！構図×AIで仕上げる！魅せる写
 真撮影セミナー
X-WR-CALNAME:スマホで完結！構図×AIで仕上げる！魅せる写
 真撮影セミナー
X-WR-TIMEZONE:Asia/Tokyo
BEGIN:VTIMEZONE
TZID:Asia/Tokyo
BEGIN:STANDARD
DTSTART:19700101T000000
TZOFFSETFROM:+0900
TZOFFSETTO:+0900
TZNAME:JST
END:STANDARD
END:VTIMEZONE
BEGIN:VEVENT
UID:992698@techplay.jp
SUMMARY:スマホで完結！構図×AIで仕上げる！魅せる写真撮
 影セミナー
DTSTART;TZID=Asia/Tokyo:20260421T140000
DTEND;TZID=Asia/Tokyo:20260421T160000
DTSTAMP:20260421T002757Z
CREATED:20260220T060411Z
DESCRIPTION:イベント詳細はこちら\nhttps://techplay.jp/event/99269
 8?utm_medium=referral&utm_source=ics&utm_campaign=ics\n\n4月最新集客
 セミナーは\n写真撮影で大事な構図・ライティングの
 ポイントも\n初心者の方にも分かりやすいすぐに実践
 できる\nプロテクニックもお伝えします。\n写真の構図
 やライティングだけでなく、\n加工に生成AIを活用して
 、更に魅力的な写真にスマホ1つで出来るセミナーです
 。\n宝塚歌劇団・劇団四季などのオーディション写真
 を撮影されている、\nSettsustudio赤松隆さんを講師にお
 招きします。\n後半のワークでは、ご自身の撮影した
 写真を使って\n生成AIで加工するワークも開催！\n是非
 お気に入りの食べ物の写真もご準備ください！\n\n【こ
 んな方におすすめ】\n商品写真・料理写真・店舗写真
 をもっと魅力的にしたい方\n商品の価値が伝わる写真
 を撮りたい広報担当の方\n写真が苦手だけど、最低限
 の「コツ」は身につけたい方\n\n【講師紹介】\n赤松 隆
  氏\nSettsu Studio オーナーカメラマン\n15年間で約3万人以
 上の就活生を撮影\n宝塚歌劇員を音楽学校時代から約40
 0名以上撮影\n劇団四季・各航空会社の面接写真など、
 その人のらしさを残しながら\n魅力を引き出すカメラ
 マンとして多大な支持を得ている。\n\n【開催概要】\n
 日時：2026年4月21日（火）14:00〜16:00\n持ち物：\n　・ス
 マートフォン\n　・ご自身で撮影した料理写真（1〜3枚
 ）\n\n＊＊＊＊＊＊＊＊＊＊＊＊＊＊＊＊＊＊＊＊＊＊
 \n※お申込み後、キャンセルされる場合は、\n平日の前
 日17:00までにお電話でご連絡頂きますようお願いいた
 します。\n㈱be love company\n電話　078-599-7601　（平日１０
 時～１８時）\ne-mail　infosan@belove.co.jp\n＊＊＊＊＊＊＊
 ＊＊＊＊＊＊＊＊＊＊＊＊＊＊＊
LOCATION:オンライン
URL:https://techplay.jp/event/992698?utm_medium=referral&utm_source=ics&utm
 _campaign=ics
END:VEVENT
END:VCALENDAR
