BEGIN:VCALENDAR
VERSION:2.0
PRODID:-//https://techplay.jp//JP
CALSCALE:GREGORIAN
METHOD:PUBLISH
X-WR-CALDESC:AIで変わる新規出店の売上予測 ― ほっかほっ
 か亭総本部の導入事例に学ぶ実践ノウハウ
X-WR-CALNAME:AIで変わる新規出店の売上予測 ― ほっかほっ
 か亭総本部の導入事例に学ぶ実践ノウハウ
X-WR-TIMEZONE:Asia/Tokyo
BEGIN:VTIMEZONE
TZID:Asia/Tokyo
BEGIN:STANDARD
DTSTART:19700101T000000
TZOFFSETFROM:+0900
TZOFFSETTO:+0900
TZNAME:JST
END:STANDARD
END:VTIMEZONE
BEGIN:VEVENT
UID:992783@techplay.jp
SUMMARY:AIで変わる新規出店の売上予測 ― ほっかほっか亭
 総本部の導入事例に学ぶ実践ノウハウ
DTSTART;TZID=Asia/Tokyo:20260326T124400
DTEND;TZID=Asia/Tokyo:20260331T124400
DTSTAMP:20260421T135450Z
CREATED:20260224T034437Z
DESCRIPTION:イベント詳細はこちら\nhttps://techplay.jp/event/99278
 3?utm_medium=referral&utm_source=ics&utm_campaign=ics\n\nタイトル：
  AIで変わる新規出店の売上予測 ― ほっかほっか亭総
 本部の導入事例に学ぶ実践ノウハウ登壇日時：2026年3
 月26日（木）11:00〜12:00登壇者： 株式会社DATAFLUCT AIモ
 デル事業部 執行役員 町田 順次・株式会社ほっかほっ
 か亭総本部常務取締役 飯沼 俊彦\n【このような方にお
 すすめ】\n\n現状の店舗開発業務や新店の売上予測に課
 題をお持ちの企業の方\n最新技術を活用して出店判断
 の精度向上を図りたい経営企画・店舗開発部門の方\n
 開発業務における属人性の改善や業務の効率化を進め
 たい店舗開発部門の方\n実践的なAI導入事例を知りたい
 DX推進部門の方\n自社で保有するデータを活用してAIに
 よる分析基盤を整備したい情報システム部門の方\nそ
 のほかAI導入の社内調整に課題を感じている方\n\n■セ
 ミナー内容\n【前半：講演形式】・出店計画成功の鍵
 を握る売上予測の重要性・売上予測手法のトレンドの
 変化・最新のAI売上予測の技術・内容・売上予測に活
 用するAI技術とデータ・高精度のAI売上予測を実現する
 ポイント\n【後半：パネルディスカッション形式】・AI
 売上予測の導入事例の紹介・AI売上予測の導入の背景
 ・導入プロセスの実際・プロジェクト進行のポイント
 ・現場での活用定着の工夫・今後の展望※内容は変更
 する可能性がございます。\nみなさまのご参加、お待
 ちしております。
LOCATION:
URL:https://techplay.jp/event/992783?utm_medium=referral&utm_source=ics&utm
 _campaign=ics
END:VEVENT
END:VCALENDAR
