BEGIN:VCALENDAR
VERSION:2.0
PRODID:-//https://techplay.jp//JP
CALSCALE:GREGORIAN
METHOD:PUBLISH
X-WR-CALDESC:【無料ウェビナー】AI時代に成果につながるBto
 Bコンテンツの新常識～なぜ今、ブランド起点の設計が
 必要なのか～【特典あり】
X-WR-CALNAME:【無料ウェビナー】AI時代に成果につながるBto
 Bコンテンツの新常識～なぜ今、ブランド起点の設計が
 必要なのか～【特典あり】
X-WR-TIMEZONE:Asia/Tokyo
BEGIN:VTIMEZONE
TZID:Asia/Tokyo
BEGIN:STANDARD
DTSTART:19700101T000000
TZOFFSETFROM:+0900
TZOFFSETTO:+0900
TZNAME:JST
END:STANDARD
END:VTIMEZONE
BEGIN:VEVENT
UID:992883@techplay.jp
SUMMARY:【無料ウェビナー】AI時代に成果につながるBtoBコ
 ンテンツの新常識～なぜ今、ブランド起点の設計が必
 要なのか～【特典あり】
DTSTART;TZID=Asia/Tokyo:20260303T120000
DTEND;TZID=Asia/Tokyo:20260303T130000
DTSTAMP:20260420T092932Z
CREATED:20260226T042603Z
DESCRIPTION:イベント詳細はこちら\nhttps://techplay.jp/event/99288
 3?utm_medium=referral&utm_source=ics&utm_campaign=ics\n\n【無料ウェ
 ビナー】AI時代に成果につながるBtoBコンテンツの新常
 識～なぜ今、ブランド起点の設計が必要なのか～\n概
 要\nコンテンツマーケティングの成果がなかなか出な
 い…そんなお悩みに応える「AI時代の新常識」とは？\n
 コンテンツを開発しても、なかなか成果が出ない…検
 索エンジンからAIへと検索体験が変化する中で、どん
 な手を打てばいいのか…？日々移りゆくコンテンツマ
 ーケティングの環境下で、具体的な施策に頭を悩ませ
 ている方も多いのではないでしょうか。\n本セミナー
 は、これまでに開発したコンテンツを資産と捉え、事
 業成果へ寄与するための「再編集」のノウハウが理解
 できる内容になっています。\nまた、そこで重要とな
 る「独自性」を生み出すために強力な武器となるブラ
 ンド戦略についても解説。\nデジタルマーケティング
 とブランディング双方の視点から、BtoBコンテンツの「
 新常識」のあり方をお伝えします。\n特典\nウェビナー
 内アンケートにご回答いただいた皆様には、ウェビナ
 ー資料をプレゼントさせていただきます。\n開催日時\n
 2026年3月3日（火）12:00-13:00\n視聴方法\nウェビナーはZoom
 にて開催いたします。参加お申し込み後、URLを共有い
 たしますので、開催日時になりましたら、アクセスを
 お願いいたします。\nこんな方におすすめ\n\nAI時代の
 コンテンツの在り方を知りたい方\n本質的な価値を伝
 えるためのアプローチを知りたい方\n生成AI時代に生き
 残るための戦略が知りたい方\n\nタイムスケジュール\n\
 n\n\n時間\n内容\n\n\n\n\n11:50〜\n開場\n\n\n12:00〜12:05\nオー
 プニング\n\n\n12:05〜12:25\nBtoBコンテンツは「作り方」よ
 り“つなげ方”の時代へ（株式会社パンタグラフ）\n\n
 \n12:25〜12:45\nブランドの作り方と独自コンテンツ開発
 （株式会社エンビジョン）\n\n\n12:45〜\nエンディング（
 フリートーク）\n\n\n\n※ 当日予告なく時間配分・内容
 が変更になる可能性がございます。\n参加対象\n\nマー
 ケター\nサイト管理者\nサイト運営に携わっている方\n\
 n参加費\n無料\n登壇者\n\n青樹 里沙\n株式会社パンタグ
 ラフ 執行役員\nWeb系代理店での企画業務や雑誌編集の
 経験を活かし、コンテンツマーケティング部門を立ち
 上げる。\n現在はデジタルマーケティング部門の責任
 者として、多くの企業のオウンドメディア運営・成長
 を支援。\n戦略設計から記事制作、効果測定まで幅広
 く対応し、実績に基づいた効果的なコンテンツ活用ノ
 ウハウを提供します。\n\n\n橋本 裕介\n株式会社エンビ
 ジョン ブランディングディレクター\nブランドコンセ
 プトの策定、CI・ステートメント開発、コピーライテ
 ィングを基軸とする言葉のスペシャリスト。\nクライ
 アントの深層に潜む想いを引き出すコミュニケーショ
 ンを重要視し、\n企業やプロダクトの特長や「らしさ
 」をビジュアル・コピーの相乗効果で魅力的に表現す
 ることを得意にしている。\n\n注意事項\n\n当ウェビナ
 ーの撮影録音はお控えください。\n同業他社および当
 社の競合にあたる企業の方、学生、個人の方のご参加
 はご遠慮ください。\n
LOCATION:
URL:https://techplay.jp/event/992883?utm_medium=referral&utm_source=ics&utm
 _campaign=ics
END:VEVENT
END:VCALENDAR
