BEGIN:VCALENDAR
VERSION:2.0
PRODID:-//https://techplay.jp//JP
CALSCALE:GREGORIAN
METHOD:PUBLISH
X-WR-CALDESC:【たぶラジ#105 放課後トーク】星野リゾート×
 製造業ユーザー会 オフライン座談会 in 浜松町
X-WR-CALNAME:【たぶラジ#105 放課後トーク】星野リゾート×
 製造業ユーザー会 オフライン座談会 in 浜松町
X-WR-TIMEZONE:Asia/Tokyo
BEGIN:VTIMEZONE
TZID:Asia/Tokyo
BEGIN:STANDARD
DTSTART:19700101T000000
TZOFFSETFROM:+0900
TZOFFSETTO:+0900
TZNAME:JST
END:STANDARD
END:VTIMEZONE
BEGIN:VEVENT
UID:993083@techplay.jp
SUMMARY:【たぶラジ#105 放課後トーク】星野リゾート×製造
 業ユーザー会 オフライン座談会 in 浜松町
DTSTART;TZID=Asia/Tokyo:20260330T190000
DTEND;TZID=Asia/Tokyo:20260330T220000
DTSTAMP:20260425T165241Z
CREATED:20260302T053406Z
DESCRIPTION:イベント詳細はこちら\nhttps://techplay.jp/event/99308
 3?utm_medium=referral&utm_source=ics&utm_campaign=ics\n\nフィールド
 は違うけれど、向き合っている悩みはどこか似ている
 ･･･？\n概要\n2026年3月12日に配信された「たぶラジ#1
 05」はチェックいただけましたか？星野リゾート様とTa
 bleau製造業ユーザー会による、業界の垣根を越えた「
 データ活用のリアル」を語り尽くした1時間。 しかし
 、ラジオの時間内だけでは、まだまだ語り足りない裏
 話や、リスナーの皆さんと議論したいポイントがたく
 さん残っています！\nそこで！ ラジオを聴いて「ちょ
 っと楽しそう」「自分の現場の悩みも聞いてほしい」
 と思った皆さんと、実際に顔を合わせて「わいわい」
 語り合う**オフライン座談会（飲み会）**を開催します
 。\n成功事例だけでなく、データ統合の泥臭い話や、
 現場とのコミュニケーションの工夫など、お酒を片手
 に「ここだけの本音」で交流しましょう！\nこんな方
 におすすめ\n\nたぶラジ#105を聴いて、登壇者と直接話
 してみたいと思った方\nホテル業や製造業におけるデ
 ータ活用の「現場の悩み」に共感した方\n業界を越え
 たデータ活用のネットワークを広げたい方\nTableau初心
 者から経験者まで、熱いトークを楽しみたい方どなた
 でも！\n\n開催詳細\n📅 日時\n2026年3月30日（月） 19:00 
 〜 21:30 （受付開始：18:45〜）\n\n📍 場所\n炉端とおで
 ん 呼炉凪来 浜松町店https://tabelog.com/tokyo/A1314/A131401/1330
 7230/\n\nお部屋： 完全個室（予定） ※プライベートな
 空間でじっくりお話しいただけます。\n\n\n💰 参加費\n
 5\,500円（税込）\n\n2.5時間飲み放題付き・全10品の充実
 コースをご用意しています。\n当日、現地にてお支払
 い（または事前決済）となります。\n\n\n👥 定員\n12名
 （抽選）\n\n締め切り日に規定人数に達しない場合は先
 着順とし、開催前日まで募集します。\n少人数での密
 な交流を目的としているため、早めのお申し込みをお
 勧めします。\n\n注意事項\n\nリクルーティング、勧誘
 など、採用目的でのイベント参加はお断りしておりま
 す。\nキャンセル待ち・補欠・落選の方はご参加いた
 だくことが出来ませんのでご了承ください。\n欠席さ
 れる場合は、お手数ですが速やかにキャンセル処理を
 お願い致します。\n無断キャンセルや欠席が続く場合
 、次回以降の参加をお断りさせていただく場合がござ
 います。\n
LOCATION:炉端とおでん 呼炉凪来 浜松町店 東京都港区浜松
 町2-1-20 SVAX大門ビル 7F
URL:https://techplay.jp/event/993083?utm_medium=referral&utm_source=ics&utm
 _campaign=ics
END:VEVENT
END:VCALENDAR
