BEGIN:VCALENDAR
VERSION:2.0
PRODID:-//https://techplay.jp//JP
CALSCALE:GREGORIAN
METHOD:PUBLISH
X-WR-CALDESC:AI起業サークル
X-WR-CALNAME:AI起業サークル
X-WR-TIMEZONE:Asia/Tokyo
BEGIN:VTIMEZONE
TZID:Asia/Tokyo
BEGIN:STANDARD
DTSTART:19700101T000000
TZOFFSETFROM:+0900
TZOFFSETTO:+0900
TZNAME:JST
END:STANDARD
END:VTIMEZONE
BEGIN:VEVENT
UID:993159@techplay.jp
SUMMARY:AI起業サークル
DTSTART;TZID=Asia/Tokyo:20260310T190000
DTEND;TZID=Asia/Tokyo:20260310T203000
DTSTAMP:20260420T105031Z
CREATED:20260303T064753Z
DESCRIPTION:イベント詳細はこちら\nhttps://techplay.jp/event/99315
 9?utm_medium=referral&utm_source=ics&utm_campaign=ics\n\nAI起業サー
 クル\n概要\nAIエージェントと事業戦略を考える時代が
 来ました💡\nこのイベントでは、AIエージェントと架
 空の事業を立案し、ウェブサイトをバイブコーディン
 グします🧠\n対象\n事業開発に興味がある非エンジニ
 ア・エンジニア\nメリット\n\n最先端の事業開発手法を
 無料で実験できます⭐\nウェブサイト作り、インター
 ネット上に無料で公開できます👷\nエンジニアカフェ
 の飲み物を1杯無料で楽しめます☕\n主催者や他の参加
 者と雑談・相談しながら進められます🔥\n何度でも参
 加が可能です👌\n\nルール\n\nGoogle AntigravityなどのAIエ
 ージェントツールで事業戦略を立案する💭\n作成した
 ウェブサイトをGitHub Pagesで公開し、成果発表時に共有
 する☕\n\nオンライン見学\n参加登録後、Zoom URLを取得
 できます✉️\nイベント中は、主催者のライブコーデ
 ィングや挑戦者を見学できます📣\n準備\n\nノートパソ
 コン\nGoogleアカウント\nGitHubアカウント\nGoogle Antigravity
 のインストール\n\n集合場所\nエンジニアカフェ 地下1
 階 会議室\n日程\n\n火曜日 19:00 ~ 20:00（開場 18:00）\n\nタ
 イムライン\n\n\n\n時間\n内容\n\n\n\n\n50分\n事業戦略の立
 案・バイブコーディング ※\n\n\n10分\n進捗・成果発表\n
 \n\n\n※ 現地参加者の希望に応じて、Antigravity・GitHub Pag
 es・プロンプトの書き方の初心者講習をします🔰\n解
 説動画はエンジニアカフェのYouTubeチャンネルにありま
 す🎥\n講師\n芝原 隼人\nマッドソフト株式会社代表取
 締役。慶應義塾大学電子工学科卒、同大学院メディア
 デザイン研究科博士課程中退後、メガベンチャーでAI
 を活用したサービスの開発に従事。福岡市主催のハッ
 カソンと起業プログラムでの受賞をきっかけに創業。
 「面白いプロダクトを作り、世界を変える」ミッショ
 ンを持ち、新技術の研究開発と社会実装に取り組む。
 エンジニアカフェコミュニティーマネージャーでもあ
 る。\nエンジニアカフェ\n『エンジニアが集まる、活躍
 する、成長する街、福岡。』を掲げる福岡市の「エン
 ジニアフレンドリーシティ福岡」活動の一環として、
 福岡市赤煉瓦文化館内に2019年8月21日オープン。エンジ
 ニアがより先鋭的なチャレンジやスキルの幅を広げる
 ことができることで多様多種の方に様々な機会を提供
 したいという想いから、官民一体で生まれたエンジニ
 アのための施設です。\n福岡市赤煉瓦文化館\n商人の町
 であった博多地区と、城下町であった福岡地区の境目
 、西中島橋のすぐそばに、1909年、旧日本生命保険株式
 会社九州支店として竣工。設計は辰野片岡建築事務所
 。辰野金吾が後に手掛ける東京駅の丸の内駅舎と同様
 に、建物には英国のクイーンアン様式が見られる。1972
 年に福岡市歴史資料館として開館。1994年より福岡市赤
 煉瓦文化館へ。2019年8月21日より、エンジニアカフェが
 オープン。今日も、多くの観光客、エンジニア達が訪
 ねてきています。
LOCATION:エンジニアカフェ 福岡市中央区天神1丁目15番30号
URL:https://techplay.jp/event/993159?utm_medium=referral&utm_source=ics&utm
 _campaign=ics
END:VEVENT
END:VCALENDAR
