BEGIN:VCALENDAR
VERSION:2.0
PRODID:-//https://techplay.jp//JP
CALSCALE:GREGORIAN
METHOD:PUBLISH
X-WR-CALDESC:【3/24開催】Instagramで継続購買を生むには？「
 親密度」と「親近感」から設計するSNS運用戦略
X-WR-CALNAME:【3/24開催】Instagramで継続購買を生むには？「
 親密度」と「親近感」から設計するSNS運用戦略
X-WR-TIMEZONE:Asia/Tokyo
BEGIN:VTIMEZONE
TZID:Asia/Tokyo
BEGIN:STANDARD
DTSTART:19700101T000000
TZOFFSETFROM:+0900
TZOFFSETTO:+0900
TZNAME:JST
END:STANDARD
END:VTIMEZONE
BEGIN:VEVENT
UID:993207@techplay.jp
SUMMARY:【3/24開催】Instagramで継続購買を生むには？「親密
 度」と「親近感」から設計するSNS運用戦略
DTSTART;TZID=Asia/Tokyo:20260324T120000
DTEND;TZID=Asia/Tokyo:20260324T130000
DTSTAMP:20260421T214744Z
CREATED:20260304T074423Z
DESCRIPTION:イベント詳細はこちら\nhttps://techplay.jp/event/99320
 7?utm_medium=referral&utm_source=ics&utm_campaign=ics\n\n【3/24開催】
 Instagramで継続購買を生むには？「親密度」と「親近感
 」から設計するSNS運用戦略\n実施背景\n「フォロワー数
 は順調に増えているのに、売上につながっている実感
 が持てない」多くのSNS担当者が抱えるこの“数と成果
 の乖離”。情報があふれる現代において、単なる認知
 拡大だけでは購買行動は生まれません。\nNAVICUSが実施
 した調査では、1年以上継続購入している顧客の30.1％
 がブランドの公式SNSアカウントをフォローしていると
 いう結果が明らかになりました。さらに、フォロワー
 の約7割が公式SNSアカウントに対して何らかのアクショ
 ンを起こしているほか、公式SNSアカウントとの関わり
 を通じて、46.1％の人が「新製品への期待感が高まった
 」、40.2％の人が「親近感を抱いた」と感じていること
 がわかりました。\n継続購買を生む鍵は、「フォロワ
 ー数」そのものではなく、ブランドに対して抱く“親
 近感”と、その根幹にある“期待”と“信頼”のマネ
 ジメントにあります。本ウェビナーでは、データと実
 践知を掛け合わせ、その具体策を提示します。\nセミ
 ナー概要\n\n日時：2026年3月24日（火）12:00～13:00\n開催
 ：オンライン開催（Zoomウェビナー）\n参加：無料\n申
 込：https://navicus-jp.zoom.us/webinar/register/1217551499562/WN_gbx1pc
 BKSR-O13S4DXbeSA\n詳細：https://www.navicus.jp/event/seminar_260324/\n
 対象：メーカー企業のSNSご担当者様、マーケティング
 ご担当様、広報・プロモーションご担当者様　※同業
 他社の方のご参加はご遠慮いただいております\nセミ
 ナープログラム\n\n1. SNS運用の「不都合な真実」新規フ
 ォロワー数を追う一方で、既存顧客へのアプローチが
 不足している現状を整理。継続顧客とSNSの関係性をデ
 ータから読み解きます。2. データから読み解くファン
 の行動心理フォロワーのアクション実態、感情変化の
 傾向を分析し、「期待感」が購買サイクルに与える影
 響を解説します。3. 継続購買を生む具体施策Instagramの
 アルゴリズム理解を前提に、「親密度」を高める施策
 設計を紹介。認知から指名買いにつなげる導線づくり
 のポイントをお伝えします。\n※予告なく内容を変更
 する場合がございます※予告なく内容を変更する場合
 がございます\n登壇者\n株式会社NAVICUS　コンサルティ
 ングDiv. Instagramメディアマスター\n富田 明日菜\n2021年
 入社。X・Instagramを中心に多業界の企業公式アカウント
 運用を支援。Instagram領域の専門家として、アルゴリズ
 ム理解に基づく改善提案、コンテンツ企画、KPI設計を
 リード。認知から購買・指名へとつなげる導線設計を
 強みとする。\n\n株式会社NAVICUS　コンサルティングDiv. 
 コミュニティマネージャー\n幕田 直美\n株式会社オリ
 エンタルランドでの採用担当を経て、PR会社や株式会
 社ワールドにてInstagramの立ち上げから運用・広告企画
 まで全般を経験。NAVICUSではInstagramを軸に、メーカー・
 出版など幅広い業界のSNSマーケティング支援に携わっ
 ている。\n\n参加費\n無料\n株式会社NAVICUSについて\nNAVIC
 USは、企業様や地方自治体様のコミュニケーション支
 援を行う「ファン作り」の会社です。事業会社におい
 てSNS・マーケティング領域で多数の実績を出したスペ
 シャリストが多く在籍。企業様の目的に合わせ、SNSを
 起点とした戦略コンサルティングや社内担当の育成、
 運用代行、アカウント分析、オフラインイベントの企
 画・ご支援など幅広くサポートいたします。ご支援先
 の累計フォロワー数は7\,500万人を超えております（2024
 年5月時点）。2023年12月より株式会社PR TIMESのグループ
 に参画し、日々ご支援の幅を拡大中です。\n＜事業内
 容＞　コミュニケーション戦略設計　キャンペーン企
 画・運営　SNS（X・Facebook・Instagram・LINE・TikTok・YouTube
 ・Discordほか）運用代行・運用支援　Web広告運用　ファ
 ンイベント（オフラインイベント・生放送番組ほか）
 企画・運営　マーケティングセミナー実施　コミュニ
 ケーション施策の効果分析　ふるさと納税マーケティ
 ング業務支援　地方自治体SNSプロモーション　ITWebサ
 ービスのコンサルティング全般\nコーポレートサイト 
 ：https://www.navicus.info/公式X：https://x.com/navicus_jp公式Faceb
 ook：https://www.facebook.com/navicus.inc/公式note：https://note.com/
 navicus\n本セミナーに関するお問い合わせ\n株式会社NAVIC
 US セミナー運営事務局\nhttps://www.navicus.info/contact※ご相
 談カテゴリ「その他」よりお問い合わせください
LOCATION:
URL:https://techplay.jp/event/993207?utm_medium=referral&utm_source=ics&utm
 _campaign=ics
END:VEVENT
END:VCALENDAR
