BEGIN:VCALENDAR
VERSION:2.0
PRODID:-//https://techplay.jp//JP
CALSCALE:GREGORIAN
METHOD:PUBLISH
X-WR-CALDESC:地域を拠点としたプロフェッショナルキャリ
 ア｜実践者が語る、地域との関わり方
X-WR-CALNAME:地域を拠点としたプロフェッショナルキャリ
 ア｜実践者が語る、地域との関わり方
X-WR-TIMEZONE:Asia/Tokyo
BEGIN:VTIMEZONE
TZID:Asia/Tokyo
BEGIN:STANDARD
DTSTART:19700101T000000
TZOFFSETFROM:+0900
TZOFFSETTO:+0900
TZNAME:JST
END:STANDARD
END:VTIMEZONE
BEGIN:VEVENT
UID:993252@techplay.jp
SUMMARY:地域を拠点としたプロフェッショナルキャリア｜
 実践者が語る、地域との関わり方
DTSTART;TZID=Asia/Tokyo:20260317T183000
DTEND;TZID=Asia/Tokyo:20260317T193000
DTSTAMP:20260423T062036Z
CREATED:20260305T113059Z
DESCRIPTION:イベント詳細はこちら\nhttps://techplay.jp/event/99325
 2?utm_medium=referral&utm_source=ics&utm_campaign=ics\n\nタイトル\n
 地域を拠点としたプロフェッショナルキャリア実践者
 が語る、地域との関わり方～首都圏で培った専門性を
 もとに、「働き方」と「暮らし」を再設計する～\n概
 要\n「今の仕事は続けたいが、生活の質も上げたい」
 「地域や地方に関わりたいが、何から始めればいいか
 わからない」「移住や二拠点生活に興味はあるが、仕
 事や収入面が不安」働き方の多様化が進む中、首都圏
 で活躍するプロフェッショナル人材が、自身の専門性
 を活かしながら、より豊かなライフスタイルを模索す
 る動きが広がっています。一方で地域や自治体側でも
 、関係人口の創出や地域課題解決に向け、専門性を持
 つ人材との新しい関わり方が求められています。\nし
 かし実際には、・地域とどう関わればよいのか分から
 ない・仕事として成り立つイメージが持てない・移住
 や定住に踏み切る判断材料が不足しているといった理
 由から、最初の一歩を踏み出せない方が多いのが現状
 です。\n本セミナーでは、「地域を拠点としたプロフ
 ェッショナルキャリア」という選択肢を、理論ではな
 く実践者の経験と具体事例を通じて紐解きます。地域
 との関わり方を「情報」ではなく「意思決定」に変え
 ることを目的としています。\nこのセミナーで得られ
 ること\n・地域と関わるための具体的な“入口”が分
 かる・二拠点・移住を検討する際の判断軸が持てる・
 仕事と暮らしを両立させるリアルな考え方・事例が分
 かる「地域に関わってみたい」という関心を、次の一
 歩につなげるヒントをお持ち帰りください。\nプログ
 ラム\n第1セッション：プロフェッショナル人材の地域
 とのかかわり方（みらいワークス）第2セッション：あ
 きる野市を拠点とした仕事・暮らし・地域との関係性
 のリアル（TYDI）第3セッション：プロフェッショナル
 人材活躍の候補地としてのあきる野市（あきる野市）
 第4セッション：登壇者トークセッション（移住／地域
 とのかかわり方／起業）\nこんな方におすすめ\n・首都
 圏在住で、専門性を活かしながら地域と関わりたい方
 ・フリーランス独立や副業を検討している方・二拠点
 生活や地方移住に関心がある方・地域課題や地方創生
 に関心はあるが、関わり方が分からない方・自然に近
 い環境での働き方を現実的に考えたい方\n開催概要\n日
 時：2026年3月17日（火）18:30～19:30会場：オンライン配
 信（Zoomウェビナー）参加費：無料共催：株式会社みら
 いワークス（地方創生部 パブリックチーム）／TYDI｜
 株式会社東京山側デジタル推進機構後援：あきる野市\
 n登壇者\n■ 鈴木 建吾 氏（株式会社みらいワークス／
 地方創生部 パブリックチーム マネージャー）新卒で
 片倉工業（株）に入社後、2018年より（株）パソナにて
 、中央省庁及び地方自治体と連携した地方副業促進や
 移住・関係人口創出事業に従事。2022年より現職。福島
 県や佐賀県武雄市、鳥取県湯梨浜町など、移住・関係
 人口関連のセミナー・イベント登壇多数。\n■ 足立 恭
 平 氏（TYDI｜株式会社東京山側デジタル推進機構／代
 表取締役）同志社大学政策学部卒業後、大手・ベンチ
 ャーコンサルティング会社を経てフリーランスとして
 独立。港区から東京山側｜あきる野市へ移住後、地域
 のデジタル化を推進したいという想いから、東京山側
 デジタル推進機構を創業。地域企業のDX支援、大学院
 と連携したローカル・イノベーター育成プログラム運
 営など、都心部企業・人材と地域を繋げる事業を行っ
 ている。\n■ 平神 賢人 氏（あきる野市／企画政策部 
 市長公室移住・定住担当 主任）北海道函館市出身。あ
 きる野暮らし12年目。学生時代は世田谷や杉並での生
 活を経験。行政職員の立場から移住者目線でのあきる
 野暮らしのリアルを伝えている。\nお申し込み（募集
 ページ／詳細LP）\n本イベントの募集・お申し込みは、
 下記ページよりお願いいたします。https://mirai-works.co.jp
 /business-pro/seminar/tydi_akiruno_260317_tydi※Zoomでのオンライ
 ン配信です。お申し込み後、視聴方法をメールにてご
 案内します。\nご注意\n・Wi-Fi環境など高速通信が可能
 な電波の良い場所でご視聴ください。・講師・共催企
 業と同業の方は、お申込みをお断りする可能性がござ
 います。・講演内容は予告なく変更になる可能性がご
 ざいます。
LOCATION:
URL:https://techplay.jp/event/993252?utm_medium=referral&utm_source=ics&utm
 _campaign=ics
END:VEVENT
END:VCALENDAR
