BEGIN:VCALENDAR
VERSION:2.0
PRODID:-//https://techplay.jp//JP
CALSCALE:GREGORIAN
METHOD:PUBLISH
X-WR-CALDESC:VPoE/CTOに繋がる帰納的なキャリア形成
X-WR-CALNAME:VPoE/CTOに繋がる帰納的なキャリア形成
X-WR-TIMEZONE:Asia/Tokyo
BEGIN:VTIMEZONE
TZID:Asia/Tokyo
BEGIN:STANDARD
DTSTART:19700101T000000
TZOFFSETFROM:+0900
TZOFFSETTO:+0900
TZNAME:JST
END:STANDARD
END:VTIMEZONE
BEGIN:VEVENT
UID:993256@techplay.jp
SUMMARY:VPoE/CTOに繋がる帰納的なキャリア形成
DTSTART;TZID=Asia/Tokyo:20260326T120000
DTEND;TZID=Asia/Tokyo:20260326T130000
DTSTAMP:20260421T104120Z
CREATED:20260306T000148Z
DESCRIPTION:イベント詳細はこちら\nhttps://techplay.jp/event/99325
 6?utm_medium=referral&utm_source=ics&utm_campaign=ics\n\nイベント概
 要\nその経験と考え方が、未来のVPoE/CTOに繋がる武器に
 なる\nSESやSIer、受託開発に従事するエンジニアの皆様
 をはじめ、多くのエンジニアにとって「年収の壁」や
 「キャリアの行き止まり感」は切実な課題です。しか
 し、目先の年収アップだけを目的とした転職は、中長
 期的なキャリアの伸び代を削ってしまうリスクも孕ん
 でいます。\n本イベントでは、SIerからキャリアをスタ
 ートし、サイバーエージェント、メルペイ執行役員VP o
 f Engineering、ハウテレビジョン執行役員を経て、現在は
 株式会社ハイヤールーの取締役CTOを務める泉水 (@1000ch)
  が登壇します。\n「新卒受託エンジニアから、いかに
 してベンチャー企業のVPoE/CTOへと至ったのか」 その軌
 跡を 「帰納（きのう）的なキャリア形成」 という視
 点で紐解きます。\nこんな不安を抱えている方にはぜ
 ひ見ていただきたいです。\n\n「今の現場の経験が、モ
 ダンな環境で通用するのか分からない」\n「目指すべ
 きゴールはあっても、そこへ至る具体的な道筋が見え
 ない」\n「今の能力や考え方の延長線上に、理想の未
 来があるのか不安」\n\n短期的な「転職ノウハウ」のそ
 の先にある、エンジニアとしての本質的な生存戦略。
 明日から現場での振る舞いを変え、数年後の自分を劇
 的に変えるための **「最初の一歩」**を一緒に見つけ
 てみませんか？\n皆様のご参加、お待ちしております
 。\n対象者\n\nキャリアの現在地に悩みを持つ方\n\nSES、
 SIer、受託開発会社に勤務しており、将来のキャリアパ
 スを模索しているエンジニアの方\n\n\nステップアップ
 を検討中の方\n\nWeb系企業への興味はあるが、自分のス
 キルセットに自信が持てずにいるエンジニアの方\n\n\n
 長期的な視点で成長したい方\n\n単なる年収アップに留
 まらず、将来的にVPoEやCTOといった経営・技術リーダー
 層を目指したい方\n\n\n「強いエンジニア」へのマイン
 ドセットを学びたい方\n\n現場での実戦経験をいかにし
 て「抽象化」し、市場価値へと変換していくかの具体
 的な手法を知りたい方\n\n\n\nタイムスケジュール\n\n\n\n
 時間\n登壇者\n内容\n\n\n\n\n12:05\n司会進行\nオープニン
 グ\n\n\n12:07\n泉水 翔吾\n帰納的なエンジニアリングキャ
 リア形成\n\n\n12:40\n泉水 翔吾\n質疑応答（Q&A）\n\n\n12:52\
 n司会進行\nクロージング\n\n\n12:55\n司会進行\n終了\n\n\n\
 n登壇者\n株式会社ハイヤールー 取締役CTO 泉水 翔吾\n\n
 SIer での受託開発を経て、株式会社サイバーエージェ
 ントに入社。様々なプロダクト開発の傍ら、立ち上げ
 た横断組織で Web 技術の推進に従事。株式会社メルカ
 リに入社後はメルカリ Web の刷新やメルカリアプリの
 刷新を牽引し、執行役員 VP of Engineering としてメルペイ
 のエンジニアリング部門を管掌。デジタル庁では行政
 のデジタル化に貢献し、株式会社ハウテレビジョンで
 は執行役員プロダクト本部長として事業と組織の成長
 を主導。西日本旅客鉄道株式会社・三井住友カード株
 式会社・株式会社マクロミル等の顧問として、事業や
 組織の幅広い課題解決を推進。株式会社ハイヤールー 
 取締役 CTO。\nイベントについて\n主催：株式会社ハイ
 ヤールー\n\n『HireRoo』はエンジニア向けのコーディン
 グ試験サービス。長年の課題である入社後のミスマッ
 チ防止は、近年のジョブ型雇用の広がりでさらに重要
 視されています。見極めの手段や精度に悩む担当者が
 多い中、HireRooはオンライン完結の使いやすい設計で誰
 でも容易に候補者のスキルを可視化できます。\n問題
 はアルゴリズムから実践形式、システムデザインまで
 豊富に揃い、AIによる自動採点、解答過程を再生でき
 るプレイバックなど、技術評価に必要な機能も網羅し
 ています。\nスキルアップを目指す方へ\nHireRoo では実
 際に企業の採用選考で使わる技術試験と似た問題をト
 レーニングできるサービスを提供しています。\nhttps://
 app.hireroo.io/c/questions（※ トレーニングにはログインが
 必要です）\nお時間のある際に是非ご登録し、トレー
 ニング問題を解いてみて下さい。\n注意事項\n\n当日は
 、参加者を含むイベントの様子等の動画、写真を撮影
 し、公開する場合があります。\n参加確定後のキャン
 セルは出来る限りご遠慮ください。\n当日の内容およ
 びタイムスケジュールは予告なく変更される場合があ
 ります。\n参加目的が不適切だと判断される場合には
 、運営側で参加をキャンセルさせていただく場合がご
 ざいます。\n何かお困り事などありましたら、当イベ
 ントページの「イベントへのお問い合わせ」よりご連
 絡お願いいたします。\n\nアンチハラスメントポリシー
 \n当イベントでは、すべての参加者が安全で快適に過
 ごせる環境を提供することを最優先に考えています。
 そのため、参加者への差別的な発言や行動、嫌がらせ
 、威圧的な態度、または迷惑行為は一切許容しません
 。\nもしハラスメントや不適切な行動を目撃したり、
 被害を受けた場合は、速やかに運営スタッフにご報告
 ください。運営は問題解決のために迅速かつ適切に対
 応いたします。また、故意にポリシーを違反した場合
 、お申し込みをキャンセルあるいは開催中であっても
 退場をお願いすることがあります。\n皆さまのご協力
 により、全員が安心して交流できるイベントを実現し
 ましょう！\nプライバシーポリシー\nイベント参加時に
 ご入力いただいた情報や参加後のアンケート等の個人
 情報は、各社の個人情報保護ポリシーに基づき適切に
 取り扱います。\n株式会社ハイヤールー：https://hireroo.i
 o/privacy
LOCATION:
URL:https://techplay.jp/event/993256?utm_medium=referral&utm_source=ics&utm
 _campaign=ics
END:VEVENT
END:VCALENDAR
