BEGIN:VCALENDAR
VERSION:2.0
PRODID:-//https://techplay.jp//JP
CALSCALE:GREGORIAN
METHOD:PUBLISH
X-WR-CALDESC:AIがCAMをサポートする時代へ ― CAM Assistで加工
 準備はこう変わる
X-WR-CALNAME:AIがCAMをサポートする時代へ ― CAM Assistで加工
 準備はこう変わる
X-WR-TIMEZONE:Asia/Tokyo
BEGIN:VTIMEZONE
TZID:Asia/Tokyo
BEGIN:STANDARD
DTSTART:19700101T000000
TZOFFSETFROM:+0900
TZOFFSETTO:+0900
TZNAME:JST
END:STANDARD
END:VTIMEZONE
BEGIN:VEVENT
UID:993272@techplay.jp
SUMMARY:AIがCAMをサポートする時代へ ― CAM Assistで加工準
 備はこう変わる
DTSTART;TZID=Asia/Tokyo:20260323T153000
DTEND;TZID=Asia/Tokyo:20260323T170000
DTSTAMP:20260419T212124Z
CREATED:20260306T043730Z
DESCRIPTION:イベント詳細はこちら\nhttps://techplay.jp/event/99327
 2?utm_medium=referral&utm_source=ics&utm_campaign=ics\n\nAIがCAMをサ
 ポートする時代へーCAM Assistで加工準備はこう変わる\n
 概要\nAIがCAM作業をサポートする次世代ツール「CAM Assis
 t」のワークショップを開催します！[詳細・申し込み
 ：こちらでも可]\nCAMプログラム作成の属人化・時間負
 担・リードタイムの長期化・・・多くの現場が抱える
 これらの課題を、AIによる自動加工提案で解決へ導く
 のがCAM Assistです。\n本ワークショップでは、\n\nCAM Assis
 tの仕組みと特徴\n実際の加工モデルを使ったワークフ
 ロー\n「本当に現場で使えるの？」という疑問への実
 践回答\n導入前に知っておきたいポイント・適用シー
 ン\n\nを参加者ご自身で体験していただけます。\n「CAM
 担当の負担を減らしたい」「プログラム作業の属人化
 をなくしたい」「最新のAI CAMを実際に見て判断したい
 」そんな企業に最適な内容です。ぜひこの機会に、CAM 
 Assistがもたらす”新しい加工準備の形”を体感くださ
 い。※当日使用するCAMはAutodesk Fusinwになります[詳細・
 申し込み：こちらでも可]\n参加費\n無料\n注意事項\n\n
 リクルーティング、勧誘など、採用目的でのイベント
 参加はお断りしております。\nキャンセル待ち・補欠
 ・落選の方はご参加いただくことが出来ませんのでご
 了承ください。\n欠席される場合は、お手数ですが速
 やかにキャンセル処理をお願い致します。\n無断キャ
 ンセルや欠席が続く場合、次回以降の参加をお断りさ
 せていただく場合がございます。\n
LOCATION:データ・デザイン 新横浜ソリューションズセン
 ター 神奈川県横浜市港北区新横浜2-5-5 住友不動産新横
 浜ビル8F
URL:https://techplay.jp/event/993272?utm_medium=referral&utm_source=ics&utm
 _campaign=ics
END:VEVENT
END:VCALENDAR
