BEGIN:VCALENDAR
VERSION:2.0
PRODID:-//https://techplay.jp//JP
CALSCALE:GREGORIAN
METHOD:PUBLISH
X-WR-CALDESC:システム導入を成功に導く手法「CRP」とは?
X-WR-CALNAME:システム導入を成功に導く手法「CRP」とは?
X-WR-TIMEZONE:Asia/Tokyo
BEGIN:VTIMEZONE
TZID:Asia/Tokyo
BEGIN:STANDARD
DTSTART:19700101T000000
TZOFFSETFROM:+0900
TZOFFSETTO:+0900
TZNAME:JST
END:STANDARD
END:VTIMEZONE
BEGIN:VEVENT
UID:993318@techplay.jp
SUMMARY:システム導入を成功に導く手法「CRP」とは?
DTSTART;TZID=Asia/Tokyo:20260319T110000
DTEND;TZID=Asia/Tokyo:20260319T114000
DTSTAMP:20260425T130120Z
CREATED:20260309T024136Z
DESCRIPTION:イベント詳細はこちら\nhttps://techplay.jp/event/99331
 8?utm_medium=referral&utm_source=ics&utm_campaign=ics\n\nいまや企業
 においてシステムなしに業務をまわすこと不可能な時
 代です。それにともない業務パッケージシステムも進
 化してきております。しかしながら、いまだにシステ
 ム導入においてトラブルが少なからず発生しています
 。\n品質（Q：Quality）：コスト（C：Cost）：納期（D：Del
 ivery）のトラブルを最小化できる導入手法CRP（Conference 
 Room Pilot）について解説いたします。皆様のシステム導
 入のお役に立てば幸いです。\n皆様のお申込みをお待
 ちしております。\n・日時　：2026年3月19日(木) 11:00～11
 :40・内容　：システム導入を成功に導く手法「CRP」と
 は／質疑応答・対象者：中堅・中小企業の経営者・管
 理者・情報システム担当・各業務実務者の方・参加費
 ：無料（事前登録制）・定員　：30人（定員となり次
 第締め切らせていただきます）・詳細・お申込み：こ
 ちらから\nご参加をお待ちしております。\n［注意事項
 ］・同じ企業様、複数名での受講を希望される場合は
 、必ず参加希望者全員のお申し込みをお願いいたしま
 す。・視聴用URLは、開催前日までにお申込みいただい
 たメールアドレス宛にお送りいたします。・ウェビナ
 ー形式のため、マイク・カメラはオフの状態でご参加
 いただけます。・弊社にて競合先と判断させていただ
 いた方は参加をお断りさせていただく場合がございま
 す。
LOCATION:
URL:https://techplay.jp/event/993318?utm_medium=referral&utm_source=ics&utm
 _campaign=ics
END:VEVENT
END:VCALENDAR
