BEGIN:VCALENDAR
VERSION:2.0
PRODID:-//https://techplay.jp//JP
CALSCALE:GREGORIAN
METHOD:PUBLISH
X-WR-CALDESC:ポートフォリオにも使える！カンタン美顔レ
 タッチ
X-WR-CALNAME:ポートフォリオにも使える！カンタン美顔レ
 タッチ
X-WR-TIMEZONE:Asia/Tokyo
BEGIN:VTIMEZONE
TZID:Asia/Tokyo
BEGIN:STANDARD
DTSTART:19700101T000000
TZOFFSETFROM:+0900
TZOFFSETTO:+0900
TZNAME:JST
END:STANDARD
END:VTIMEZONE
BEGIN:VEVENT
UID:993425@techplay.jp
SUMMARY:ポートフォリオにも使える！カンタン美顔レタッ
 チ
DTSTART;TZID=Asia/Tokyo:20260321T150000
DTEND;TZID=Asia/Tokyo:20260321T160000
DTSTAMP:20260424T110348Z
CREATED:20260311T080230Z
DESCRIPTION:イベント詳細はこちら\nhttps://techplay.jp/event/99342
 5?utm_medium=referral&utm_source=ics&utm_campaign=ics\n\n『ポートフ
 ォリオにも使える！カンタン美顔レタッチ講座』\n顔
 写真…こんなお悩みないですか？\n\n人物写真の肌をき
 れいに見せたいけど、やり方が分からない\nレタッチ
 すると不自然な仕上がりになってしまう\nPhotoshopのAI機
 能をうまく使いこなせていない\nポートフォリオに載
 せられる写真加工スキルを身につけたい\n\n人物のレタ
 ッチは、デザインや広告、SNS用のビジュアル制作など
 、さまざまな場面で活用できるスキルです。しかし、
 やりすぎると不自然になったり、どこをどう調整すれ
 ばいいのか迷ってしまうことも多いのではないでしょ
 うか。今回のイベントでは、Photoshopを使った自然で美
 しい顔レタッチの基本テクニックを解説します。初心
 者の方でも実践できる方法を中心に、ポートフォリオ
 にも活かせるテクニックをわかりやすくご紹介します
 。\n▼ この講座で学べること\n◆ 肌を明るく見せる方
 法人物写真の印象を大きく左右する「肌」。自然な明
 るさや質感を保ちながら、健康的で美しい肌に見せる
 調整方法を解説します。\n◆ PhotoshopのAIを使った顔全
 体のレタッチ方法PhotoshopのAI機能を活用し、顔全体の
 バランスを整える方法をご紹介します。短時間でも効
 果的にレタッチできる便利な機能を実践形式で学べま
 す。\n◆ シミやほくろを自然に消すレタッチ方法修正
 パッチツールなどを使い、シミやほくろを違和感なく
 自然に整えるテクニックを解説します。やりすぎない
 自然なレタッチのコツもお伝えします。\n▼ 開催概要\
 n日時：3月21日（土）15:00〜形式：対面開催参加費：無
 料デジタルハリウッドSTUDIO名古屋〒460-0003 愛知県名古
 屋市中区錦3丁目7−15 8F\n▼ 参加方法\ntechplayよりお申
 し込みください。ポートフォリオの作り方を理解する
 だけで、クリエイターとしての未来は大きく変わりま
 す。未経験から一歩踏み出したい方は、ぜひご参加く
 ださい。\n注意事項\n\nリクルーティング、勧誘など、
 採用目的でのイベント参加はお断りしております。\n
 キャンセル待ち・補欠・落選の方はご参加いただくこ
 とが出来ませんのでご了承ください。\n欠席される場
 合は、お手数ですが速やかにキャンセル処理をお願い
 致します。\n無断キャンセルや欠席が続く場合、次回
 以降の参加をお断りさせていただく場合がございます
 。\n
LOCATION:デジタルハリウッドSTUDIO名古屋 〒460-0003 愛知県
 名古屋市中区錦３丁目７−１５ 8F
URL:https://techplay.jp/event/993425?utm_medium=referral&utm_source=ics&utm
 _campaign=ics
END:VEVENT
END:VCALENDAR
