BEGIN:VCALENDAR
VERSION:2.0
PRODID:-//https://techplay.jp//JP
CALSCALE:GREGORIAN
METHOD:PUBLISH
X-WR-CALDESC:アクセンチュア採用説明会｜戦略から導入ま
 で“一気通貫”の面白さ～SAPを軸にした全社トランス
 フォーメーション～
X-WR-CALNAME:アクセンチュア採用説明会｜戦略から導入ま
 で“一気通貫”の面白さ～SAPを軸にした全社トランス
 フォーメーション～
X-WR-TIMEZONE:Asia/Tokyo
BEGIN:VTIMEZONE
TZID:Asia/Tokyo
BEGIN:STANDARD
DTSTART:19700101T000000
TZOFFSETFROM:+0900
TZOFFSETTO:+0900
TZNAME:JST
END:STANDARD
END:VTIMEZONE
BEGIN:VEVENT
UID:993457@techplay.jp
SUMMARY:アクセンチュア採用説明会｜戦略から導入まで“
 一気通貫”の面白さ～SAPを軸にした全社トランスフォ
 ーメーション～
DTSTART;TZID=Asia/Tokyo:20260402T184000
DTEND;TZID=Asia/Tokyo:20260402T200000
DTSTAMP:20260423T101413Z
CREATED:20260312T072553Z
DESCRIPTION:イベント詳細はこちら\nhttps://techplay.jp/event/99345
 7?utm_medium=referral&utm_source=ics&utm_campaign=ics\n\nアクセンチ
 ュア SAP x GTM 合同採用説明会\n戦略から導入まで“一気
 通貫”の面白さ～SAPを軸にした全社トランスフォーメ
 ーション～\n概要\nイベント概要このたび、SAPアセット
 ×GTMのトランスフォーメーションコンサルを強みに、
 戦略から導入・運用までを一気通貫で担うチームによ
 る【SAP×GTM合同採用説明会】を開催することになりま
 した。アクセンチュアには、SAPを軸に全社トランスフ
 ォーメーションを実行し、GTMの視点を掛け合わせなが
 ら、OneTeamで前進するプロフェッショナルが数多く在籍
 しています。業務は明確な分担で完結するものではな
 く、複雑な課題が積算する現場で、様々な専門家と越
 境しながら価値を創出していくスタイルが特長です。A
 Iやグローバル案件に挑む機会も多く、視座・スキルと
 もに大きく成長できる環境があります。当日は、リー
 ダーおよび現場で活躍するメンバーが登壇し、転職理
 由やキャリア選択の背景、入社後のリアルについて本
 音でお話しします。Q&Aの時間も設け、役割や案件、キ
 ャリアパスなど、皆さまの疑問に率直にお答えします
 。応募意思は一切問いません。まずは情報収集として
 、アクセンチュアのSAP×GTMがどのようなトランスフォ
 ーメーションを担っているのか、ぜひ直接聞きに来て
 ください。少しでもご関心をお持ちいただけましたら
 、お気軽にご参加ください。\n※本セミナーの参加に
 際し、業界経験及び応募意思不問です。※匿名性の高
 い質問受付方法で当日質問を回収するため、質問も大
 変しやすいイベントです。※途中入退出可能＆服装自
 由！応募意思不問なカジュアルなイベントです。積極
 的に転職活動をされている方も、そうでない方も、ラ
 ジオ感覚で、通勤中・家事中に耳だけの参加でも構い
 ません。※今回はテクノロジーコンサルティング領域S
 AP&GTMグループに特化したお話をいたします。\nセッシ
 ョン内容 ※予告なく変更となる場合があります。18時3
 5分 入室開始18時40分 第一部開始（会社・組織説明）19
 時05分 第二部開始（現役社員のパネルディスカッショ
 ン・QA）19時45分 終了 こんな方におすすめ・アクセン
 チュアテクノロジー領域にご興味のある方・ITエンジ
 ニアやITコンサルタントのキャリアに興味のある方・
 具体的な業務内容や働き方について知りたい方・SAP経
 験者・ERP経験者\n参加対象\n\n中途採用イベントですの
 で、社会人経験のある方であればどなたでもご参加い
 ただけます\n参加費無料は無料です\n
LOCATION:
URL:https://techplay.jp/event/993457?utm_medium=referral&utm_source=ics&utm
 _campaign=ics
END:VEVENT
END:VCALENDAR
