BEGIN:VCALENDAR
VERSION:2.0
PRODID:-//https://techplay.jp//JP
CALSCALE:GREGORIAN
METHOD:PUBLISH
X-WR-CALDESC:Claude Coworkで百人力 ── AIに仕事を任せる時代
 の働き方
X-WR-CALNAME:Claude Coworkで百人力 ── AIに仕事を任せる時代
 の働き方
X-WR-TIMEZONE:Asia/Tokyo
BEGIN:VTIMEZONE
TZID:Asia/Tokyo
BEGIN:STANDARD
DTSTART:19700101T000000
TZOFFSETFROM:+0900
TZOFFSETTO:+0900
TZNAME:JST
END:STANDARD
END:VTIMEZONE
BEGIN:VEVENT
UID:993496@techplay.jp
SUMMARY:Claude Coworkで百人力 ── AIに仕事を任せる時代の
 働き方
DTSTART;TZID=Asia/Tokyo:20260325T180000
DTEND;TZID=Asia/Tokyo:20260325T182000
DTSTAMP:20260420T042602Z
CREATED:20260313T024006Z
DESCRIPTION:イベント詳細はこちら\nhttps://techplay.jp/event/99349
 6?utm_medium=referral&utm_source=ics&utm_campaign=ics\n\nClaude Coworkで
 百人力 ── AIに仕事を任せる時代の働き方\nイベント
 概要\nファイルが10個あっても、AIは嫌な顔ひとつしな
 い。\n売上データ、報告書、議事録、契約書──管理
 職の手元には、毎日大量のファイルが積み上がります
 。それをひとつひとつ開いて、読んで、まとめて、判
 断する。この作業、実はAIに丸ごと任せられる時代に
 なっています。\nClaude Coworkは、複数のファイルを横断
 しながら、指示した作業を自律的にこなすツールです
 。「先月と比べてどう？」「この内容を報告文にして
 」──そんな依頼に、ファイルを読み込みながら答え
 てくれます。\nただし、AIは便利な反面、たまに間違え
 ます。出てきた結果は、もとのデータと照らし合わせ
 て確認する習慣が大事。そこだけ押さえれば、あとは
 安心して任せられます。\nこの回では、経営者・管理
 職を想定したリアルなシーンで実演。AIが実際にファ
 イルを処理する様子を見ながら、「これ、自分の仕事
 に使えそう」を持ち帰ってもらいます。\n:tear-off_calenda
 r: 開催詳細\n\n日時： 2026年3月25日（水）18:00〜18:20（20
 分）\n形式： YouTube Live（無料参加）\n視聴方法： Chomoku
 -Channel に登録いただけると、配信通知が届きます！毎
 週水曜日18時、AI夕活として新たなコンテンツをリリー
 ス中です。\n対象： 経営者・管理職、複数の業務を掛
 け持ちしている方\n参加費： 無料\n\n主催\n\n京都で生
 成AIの導入・研修を手掛ける 合同会社長目\n\n:light_bulb:
  こんな方におすすめ\n\n毎日大量のファイルや報告を
 処理するのに時間を取られている\nAIに作業を任せてみ
 たいが、どこまでできるか分からない\n部下に頼むほ
 どでもない細かい作業が積み上がっている\n経営判断
 に集中する時間を増やしたい\n\n:bullseye: 20分で学べる
 こと\n\n複数ファイルを横断して処理するデモ（実演）
 \n自分の業務に応用するための考え方\n\n講師紹介\n合
 同会社長目　代表　小川英幸\nAI活用と業務効率化の専
 門家。元証券アナリストの視点から、生成AIを使った
 実務改善・収益改善に定評。Google Gemini、NotebookLM\, Claud
 eを中心に、中小企業向けの「使えるAI導入」を支援。\
 n著書： 『Pythonデータ分析ハンズオンセミナー』（日
 経BP） 『Pythonインタラクティブデータビジュアライゼ
 ーション入門』（朝倉書店）\n:mobile_phone: 質問・相談
 はLINE公式アカウントから\nイベント内容や、自社での
 生成AI活用についてのご質問は、こちらからお気軽に
 どうぞ。 合同会社長目 LINE公式アカウント https://lin.ee/
 13SmIwr
LOCATION:
URL:https://techplay.jp/event/993496?utm_medium=referral&utm_source=ics&utm
 _campaign=ics
END:VEVENT
END:VCALENDAR
