BEGIN:VCALENDAR
VERSION:2.0
PRODID:-//https://techplay.jp//JP
CALSCALE:GREGORIAN
METHOD:PUBLISH
X-WR-CALDESC:バイブコーディングクラブ
X-WR-CALNAME:バイブコーディングクラブ
X-WR-TIMEZONE:Asia/Tokyo
BEGIN:VTIMEZONE
TZID:Asia/Tokyo
BEGIN:STANDARD
DTSTART:19700101T000000
TZOFFSETFROM:+0900
TZOFFSETTO:+0900
TZNAME:JST
END:STANDARD
END:VTIMEZONE
BEGIN:VEVENT
UID:993674@techplay.jp
SUMMARY:バイブコーディングクラブ
DTSTART;TZID=Asia/Tokyo:20260321T160000
DTEND;TZID=Asia/Tokyo:20260321T180000
DTSTAMP:20260425T214059Z
CREATED:20260317T060152Z
DESCRIPTION:イベント詳細はこちら\nhttps://techplay.jp/event/99367
 4?utm_medium=referral&utm_source=ics&utm_campaign=ics\n\nバイブコー
 ディングクラブ\n\nClaude Code Proプラン支給！挑戦者募集
 ☆（未経験可）\n\n概要\n\nバイブコーディングとは、AI
 にコーディングを任せて高速に実装する手法です🤖\n\
 n本イベントでは、挑戦者が持参するアイデアでバイブ
 コーディングを行い、1ヶ月間でプロダクトを完成させ
 ます🧠\n\nバイブコーディングクラブ作品集で歴代挑
 戦者の作品を閲覧できます👀\n\n挑戦者\n\n募集中です
 🔥\n\n非エンジニアでも上級者でも挑戦可能です🙆\n\n
 参加登録後に支給する1ヶ月のClaude Code Proプランで、プ
 ロダクト開発に取り組んでいただきます🧑‍💻\n\nル
 ール:\n\n\n1週間に1回以上オフライン参加する（1ヶ月間
 で合計4回以上、イベント中の席移動可）\nイベント開
 始時に参加者がGitHub公開リポジトリを作成・共有し、
 継続的にコードをアップロードする\n進捗発表時にZoom
 に接続し、その内容を視聴者に対して共有する\n複数
 アイデアの実装可能\n何度でも挑戦可能\n\n\nメリット:\
 n\n\n最先端の開発手法を習得できます⭐️\n主催者や他
 の挑戦者と雑談・相談しながら開発を進められます🔥
 \nエンジニアカフェの飲み物を1日1杯無料で楽しめます
 ☕️\nバイブコーディングが初めての方は初心者講習
 を受けられます🔰\n主催者と並走しながらバイブコー
 ディングできます💻\n\n\nお申し込みはGoogle Formを記入
 してください📝\n\n通常3日以内に日程調整のメールを
 お送りいたします。その後、キックオフです🗒️\n\n
 オンライン見学\n\n参加登録後、Zoom URLが表示されます
 ☑️\n\nイベントを見学できます📣\n\n事前準備\n\n必須
 :\n\n\nアイデア（最初は小さいプロジェクトがお勧め）
 \nClaude Code のインストール\nZoomのインストール\n\n\nオ
 プション:\n\n\nGoogle Antigravity のインストール\nCodex のイ
 ンストール（ChatGPT Plus以上に課金している場合）\nGemin
 i CLI のインストール\nGitHub Copilot CLIのインストール（Gi
 tHub Proに課金している場合）\n\n\n集合場所\n\nエンジニ
 アカフェ 地下1階 会議室\n\n日程\n\n\n毎週土曜日 16:00 ~ 
 18:00（開場15:00・撤収19:00）\n\n\nタイムライン\n\n\n\n時
 間\n内容\n\n\n\n15分\n今日の目標発表\n\n\n90分\nバイブコ
 ーディング ※\n\n\n15分\n進捗・最終発表\n\n\n\n※ 挑戦
 者の希望に応じて、Claude Code・Codex・Antigravity・Gemini CLI
 の初心者講習をします🔰\n\n解説動画はエンジニアカ
 フェのYouTubeチャンネルにあります📷\n\nその他\n\nバイ
 ブコーディングのスキルは、エンジニアとのテキスト
 コミュニケーションスキルと同じため習得は容易です
 🙆\n\n非エンジニアでもプロダクトを完成させた実績
 が多数あります☑️\n\n参加者は大学生、非エンジニア
 社会人、現役エンジニア、定年退職者などバラバラで
 す👥\n\n体調不良・病み上がり時は欠席してください
 🏥\n\n質問・緊急連絡がある場合は、エンジニアカフ
 ェまでお問い合わせください✉️\n\n楽しみましょう
 🧪\n\n講師\n\n芝原 隼人\n\nマッドソフト株式会社代表
 取締役。慶應義塾大学電子工学科卒、同大学院メディ
 アデザイン研究科博士課程中退後、メガベンチャーでA
 Iを活用したサービスの開発に従事。福岡市主催のハッ
 カソンと起業プログラムでの受賞をきっかけに創業。
 「面白いプロダクトを作り、世界を変える」ミッショ
 ンを持ち、新技術の研究開発と社会実装に取り組む。
 エンジニアカフェコミュニティーマネージャーでもあ
 る。\n\nエンジニアカフェ\n\n『エンジニアが集まる、
 活躍する、成長する街、福岡。』を掲げる福岡市の「
 エンジニアフレンドリーシティ福岡」活動の一環とし
 て、福岡市赤煉瓦文化館内に2019年8月21日オープン。エ
 ンジニアがより先鋭的なチャレンジやスキルの幅を広
 げることができることで多様多種の方に様々な機会を
 提供したいという想いから、官民一体で生まれたエン
 ジニアのための施設です。\n\n福岡市赤煉瓦文化館\n\n
 商人の町であった博多地区と、城下町であった福岡地
 区の境目、西中島橋のすぐそばに、1909年、旧日本生命
 保険株式会社九州支店として竣工。設計は辰野片岡建
 築事務所。辰野金吾が後に手掛ける東京駅の丸の内駅
 舎と同様に、建物には英国のクイーンアン様式が見ら
 れる。1972年に福岡市歴史資料館として開館。1994年よ
 り福岡市赤煉瓦文化館へ。2019年8月21日より、エンジニ
 アカフェがオープン。今日も、多くの観光客、エンジ
 ニア達が訪ねてきています。
LOCATION:オンライン
URL:https://techplay.jp/event/993674?utm_medium=referral&utm_source=ics&utm
 _campaign=ics
END:VEVENT
END:VCALENDAR
