BEGIN:VCALENDAR
VERSION:2.0
PRODID:-//https://techplay.jp//JP
CALSCALE:GREGORIAN
METHOD:PUBLISH
X-WR-CALDESC:『トレンドを追うな、コアを掴め』連続起業
 家が語る、AI時代のキャリア原理原則
X-WR-CALNAME:『トレンドを追うな、コアを掴め』連続起業
 家が語る、AI時代のキャリア原理原則
X-WR-TIMEZONE:Asia/Tokyo
BEGIN:VTIMEZONE
TZID:Asia/Tokyo
BEGIN:STANDARD
DTSTART:19700101T000000
TZOFFSETFROM:+0900
TZOFFSETTO:+0900
TZNAME:JST
END:STANDARD
END:VTIMEZONE
BEGIN:VEVENT
UID:993745@techplay.jp
SUMMARY:『トレンドを追うな、コアを掴め』連続起業家が
 語る、AI時代のキャリア原理原則
DTSTART;TZID=Asia/Tokyo:20260408T193000
DTEND;TZID=Asia/Tokyo:20260408T203000
DTSTAMP:20260425T234054Z
CREATED:20260319T031838Z
DESCRIPTION:イベント詳細はこちら\nhttps://techplay.jp/event/99374
 5?utm_medium=referral&utm_source=ics&utm_campaign=ics\n\n『トレンド
 を追うな、コアを掴め』連続起業家が語る、AI時代の
 キャリア原理原則\n▼内容\n生成AIの進化により、ホワ
 イトカラーの「生存戦略」はかつてない転換点を迎え
 ています。\n目まぐるしいスピードでAIが普及し、日々
 の業務の在り方はもちろん、自身のキャリアの正解が
 見えづらくなったこの時代。SNS上では最新ツールへの
 過度な期待や、不安を煽るような極論が溢れています
 。\n本連続イベント企画では、各界の最先端を走る登
 壇者たちが、生成AIトレンドや、それらを踏まえたキ
 ャリア志向について、自身の経験に基づいた「私見」
 をとことん語り尽くします。表面的な一般論ではなく
 、最前線で変化を起こしている当事者の「血の通った
 一次情報」に触れられる、現代のビジネスパーソン必
 聴の内容になっております。\n各界をリードする”ウ
 ィザード”たちと共に、自分自身の未来を再定義しま
 せんか。\n※お申込み多数の場合は抽選のうえ、参加
 をお断りさせていただく場合がございます。　あらか
 じめご了承ください。※当日予告なく時間配分・内容
 が変更になる可能性がございます。\n※リクルーティ
 ング、勧誘など、採用目的でのイベント参加はお断り
 しております。　上記に該当する行為とみなされた場
 合、運営の判断により退席いただく場合があります。
 ご了承ください。\n▼こんな方におすすめ\n\nAI業界で
 働くこと、将来的な起業・事業開発に関心がある方\nAI
 トレンドや実務に使えるAI知識を学んでいきたい方\n\n
 ▼講義内容\n19:00-　開場・受付開始19:30-　開演・オー
 プニング19:35-　会社紹介（エクサウィザーズの挑戦）1
 9:45-　メインセッション（生成AI時代のキャリア戦略）
 20:05-　Q&A（登壇者へのリアルタイム質問）20:15-　採用
 告知・アンケート回答20:20-　クロージング20:30-　懇親
 会（登壇者・参加者とのネットワーキング）21:30-　閉
 会\n※詳細は申し込みページをご参考くださいhttps://eve
 nt.exawizards.com/20250408\n▼登壇者プロフィール\n佐々木 真
  氏\nオープンワーク株式会社 CPO室\n株式会社リクルー
 トにて「スタディサプリ」の初期メンバーとして事業
 開発・プロダクトマネージャー業を担当し全国展開を
 達成後、SmartHRのグループ会社としてToB向けSaaS「SmartMee
 ting」を立ち上げ2021年3月に退任。\n\n2025年には創業し
 た株式会社PM Clubをオープンワーク株式会社にM&Aしプロ
 ダクトマネジメントを担う。\n\n個人としてもXアカウ
 ントのフォロワーは3.8万人を超えnoteマガジンやYouTube
 、Podcastでもプロダクト開発のコンテンツを発信中。\n\
 n半田 頼敬 氏\n株式会社Exa Enterprise AI 取締役\n慶應義塾
 大学卒業後、2010年にベネッセコーポレーションへ入社
 し、マーケティングや事業開発に従事。\n\n2015年にリ
 クルートホールディングスへ転じ、中途採用やIndeed社
 のPMIに伴う開発拠点の立ち上げ、海外子会社の現地責
 任者採用など、国内外のTech採用プロジェクトを牽引。
 \n\n2018年よりエクサウィザーズに参画。人事責任者と
 して組織急拡大を支え、LinkedIn「TOP STARTUPS 2019」日本1
 位選出に貢献。自身も同年、LinkedIn Japanより人事でMVP
 を受賞した。\n\n2022年4月より執行役員に就任し、現在
 はExa Enterprise AIの取締役として事業開発責任者を務め
 る。\n\n▼注意事項\n\n開催方法：オンラインと現地参
 加のハイブリット\n参加方法：お申込後に、別途メー
 ルにてご案内致します。\n
LOCATION:エクサウィザーズ本社 東京都港区芝浦4丁目2−8 
 住友不動産三田ファーストビル5階
URL:https://techplay.jp/event/993745?utm_medium=referral&utm_source=ics&utm
 _campaign=ics
END:VEVENT
END:VCALENDAR
