BEGIN:VCALENDAR
VERSION:2.0
PRODID:-//https://techplay.jp//JP
CALSCALE:GREGORIAN
METHOD:PUBLISH
X-WR-CALDESC:何からはじめる？これからの製造DX ~工場の見
 える化からデータ活用、生産性向上、トレーサビリテ
 ィ~
X-WR-CALNAME:何からはじめる？これからの製造DX ~工場の見
 える化からデータ活用、生産性向上、トレーサビリテ
 ィ~
X-WR-TIMEZONE:Asia/Tokyo
BEGIN:VTIMEZONE
TZID:Asia/Tokyo
BEGIN:STANDARD
DTSTART:19700101T000000
TZOFFSETFROM:+0900
TZOFFSETTO:+0900
TZNAME:JST
END:STANDARD
END:VTIMEZONE
BEGIN:VEVENT
UID:993746@techplay.jp
SUMMARY:何からはじめる？これからの製造DX ~工場の見える
 化からデータ活用、生産性向上、トレーサビリティ~
DTSTART;TZID=Asia/Tokyo:20260414T110000
DTEND;TZID=Asia/Tokyo:20260414T120000
DTSTAMP:20260422T165315Z
CREATED:20260319T032653Z
DESCRIPTION:イベント詳細はこちら\nhttps://techplay.jp/event/99374
 6?utm_medium=referral&utm_source=ics&utm_campaign=ics\n\n何からはじ
 める？これからの製造DX\n概要\n製造業におけるDX推進
 の重要性が高まる一方で\n\n何から着手すべきか分から
 ない\n工場の見える化を検討しているが、その先の活
 用像が描けない\n可視化と経営成果との結びつきが見
 えにくい\n\nといった声も多く聞かれます。\n製造DXは
 、単にシステムを導入することではありません。現場
 データをどのように取得・蓄積・分析・改善し、経営
 成果につなげるのかという＜全体設計＞が重要です。\
 n本セミナーでは、工場のリアルタイムな見える化を起
 点に、データ活用、生産性向上、トレーサビリティ確
 立へと発展させる実践的アプローチを、実際の事例や
 ロードマップをもとに解説します。\n登壇者\n名波 知
 之\n株式会社デンソーウェーブ ソリューション事業部
 事業戦略企画部商品戦略室 シニア コーディネーター\n
 \n阿部 倭\nINSIGHT LAB株式会社 セールス＆マーケティン
 グ本部 第1営業グループ\n参加対象\n\n工場・製造業のDX
 の進め方がわからずお困りの方\n工場の状況をリアル
 タイムで把握したい化\n工場データが「見える化止ま
 り」でお悩みの方\n\n開催日時\n2026年4月14日(火) 11:00～1
 2:00\n注意事項\n\nリクルーティング、勧誘など、採用目
 的でのイベント参加はお断りしております。\nキャン
 セル待ち・補欠・落選の方はご参加いただくことが出
 来ませんのでご了承ください。\n欠席される場合は、
 お手数ですが速やかにキャンセル処理をお願い致しま
 す。\n無断キャンセルや欠席が続く場合、次回以降の
 参加をお断りさせていただく場合がございます。\n
LOCATION:
URL:https://techplay.jp/event/993746?utm_medium=referral&utm_source=ics&utm
 _campaign=ics
END:VEVENT
END:VCALENDAR
