BEGIN:VCALENDAR
VERSION:2.0
PRODID:-//https://techplay.jp//JP
CALSCALE:GREGORIAN
METHOD:PUBLISH
X-WR-CALDESC:【Snowflake九州ユーザー会#5】Snowflake新規導入企
 業による事例紹介+やっていき宣言！ の会 〜Snowflake Dat
 a Superhero 2026やっていき宣言！も添えて〜
X-WR-CALNAME:【Snowflake九州ユーザー会#5】Snowflake新規導入企
 業による事例紹介+やっていき宣言！ の会 〜Snowflake Dat
 a Superhero 2026やっていき宣言！も添えて〜
X-WR-TIMEZONE:Asia/Tokyo
BEGIN:VTIMEZONE
TZID:Asia/Tokyo
BEGIN:STANDARD
DTSTART:19700101T000000
TZOFFSETFROM:+0900
TZOFFSETTO:+0900
TZNAME:JST
END:STANDARD
END:VTIMEZONE
BEGIN:VEVENT
UID:993767@techplay.jp
SUMMARY:【Snowflake九州ユーザー会#5】Snowflake新規導入企業
 による事例紹介+やっていき宣言！ の会 〜Snowflake Data S
 uperhero 2026やっていき宣言！も添えて〜
DTSTART;TZID=Asia/Tokyo:20260416T160000
DTEND;TZID=Asia/Tokyo:20260416T180000
DTSTAMP:20260420T094557Z
CREATED:20260320T011850Z
DESCRIPTION:イベント詳細はこちら\nhttps://techplay.jp/event/99376
 7?utm_medium=referral&utm_source=ics&utm_campaign=ics\n\n【Snowflake九
 州ユーザー会#5】Snowflake新規導入企業による事例紹介+
 やっていき宣言！ の会 〜Snowflake Data Superhero 2026やって
 いき宣言！も添えて〜\n概要\n『Snowflake九州ユーザー会
 』は九州のSnowflake導入企業によるユーザーコミュニテ
 ィです。『Snowflake九州ユーザー会』は、九州の企業にS
 nowflakeの良さをお伝えすること、意見交換の場を提供
 すること、データで九州を盛り上げることを目的とし
 て活動しています。\n今回は、九州でSnowflakeを新規導
 入した企業様による事例紹介と、これからSnowflakeをど
 う活用していくのかを語る「やっていき宣言！」がテ
 ーマです。実際に導入を進めた背景や選定理由、立ち
 上げ時の工夫、これから目指したい活用の方向性まで
 、リアルな話を聞ける会にしたいと思います。\n「Snowf
 lakeをこれから導入したい」「導入した企業が最初に何
 を考え、どう進めるのか知りたい」「九州での活用事
 例を知りたい」という方に特におすすめです。机上の
 機能紹介ではなく、導入初期ならではの悩みや期待、
 現場の温度感まで含めて共有されるはずなので、これ
 からの活用を考えるうえで参考になる内容になるはず
 です。\nまた今回は、九州から Snowflake Data Superhero 2026 
 に選出された civitaspo による「やっていき宣言！」も
 お届けします。今後どんなことに取り組んでいくのか
 、九州のSnowflakeコミュニティとしてどう盛り上げてい
 くのかも含めて話す予定です。Snowflakeに興味がある方
 も、すでに活用中の方も、ぜひ気軽にご参加ください
 。\nタイムスケジュール\n\n\n\n時間\n内容\n\n\n\n\n16:00〜\
 n開場\n\n\n16:15〜16:20\nオープニング\n\n\n16:20〜16:35\nStream
 litで歯科医院を眺める株式会社DentaLight佐古 健太郎\n\n\
 n16:35〜16:50\nSnowflakeでレガシーの呪縛から逃れるまでの
 戦い（道半ば）株式会社 三好不動産横田 寛\n\n\n16:50〜
 17:05\nCortex Codeのコスト見積ヒントご紹介ちゅらデータ
 株式会社甲木 洋介\n\n\n17:05〜17:20\nSnowflake Intelligence導
 入で分かった活用のコツ株式会社ヌーラボ@wonohe\n\n\n17:
 20〜17:35\n休憩\n\n\n17:35〜17:55\nAI時代にデータ基盤が持
 つべきCapabilityを考える + Snowflake Data Superheroやっていき
 宣言株式会社LayerX@civitaspo\n\n\n17:55〜18:00\nクロージング
 \n\n\n18:00〜\n懇親会※ 希望者のみ※ 会場近辺の飲食店
 で開催します\n\n\n\n※ 当日予告なく時間配分・内容が
 変更になる可能性がございます。\n登壇者\n\n佐古 健太
 郎\n株式会社DentaLight\n\n2017年入社。エンジニアリング
 マネージャーをしながらデータ関連業務を担当してい
 ます。\n歯科定期検診にいきましょう！\n\n\n横田 寛\n
 株式会社 三好不動産データエンジニア\n社内SEになっ
 て約10年、技術者としてのスキルが落ちているのAIの力
 を借りてSnowflake活用方法検討中\n\n\n@wonohe\n株式会社ヌ
 ーラボ RevOps部データインテグレーション課 大学卒業
 後、事務機器の法人営業を経て、2007年よりフロントエ
 ンドエンジニアとしてIT業界へ。 サーバーサイドのプ
 ログラマ、保守運用チームのマネージャー、SaaSサービ
 スの開発チームマネージャーを経験した後、2020年にイ
 ンハウスシステムエンジニアとして株式会社ヌーラボ
 入社。 RevOpsにおけるデータマネジメントおよびデータ
 活用推進として、Snowflakeを導入。\n\n\n甲木 洋介\nちゅ
 らデータ株式会社データエンジニアid:yokatsuki https://x.co
 m/yokatsuki\n福岡県出身、福岡県在住。日本オラクルでOra
 cle DBのテクニカルトレーナーやプリセールスを担当後
 、AWSパートナーであるクラスメソッドに入社。主にデ
 ータ分析基盤のプリセールスアーキテクトを担当し、
 そこでSnowflakeと出会いSnowflake Data Superheroとして2022\, 202
 3の2年連続選出。その後Snowflakeに入社しでプロフェッ
 ショナルサービスを担当し、昨年から現職。現在はデ
 ータエンジニアとして機械学習など高度なデータ活用
 を行いたいお客様向けにデータ基盤の設計を支援中。\
 n\n\n@civitaspo\n株式会社LayerX バクラク事業部BizOps部 デー
 タグループ マネージャーcivitaspo（中山貴博）\n\nX（旧T
 witter）https://x.com/civitaspo\nhttps://civitaspo.com\n2013年にDeNA
 入社。Hadoopエンジニアとしてキャリアをスタート。そ
 の後、BIツール、ETLツールの自社開発等を経験した後
 、MLOps、SRE、DevOps、セキュリティ領域のキャリアを経
 て、2022年にLayerX入社。現在はバクラク事業部にてDevOps
 ・DataOps領域のエンジニアとして、データ基盤を含めた
 プラットフォーム全体の設計・実装を行っています。S
 nowflake Data Superhero 2026\n\n参加対象\n\nSnowflakeに興味があ
 る人\n九州のデータコミュニティに興味がある人\n\n参
 加費\n無料\n※ 希望者のみ、会場近辺の飲食店にて懇
 親会を行います。5000円以下の懇親会費用となる見込み
 です。領収書が必要な方は飲食店に確認しますので参
 加時アンケートにてその旨をお伝え下さい。\n注意事
 項\n\nリクルーティング、勧誘など、採用目的でのイベ
 ント参加はお断りしております。\nキャンセル待ち・
 補欠・落選の方はご参加いただくことが出来ませんの
 でご了承ください。\n欠席される場合は、お手数です
 が速やかにキャンセル処理をお願い致します。\n無断
 キャンセルや欠席が続く場合、次回以降の参加をお断
 りさせていただく場合がございます。\n\nスポンサー\n\
 n会場協力: 株式会社Fusic\n飲食物協力: 株式会社ヌーラ
 ボ\n
LOCATION:株式会社Fusic オープンオフィス 〒810-0001 福岡県
 福岡市中央区天神4-1-1 第7明星ビル1F
URL:https://techplay.jp/event/993767?utm_medium=referral&utm_source=ics&utm
 _campaign=ics
END:VEVENT
END:VCALENDAR
