BEGIN:VCALENDAR
VERSION:2.0
PRODID:-//https://techplay.jp//JP
CALSCALE:GREGORIAN
METHOD:PUBLISH
X-WR-CALDESC:＜動画公開中＞ R&Dの「効率化」だけで満足し
 ていませんか？
X-WR-CALNAME:＜動画公開中＞ R&Dの「効率化」だけで満足し
 ていませんか？
X-WR-TIMEZONE:Asia/Tokyo
BEGIN:VTIMEZONE
TZID:Asia/Tokyo
BEGIN:STANDARD
DTSTART:19700101T000000
TZOFFSETFROM:+0900
TZOFFSETTO:+0900
TZNAME:JST
END:STANDARD
END:VTIMEZONE
BEGIN:VEVENT
UID:993803@techplay.jp
SUMMARY:＜動画公開中＞ R&Dの「効率化」だけで満足してい
 ませんか？
DTSTART;TZID=Asia/Tokyo:20260323T140000
DTEND;TZID=Asia/Tokyo:20260330T180000
DTSTAMP:20260422T173837Z
CREATED:20260323T010144Z
DESCRIPTION:イベント詳細はこちら\nhttps://techplay.jp/event/99380
 3?utm_medium=referral&utm_source=ics&utm_campaign=ics\n\nライフサイ
 エンス R&D におけるデータ分析高度化の今とこれから\n
 目次\n１．詳細\n２．開催概要\n３．スピーカー\n４．
 プログラム\n５．データフォーシーズとは\n６．注意事
 項\n\n\n１．詳細\nライフサイエンス R&D におけるデータ
 分析高度化の今とこれから\n創薬・医療・食品領域に
 おける研究開発（R&D）は、今、大きな転換期を迎えて
 います 。本ウェビナーでは、データサイエンスの力で
 不可能を日常へと変え、将来の収益構造を決定づけるR
 &D高度化の最前線を、マルチオミクス解析・AI創薬・リ
 アルワールドデータ（RWD）の３つのテーマを通じて紹
 介します。「既存プロセスの高速化」に留まらない、
 「独自の価値」を生み出すための戦略的なAI活用のた
 めのインサイトを提示します。\n\n２．開催概要\n\nタ
 イトル：ライフサイエンス R&D におけるデータ分析高
 度化の今とこれから\n公開期間：絶賛公開中！　 2026年
 3月30日(月)まで\n参加費　：無料 (事前登録制)\n配信形
 式：配信ウェビナー（視聴用サイトはお申込者様向け
 にメールでご案内いたします。）\n\n🌟動画視聴後の
 アンケート回答特典として、内容をまとめた【配布用
 資料】を差し上げております。 ぜひアンケートに回答
 して、振り返りにご活用ください（回答目安：3分程度
 ）。\n\n３．スピーカー\n峰岸　龍\n株式会社データフ
 ォーシーズ　ライフサイエンス ユニット　ユニットリ
 ーダー\nライフサイエンスを中心にデータサイエンテ
 ィストとして活躍。 ゲノム解析における新規アルゴリ
 ズムの開発や、深層学習を活用したメディカルコーデ
 ィング支援など、製薬領域での高度な専門性を軸に活
 動。数理モデルや統計学の専門性をいかし、研究部門
 での支援にも携わる。鉄道業界でのマーケティングテ
 ーマ分析や食品メーカーの支援など、異業種における
 データドリブンな意思決定も推進している。\n\n\n４．
 プログラム\n1. ライフサイエンス R&D におけるデータ分
 析のトレンド2. テーマ紹介：マルチオミクス解析・AI
 創薬・リアルワールドデータ3. 総括\n\n５．データフォ
 ーシーズとは\nD4cグループは2005年の創業以来、「ビジ
 ネスを加速する」ことを使命としてクライアント企業
 を支援する、データ解析のスペシャリスト集団です。
 データに科学的な分析と洞察のメスを入れることでデ
 ータサイエンティストらによる効果的な企業経営の実
 現を支援しています。https://www.data4cs.co.jp/\n\n６．注意
 事項\n\n以下の方について、弊社判断によりご視聴をご
 遠慮いただく場合がございます。\n\n弊社の競合・同業
 となるサービスを提供している企業、及び、そのグル
 ープ企業・関連企業の方\n個人や個人事業主の方\nその
 他、弊社が不適切と判断した企業・個人の方\n\n\n
LOCATION:
URL:https://techplay.jp/event/993803?utm_medium=referral&utm_source=ics&utm
 _campaign=ics
END:VEVENT
END:VCALENDAR
