BEGIN:VCALENDAR
VERSION:2.0
PRODID:-//https://techplay.jp//JP
CALSCALE:GREGORIAN
METHOD:PUBLISH
X-WR-CALDESC:【実店舗向け】SNSで"見つけてもらう"→アプリ
 で"また来てもらう"  集客〜リピート化の仕組みづくり
 セミナー
X-WR-CALNAME:【実店舗向け】SNSで"見つけてもらう"→アプリ
 で"また来てもらう"  集客〜リピート化の仕組みづくり
 セミナー
X-WR-TIMEZONE:Asia/Tokyo
BEGIN:VTIMEZONE
TZID:Asia/Tokyo
BEGIN:STANDARD
DTSTART:19700101T000000
TZOFFSETFROM:+0900
TZOFFSETTO:+0900
TZNAME:JST
END:STANDARD
END:VTIMEZONE
BEGIN:VEVENT
UID:993844@techplay.jp
SUMMARY:【実店舗向け】SNSで"見つけてもらう"→アプリで"
 また来てもらう"  集客〜リピート化の仕組みづくりセ
 ミナー
DTSTART;TZID=Asia/Tokyo:20260422T130000
DTEND;TZID=Asia/Tokyo:20260422T140000
DTSTAMP:20260419T230827Z
CREATED:20260323T224521Z
DESCRIPTION:イベント詳細はこちら\nhttps://techplay.jp/event/99384
 4?utm_medium=referral&utm_source=ics&utm_campaign=ics\n\nー セミナー
 情報 ー\n第一部：株式会社BESW\n"知ってもらう"を仕組
 み化する 実店舗のためのSNS認知拡大術\n「SNSアカウン
 トは作ったけど、うまく運用できていない…」そんな
 お悩みを抱えていませんか？実店舗の集客において、S
 NSは"まだ知らないお客様"との最初の接点です。しかし
 、ただ投稿するだけでは見つけてもらえません。\n本
 セミナーでは、Instagramを中心に**「お店をまだ知らな
 い人に届ける」ための認知拡大・露出拡大の仕組みづ
 くりを解説**します。2025〜2026年のアルゴリズム変化を
 踏まえた最新の運用ポイントや、フォロワー外へのリ
 ーチを最大化する投稿設計、位置情報・ハッシュタグ
 を活用した地域密着型の集客戦略まで、すぐに実践で
 きるノウハウをお伝えします。さらに、SNSで興味を持
 ってくれたユーザーを"一度きり"で終わらせず、来店
 ・リピートにつなげるための導線設計についてもご紹
 介。SNSを「認知の入り口」として最大限活用する方法
 を、この機会にぜひ持ち帰ってください。\n– 学べる
 こと –\n\nフォロワー外に届く！Instagramの投稿設計の
 コツ\n地元のお客様に見つけてもらう位置情報×ハッシ
 ュタグ活用法\nSNSから来店・リピートにつなげる導線
 のつくり方\n\n– こんな方にオススメ –\n\nSNSアカウン
 トはあるが、運用がうまくいっていない方\n実店舗へ
 の新規集客を強化したい方\n投稿しても反応が少なく
 、何を発信すればいいか分からない方\n\n田中 千晶（Ta
 naka Chiaki）株式会社BESW　代表取締役社長2009年、大学在
 学中に会社を設立し、1年半で大手企業、中小企業50社
 と取引をする。Webプロモーション支援を得意とし、特
 にSNS活用支援で多くの実績をもつ。2012年から全国各地
 でセミナーを精力的に実施。シリコンバレーのFacebook
 本社やTwitter本社へ毎年出向いて直接SNSの最先端情報を
 仕入れてきている。角川出版社、マイナビ社、技術評
 論社、翔泳社、インプレス社でマーケティング支援の
 書籍を8冊出版。連載も8社で行う。自身のラジオ番組
 、パーソナリティとしても活動し、SNSの最新情報を届
 けている。\n▼ 代表田中のXアカウントはこちらhttps://x
 .com/c_tanaka1987\n\n第二部：福博印刷株式会社\nお客様に
 ダイレクトにつながる公式アプリ導入のススメ\n「新
 規顧客は来るけれど、リピートに繋がらない…」「広
 告費をかけているが、効果が頭打ちになってきた…」
 このようなお悩みをお持ちの店舗・企業様の解決の鍵
 は、「自社公式アプリ」にあります。なぜ今、多くの
 企業がアプリを導入し、成果を上げているのか？それ
 は、お客様一人ひとりの属性や利用状況に合わせて、
 最適な情報をダイレクトに届けられる、最も効果的な
 販促ツールだからです。「なぜアプリがリピーター獲
 得にこれほど強いのか」という基本から、当社が提供
 する**スマホアプリ作成サービス「ストアサプリ」**を
 使い、顧客満足度と来店率アップのポイントとなる顧
 客マーケティングについて、成功事例を交えてわかり
 やすく解説します。\n– 学べること –\n\n販促媒体と
 しての企業アプリの価値\nアプリデータがもたらす顧
 客マーケティングの実践例\n店舗とアプリの連動によ
 る販促施策事例\n\n– こんな方にオススメ –\n\nアプリ
 導入を検討しているが、何から始めれば良いかわから
 ない\n新規顧客のリピート率を、仕組みで改善したい\n
 お客様を”ファン”にして、長期的な囲い込みを図り
 たい\n\n藤本 真由（Fujimoto Mayu）福博印刷株式会社　西
 日本営業本部2020年福博印刷入社。営業担当として、印
 刷媒体を中心にクライアントに応じた商品・サービス
 を提供。ストアサプリについてはプロジェクトメンバ
 ーとして、企業様への導入提案、開発・運用支援に至
 るまで幅広く担当。\n\n＜ 実施概要 ＞\n【日程】 4月
 22日（水）　13:00 ～ 14:00\n【開催形式】オンライン（※
 WEBツール：Zoom）\n＜ 注意事項 ＞\n\nWEBのみの開催と
 なりますので、ご了承ください。エントリーいただい
 た方に、前日までにWEBセミナー開催のURLをお送りしま
 す。\n競合、同業社様のご参加はお断りいたします。\n
 セミナーに関するフォームでのご入力情報は株式会社B
 ESWがセミナーやサービスのご案内（広告メール含む）
 をするため取得し、同目的で利　用するため、以下の
 共催企業に提供いたします。各社の個人情報の取り扱
 いの詳細は以下をご覧ください。・株式会社BESW・福博
 印刷株式会社\nお申込が予定数を超過した場合は、早
 期受付終了とさせていただく場合がございます。\nお
 申込後のキャンセルが発生した場合は再受付させてい
 ただく事がございますので、ご参加が難しくなった際
 は下記までご連絡いただきますようお願い申し上げま
 す。\n\n＜株式会社BESW　セミナー運営担当 03-5829-3510＞
LOCATION:
URL:https://techplay.jp/event/993844?utm_medium=referral&utm_source=ics&utm
 _campaign=ics
END:VEVENT
END:VCALENDAR
