BEGIN:VCALENDAR
VERSION:2.0
PRODID:-//https://techplay.jp//JP
CALSCALE:GREGORIAN
METHOD:PUBLISH
X-WR-CALDESC:『生成AIをあなたの「専属データサイエンティ
 スト」にする実践講座 』（第1期：交通事故オープン
 データ編／全3回）
X-WR-CALNAME:『生成AIをあなたの「専属データサイエンティ
 スト」にする実践講座 』（第1期：交通事故オープン
 データ編／全3回）
X-WR-TIMEZONE:Asia/Tokyo
BEGIN:VTIMEZONE
TZID:Asia/Tokyo
BEGIN:STANDARD
DTSTART:19700101T000000
TZOFFSETFROM:+0900
TZOFFSETTO:+0900
TZNAME:JST
END:STANDARD
END:VTIMEZONE
BEGIN:VEVENT
UID:993951@techplay.jp
SUMMARY:『生成AIをあなたの「専属データサイエンティス
 ト」にする実践講座 』（第1期：交通事故オープンデ
 ータ編／全3回）
DTSTART;TZID=Asia/Tokyo:20260415T153000
DTEND;TZID=Asia/Tokyo:20260415T170000
DTSTAMP:20260422T075313Z
CREATED:20260326T075837Z
DESCRIPTION:イベント詳細はこちら\nhttps://techplay.jp/event/99395
 1?utm_medium=referral&utm_source=ics&utm_campaign=ics\n\n『生成AIを
 あなたの「専属データサイエンティスト」にする実践
 講座』（第1期：交通事故オープンデータ編／全3回）\n
 「生成AI、すごいのは分かるけど…業務では使い切れ
 ていない」そんな方に向けた、実務直結のハンズオン
 講座です。\n日本語で指示を出すだけでデータ分析や
 レポート作成ができる時代になりました。しかし、AI
 は「もっともらしい誤り（ハルシネーション）」を含
 むことがあり、そのまま業務に使うのはリスクを伴い
 ます。\n本講座では、交通事故のオープンデータを題
 材に、生成 → 検証 → 自動化のプロセスを一気通貫で
 体験し、生成AIを「業務で使い切る」ためのスキルを
 習得します。\n「生成AIを業務で使い切る」ための実践
 プログラムです。単なる体験ではなく、翌日からの業
 務に持ち帰ることを目的としています。\n本講座で得
 られること\n\nAIを使ったデータ分析・レポート作成の
 実践方法\nAIの出力を鵜吞みにしないための検証スキル
 \n業務に組み込むための自動化の考え方\n\nこんな方に
 おすすめ\n\nExcelでの集計・レポート作業に時間を取ら
 れている方\n生成AIを使っているが業務に活かしきれて
 いない方\nプログラミングなしでデータ活用をしたい
 方\nAIの出力をどう検証すべきか悩んでいる方\n\n全3回
 の構成\n第1回 Ι 体験編　4月15日(水) ※本申込は、第1
 回のみの申し込みとなります。\n\n生成AIによるレポー
 ト自動生成\nAIの出力のファクトチェック入門\nスプレ
 ッドシートを使った基本検証\n\n第2回 Ι 検証編　5月13
 日(水)\n\nクロス集計・決定木による分析\nn=1レベルの
 データ検証\nAIダブルチェック手法\n\n第3回 Ι 応用編　
 6月17日(水)\n\nAIとの壁打ちによる要件定義\n分析フロー
 設計\nノーコードでの自動レポート構築\n\n※全3回の講
 座ですが、単発でのご参加も可能です。※内容は進行
 状況に応じて一部変更となる場合があります。\nタイ
 ムスケジュール\n\n\n\n時間\n内容\n\n\n\n\n15:00～\n受付開
 始\n\n\n15:30～15:35\nオープニング\n\n\n15:35～16:25\n講義＋
 ワーク\n\n\n16:25～16:35\n休憩\n\n\n16:35～16:55\n成果共有（
 数名発表）\n\n\n16:55～17:00\nクロージング\n\n\n\n※ 当日
 予告なく時間配分・内容が変更になる可能性がござい
 ます。\n講師\n\n大城 信晃 氏\nNOB DATA株式会社\n［プロ
 フィール］\nヤフー、DATUM STUDIO、LINE Fukuokaを経て独立
 。\nデータ分析・生成AIを活用した意思決定支援および
 組織構築に従事。\n九州におけるデータサイエンス・
 生成AIの普及と実務活用の促進に取り組んでいる。\n\n
 持ち物\n\nインターネット接続可能なノートPC　※事務
 局で用意できかねますので、必ず持参ください。\nGoogl
 eアカウント（事前ログイン必須）利用ツール：Gemini／
 NotebookLM／Googleスプレッドシート／Google Colab／Google AI St
 udio\n\n【オンライン参加者のみ】上記利用ツールに加
 えてzoomが必要となります（質問時に画面共有をお願い
 することもあります）。\n現地会場\nCIC Fukuoka会議室　h
 ttps://maps.app.goo.gl/i4PhT7NRdHE6Dnhf9福岡県福岡市中央区天神
 一丁目11番1号 ONE FUKUOKA BLDG. 7階\n【入館方法】ONE FUKUOKA 
 BLDG.の「ビジネス用」エレベーターで６Fまで上がって
 いただき、「Recコーヒー」の裏手にある階段で７FのCIC
 福岡まで上がってください。CIC Fukuoka内の会議室まで
 はスタッフの誘導が必要となります。現地参加申込者
 の方へは、当日のスタッフ連絡先を別途ご案内します
 。\n会場協力：NOB DATA株式会社 https://nobdata.co.jp/\n参加
 形式について\n本講座はハンズオン形式のため、しっ
 かり手を動かして理解したい方には現地参加をおすす
 めします。オンライン参加の方も、実務で活用するた
 めの全体像と進め方は理解できる構成になっています
 。\n【オンライン参加】\n\nオンライン参加の方はベス
 トエフォートでの対応となりますのでご了承ください
 。\nカメラOFFでご参加いただけますが、質問の際など
 は極力ONにしていただけますと幸いです。\nハンズオン
 中の個別サポートは現地参加者を優先させていただき
 ます。\n\n※途中で詰まった場合でも、後半の成果共有
 でキャッチアップできる構成になっています。\n講座
 参加費\n無料\nその他\n講座終了後、現地参加者のうち
 、ご希望の方で懇親会を予定しています。※講座の開
 催会場近隣。※懇親会の参加費は実費にてご負担いた
 だきます。\n注意事項\n\nキャンセル待ちの方はご参加
 いただくことが出来ませんのでご了承ください。\n欠
 席される場合は、お手数ですが速やかにキャンセル処
 理をお願いいたします。\n無断キャンセルや欠席が続
 く場合、次回以降の参加をお断りさせていただく場合
 がございます。\n通信等の不具合により、やむを得ず
 配信方法の変更や配信を中止する場合があります。\n
 配信途中で接続が切れた際は、techplayよりメールにて
 お知らせいたしますのでご確認ください。\nアーカイ
 ブ・講演資料の公開予定はありません。\n\n九州支部に
 ついて\n九州を中心に、データ活用や生成AIを実務に活
 かしたい方同士で、学びと交流の場にできればと考え
 ています。エリア問わずご参加いただけますので、現
 地・オンラインいずれも歓迎です。「まずは雰囲気を
 知りたい」という方のご参加も大歓迎です。
LOCATION:CIC Fukuoka会議室 福岡県福岡市中央区天神一丁目11
 番1号 ONE FUKUOKA BLDG. 7階
URL:https://techplay.jp/event/993951?utm_medium=referral&utm_source=ics&utm
 _campaign=ics
END:VEVENT
END:VCALENDAR
