BEGIN:VCALENDAR
VERSION:2.0
PRODID:-//https://techplay.jp//JP
CALSCALE:GREGORIAN
METHOD:PUBLISH
X-WR-CALDESC:【オリエン有り】　4/25（土）第87回CoderDojo滝
 沢 
X-WR-CALNAME:【オリエン有り】　4/25（土）第87回CoderDojo滝
 沢 
X-WR-TIMEZONE:Asia/Tokyo
BEGIN:VTIMEZONE
TZID:Asia/Tokyo
BEGIN:STANDARD
DTSTART:19700101T000000
TZOFFSETFROM:+0900
TZOFFSETTO:+0900
TZNAME:JST
END:STANDARD
END:VTIMEZONE
BEGIN:VEVENT
UID:993972@techplay.jp
SUMMARY:【オリエン有り】　4/25（土）第87回CoderDojo滝沢 
DTSTART;TZID=Asia/Tokyo:20260425T110000
DTEND;TZID=Asia/Tokyo:20260425T140000
DTSTAMP:20260421T045817Z
CREATED:20260327T060139Z
DESCRIPTION:イベント詳細はこちら\nhttps://techplay.jp/event/99397
 2?utm_medium=referral&utm_source=ics&utm_campaign=ics\n\n重要\n令和
 ８年度の初回開催になりますので、前半にオリエンテ
 ーションや参加者同士が交流する時間を\n設けます。
 時間もいつもと違うのでご注意ください。\nまた実験
 的な取り組みなので、タイムキープ他予測不能な点が
 多々ありますがあらかじめご了承ください。\n※福田
 パンは主催者側で保護者含む参加人数分の個数を用意
 します。\n　アレルギーに関しては各参加者保護者で
 注意し参加ください。\n\nスケジュール\n\n10:30~開場、
 準備開始\n\n11:00～ あいさつ、今日やること確認　他　
 \n\n11:10〜中学生が開発した仲良くなれるカードゲーム
 他で遊んでみる。\n\n12:00〜お昼に福田パンを参加者で
 わかちあってみる。\n　　　　フランス語で仲間のこ
 とをコパン（copain）というらしく、\n　　　　「パン
 を分け合って食べる関係」というのが語源とのことな
 ので、実際に試してみる。\n　\n12:30〜ぼちぼち創作に
 とりかかってみる。\n\n14:00～　ふりかえり、解散　(み
 んなで片付けよう)\n\n初めての方は\n\n初参加の場合は
 、下記のCoderDojo Japanのサイトやスライド資料等を予め
 参照ください。\nガイダンス ：[https://coderdojo.jp/#welcome]
 \n\n参加対象者\n\n小学生〜中学生、高校生とその保護
 者 \n※小学生以下の参加者は保護者の同伴必須となり
 ます。\n\n持ち物\n\nPCやタブレット等は各自で持ち込み
 ください。\nない人には貸出が可能です。\n\nCoderDojo滝
 沢できる事\n\nCoderDojo滝沢は主にScratch、micro:bit、Viscuit
 を使って活動しています。\n自分で用意した環境（例:
 マインクラフト）や持ち込みしたもの（例：ドローン
 、ロボット）での創作も自由です。\n子どもたちの興
 味関心は様々ですのでやりたいことがあればまずはご
 相談ください。\n下記は今まで参加した子どもたちの
 活動の一例です。\n\n全く初めてだけどプログラミング
 を体験してみたい\n　hour of code / viscuit / Scratch\nゲーム
 や物語、アート作品を作りたい\n    viscuit / Scratch\nテキ
 スト言語やWEB制作を学習したい (例：HTML\,Python\,Ruby)\n
 　Progate\nIoTやセンサー、電子工作に興味がある\n　micro
 :bit \nお絵描きしたい\n　MediBang Paintなど\n\nCoderDojo滝沢
 会場にあるもの\n\n各種プログラミング教本\nPC: 20台\n
 　Windows 11/タッチパネル対応\nmicro:bit v2 :20台\n3Dプリン
 ター\n電子工作用工具\n\n運営者\n\nCoderDojo滝沢は滝沢市
 の後援を受け特定非営利活動法人codeMoが運営していま
 す。\n\n※申込み時に参加者（保護者）から頂く個人情
 報は申込み管理にのみ使います。\n※活動の様子を写
 真や動画等で記録し主催者及び協力・後援団体の媒体 
 （WEBや紙面等）\nに使用させていただく場合がありま
 す。またメディアの取材で活動が報道される場合があ
 ります。 
LOCATION:滝沢市IPU第二イノベーションセンター 岩手県滝
 沢市巣子152-409
URL:https://techplay.jp/event/993972?utm_medium=referral&utm_source=ics&utm
 _campaign=ics
END:VEVENT
END:VCALENDAR
