BEGIN:VCALENDAR
VERSION:2.0
PRODID:-//https://techplay.jp//JP
CALSCALE:GREGORIAN
METHOD:PUBLISH
X-WR-CALDESC:【実践ワーク付】 AIプロジェクトマネージャ
 ーを目指す方へ。 失敗しないAI開発の要件定義・PoC設
 計の「勘所」
X-WR-CALNAME:【実践ワーク付】 AIプロジェクトマネージャ
 ーを目指す方へ。 失敗しないAI開発の要件定義・PoC設
 計の「勘所」
X-WR-TIMEZONE:Asia/Tokyo
BEGIN:VTIMEZONE
TZID:Asia/Tokyo
BEGIN:STANDARD
DTSTART:19700101T000000
TZOFFSETFROM:+0900
TZOFFSETTO:+0900
TZNAME:JST
END:STANDARD
END:VTIMEZONE
BEGIN:VEVENT
UID:994043@techplay.jp
SUMMARY:【実践ワーク付】 AIプロジェクトマネージャーを
 目指す方へ。 失敗しないAI開発の要件定義・PoC設計の
 「勘所」
DTSTART;TZID=Asia/Tokyo:20260411T130000
DTEND;TZID=Asia/Tokyo:20260411T173000
DTSTAMP:20260421T225442Z
CREATED:20260329T133026Z
DESCRIPTION:イベント詳細はこちら\nhttps://techplay.jp/event/99404
 3?utm_medium=referral&utm_source=ics&utm_campaign=ics\n\n■ プログラ
 ム概要\n生成AIをはじめとする技術進化により、AIの実
 装はあらゆるビジネスで不可欠となりました。しかし
 、「AI特有の不確実性」に対応できるプロジェクトマ
 ネージャーは圧倒的に不足しており、実務を通じてそ
 のスキルを磨く機会も限られているのが現状です。本
 イベントは、AI開発マネージャーを目指す方や、AIプロ
 ジェクトの推進に興味がある方を対象とした実践型の
 オフラインワークショップです。当社で蓄積したノウ
 ハウ（講座のエッセンス）をもとに、座学と実践ワー
 クを通じて以下のスキルをお持ち帰りいただけます。\
 n\n■ このような方におすすめ\n\n従来型システム開発
 とAI開発の決定的な違いの理解\nAIプロジェクトにおけ
 る「企画立案」「要件整理」の勘所\nPoC（概念実証）
 で失敗しないための設計手法\n実務を想定したケース
 スタディを通じた、課題解決プロセスの疑似体験\n\nワ
 ーク終了後には、参加者同士や弊社メンバーとの懇親
 会も予定しております。AI領域でのキャリアアップや
 、今後のスキル形成に向けた情報交換の場としてぜひ
 ご活用ください。\n■ タイムスケジュール\n13:00 - 14:00
 　オープニング　　　　　　　AI 開発プロジェクトの
 全体像　　　　　　　企画立案の勘所　　　　　　　
 要件整理の勘所　　　　　　　PoC設計の勘所　　　　
 　　　システム開発/運用の勘所14:00 - 14:15　小休憩14:15
  - 15:25　実践ケーススタディワーク15:25 - 16:00　ワーク
 発表&フィードバック　　　　　　　クロージング16:00 
 - 17:30　懇親会\n\n■ イベント概要\n開催日程： 2026/4/11 
 (土) 13:00～17:30申込締切：4月5日（日）会場：東京都内
 予定定員：30名程度参加費用：無料参加にあたって必
 要知識・スキル：ITの基本的な仕組みへの理解持ち物
 ：ノートパソコン運営：株式会社スキルアップNeXt※参
 加にあたっての交通費等はご自身でのご負担となりま
 す。※チームは、運営の方で組みますのでご自身でチ
 ームメイトを探していただく必要はございません。\n\n
 ■ 個人情報の取扱いについて\n\n人材育成サービス利
 用規約\n\n株式会社スキルアップNeXt（旧:スキルアップA
 I株式会社）が実施するセミナーにご参加いただく際に
 は、「人材育成サービス利用規約」を遵守いただくこ
 とへの同意をお願いしております。利用規約はこちら
 からご確認ください。\n\nプライバシーポリシー\n\n個
 人情報の取扱いについてご同意を頂いた上でお申し込
 みをお願いしております。プライバシーポリシーはこ
 ちらからご確認ください。\n\n■ 運営団体\n株式会社ス
 キルアップNeXt（旧:スキルアップAI株式会社）\nhttps://ww
 w.skillupai.com/
LOCATION:
URL:https://techplay.jp/event/994043?utm_medium=referral&utm_source=ics&utm
 _campaign=ics
END:VEVENT
END:VCALENDAR
