BEGIN:VCALENDAR
VERSION:2.0
PRODID:-//https://techplay.jp//JP
CALSCALE:GREGORIAN
METHOD:PUBLISH
X-WR-CALDESC:【SnowVillageデータマネジメント入門講座】第1
 回：デタマネとは？DMBOKとは？
X-WR-CALNAME:【SnowVillageデータマネジメント入門講座】第1
 回：デタマネとは？DMBOKとは？
X-WR-TIMEZONE:Asia/Tokyo
BEGIN:VTIMEZONE
TZID:Asia/Tokyo
BEGIN:STANDARD
DTSTART:19700101T000000
TZOFFSETFROM:+0900
TZOFFSETTO:+0900
TZNAME:JST
END:STANDARD
END:VTIMEZONE
BEGIN:VEVENT
UID:994048@techplay.jp
SUMMARY:【SnowVillageデータマネジメント入門講座】第1回：
 デタマネとは？DMBOKとは？
DTSTART;TZID=Asia/Tokyo:20260420T190000
DTEND;TZID=Asia/Tokyo:20260420T210000
DTSTAMP:20260420T095049Z
CREATED:20260329T142636Z
DESCRIPTION:イベント詳細はこちら\nhttps://techplay.jp/event/99404
 8?utm_medium=referral&utm_source=ics&utm_campaign=ics\n\n【SnowVillage
 データマネジメント入門講座】\n第1回：デタマネとは
 ？DMBOKとは？\n概要\nSnowflakeユーザーコミュニティ SnowVi
 llage のデータマネジメント分科会による新企画！　◆
 ◇◆◇◆◇◆◇◆◇◆◇◆◇◆◇◆◇◆◇◆◇◆◇◆
 ◇◆◇◆◇◆◇◆◇◆　　　　　　　　　初めてから
 デタマネを学べる通年講座　　 【SnowVillageデータマネ
 ジメント入門講座】 をスタートします！◆◇◆◇◆◇
 ◆◇◆◇◆◇◆◇◆◇◆◇◆◇◆◇◆◇◆◇◆◇◆◇
 ◆◇◆◇◆　入門講座の第1回目ですので、今後この講
 座で学習するデタマネという広大な世界の全体感を俯
 瞰する内容を準備中です。前提知識不要、オンライン
 でどなたでもご参加可能ですので、ぜひぜひご視聴く
 ださい。\n第1回：デタマネとは？DMBOKとは？\n開催日時
 ： 2026年4月20日（月）19:00 ～ 20:30　　　　　（最大21:00
 頃までQ＆A、ディスカッションあり）開催形態： オン
 ライン（参加URLは別途公開します）　　　　　講師に
 よる1h程度の座学＋QA/ディスカッションを予定\n記念す
 べき第1回目は、データマネジメントを語るうえで欠か
 せないDMBOKを柱とし、これから学習するデータマネジ
 メントの全体感を俯瞰する内容です。お持ちのかたは
 ぜひDMBOK本を片手に（両手に？）携えて、お持ちでな
 い方はいつか読破する日を想い、厚み（物理）を知る
 ところから一緒にやっていきましょう！\n講師：電通
 総研 小松崎さん数あるデータ系職種の中でも「データ
 マネジメントのコンサルティング」を本業とし、日々
 顧客のデータ基盤のあるべき姿を追求されている、電
 通総研の小松崎さんにご登壇いただきます。\nタイム
 スケジュール\n\n\n\n時間\n内容\n\n\n\n\n18:45〜\nウェビナ
 ーURLオープン\n\n\n19:00〜19:05\nオープニングデータマネ
 ジメント入門講座について\n\n\n19:05〜19:55\n第1回：デタ
 マネとは？DMBOKとは？電通総研 小松崎氏\n\n\n19:55〜20:00
 \nQAなど\n\n\n20:00〜20:30（最大21:00）\nディスカッション\
 n\n\n\n次回予告 ＆ 閉会\n\n\n\n※ 当日予告なく時間配分
 ・内容が変更になる可能性がございます。\n登壇者\n\n
 小松﨑 武\n株式会社電通総研 コンサルティング本部DX
 戦略部 マネージャー\n製造業で生産技術職として、日
 本および中国の工場にて自動車・複写機部品の工程設
 計や品質管理に従事。\n現場の実務経験を経て、現在
 は電通総研にて製造業を中心にDX推進を支援している
 。\n現在はデータ活用・データマネジメントに注力し
 、自動車、電気機器、精密機械など多岐にわたる大手
 メーカーに対し、データ戦略の策定からデータガバナ
 ンスの整備、データマネジメント推進まで幅広くコン
 サルティングを展開。\n日刊工業新聞への寄稿や各種
 セミナーを通じて、「自社に必要なデータマネジメン
 トをどう進めるか」という実践的なノウハウの発信も
 行っている。\n\n参加対象\n\nデータエンジニア、デー
 タアーキテクトなど。\nデータにまつわるすべての方
 、前提知識なしの初級者からご参加いただけます。\n
 本編は入門向けとしますので、高度な実践やピンポイ
 ントのユースケースをご期待の方は時間外のディスカ
 ッション等での話題提供をお願いします。\n\n参加費\n
 無料\n注意事項\n\nリクルーティング、勧誘など、採用
 目的でのイベント参加はお断りしております。\nキャ
 ンセル待ち・補欠・落選の方はご参加いただくことが
 出来ませんのでご了承ください。\n欠席される場合は
 、お手数ですが速やかにキャンセル処理をお願い致し
 ます。\n無断キャンセルや欠席が続く場合、次回以降
 の参加をお断りさせていただく場合がございます。\n\n
 企画運営\n\n\n\n\n\n\n\n\n\n\n\nKosuke Kida（Exture）\nYuya Matsuba
 ra (NTTドコモ)\nすずき\n中山 晋一 (電通総研)\n\n\n
LOCATION:
URL:https://techplay.jp/event/994048?utm_medium=referral&utm_source=ics&utm
 _campaign=ics
END:VEVENT
END:VCALENDAR
