BEGIN:VCALENDAR
VERSION:2.0
PRODID:-//https://techplay.jp//JP
CALSCALE:GREGORIAN
METHOD:PUBLISH
X-WR-CALDESC:Python実践編〜外部APIでデータ収集から連携ま
 でを体験！！~
X-WR-CALNAME:Python実践編〜外部APIでデータ収集から連携ま
 でを体験！！~
X-WR-TIMEZONE:Asia/Tokyo
BEGIN:VTIMEZONE
TZID:Asia/Tokyo
BEGIN:STANDARD
DTSTART:19700101T000000
TZOFFSETFROM:+0900
TZOFFSETTO:+0900
TZNAME:JST
END:STANDARD
END:VTIMEZONE
BEGIN:VEVENT
UID:994137@techplay.jp
SUMMARY:Python実践編〜外部APIでデータ収集から連携までを
 体験！！~
DTSTART;TZID=Asia/Tokyo:20260531T133000
DTEND;TZID=Asia/Tokyo:20260531T163000
DTSTAMP:20260422T075027Z
CREATED:20260331T051617Z
DESCRIPTION:イベント詳細はこちら\nhttps://techplay.jp/event/99413
 7?utm_medium=referral&utm_source=ics&utm_campaign=ics\n\n5/31(日)Python
 データ連携~データ収集から書き出し\n概要\nDual Stack Lab
 としての第2回目のイベントとしてPythonを使用したデー
 タ取得と連携の勉強会を開催します。第1回のPythonデー
 タ加工入門編サンプルスーパーストアを加工してみよ
 うではPythonの基本的な構文理解からデータの出力を範
 囲としていましたが、第2回では外部のAPIでデータを収
 集して出力するところまでを実行します。\n本イベン
 トは講義形式のレクチャーと、実際に手を動かすハン
 ズオンの2部構成です。サンプルコードや手順付きで解
 説を行いながら進めていくので2回目から初参加の方で
 も、問題ないです。データの収集や連携を自動化した
 い方など、興味のある方ならどなたでも大歓迎です！
 少人数でゆるりと雑談も交えながら進めていきますの
 で、オフラインならではの交流もぜひお楽しみくださ
 い。\n会場:大崎第二区民集会所第1集会室\n住所：大崎2
 -9-4(大崎ウエストシティタワーズ貢献施設棟1、2階)ア
 クセス：大崎駅南改札口徒歩5分（新西口方面）\nタイ
 ムスケジュール\n\n\n\n時間\n内容\n\n\n\n\n13:15〜13:30\n開
 場・入室\n\n\n13:30〜13:40\nオープニング\n\n\n13:40〜13:50\n
 自己紹介\n\n\n13:50〜14:50\nレクチャー\n\n\n14:50〜15:50\nハ
 ンズオン\n\n\n16:00〜16:20\nクロージング\n\n\n16:30\n退出\n\
 n\n\n※ 当日予告なく時間配分・内容が変更になる可能
 性がございます。\n参加費\n会議室費用を割り勘します
 (500円〜1000円程度)\n持ち物\n飲み物とハンズオンで実際
 にスクリプトを実行するので各自PCをご準備ください
 。\n注意事項\n\nリクルーティング、勧誘など、採用目
 的でのイベント参加はお断りしております。\nキャン
 セル待ち・補欠・落選の方はご参加いただくことが出
 来ませんのでご了承ください。\n欠席される場合は、
 お手数ですが速やかにキャンセル処理をお願い致しま
 す。\n無断キャンセルや欠席が続く場合、次回以降の
 参加をお断りさせていただく場合がございます。\n\n主
 催者\nざき(@waichang111)\nデータ×AIの会社でリードデータ
 エンジニア兼PRディレクターをやっています\nDATA Saber (
 2025.06.27-) \nDATA Saber Bridge - 4th師匠\n\nスーザン(@surzan_ds)\
 n生保会社でデータ分析してます !\nDATA Saber (2025.09.30-)\n
 DATA Saber Bridge - 2026.3師匠\n
LOCATION:大崎第二区民集会所第1集会室 東京都品川区大崎2
 丁目9－4大崎ウエストシティタワーズ貢献施設棟1・2階
URL:https://techplay.jp/event/994137?utm_medium=referral&utm_source=ics&utm
 _campaign=ics
END:VEVENT
END:VCALENDAR
