BEGIN:VCALENDAR
VERSION:2.0
PRODID:-//https://techplay.jp//JP
CALSCALE:GREGORIAN
METHOD:PUBLISH
X-WR-CALDESC:2026年、AI駆動型ビジネスへの転換に向けた最
 短実行ロードマップ〜「なんとなくAI導入してみた」
 の終焉と、今期やるべきこと〜
X-WR-CALNAME:2026年、AI駆動型ビジネスへの転換に向けた最
 短実行ロードマップ〜「なんとなくAI導入してみた」
 の終焉と、今期やるべきこと〜
X-WR-TIMEZONE:Asia/Tokyo
BEGIN:VTIMEZONE
TZID:Asia/Tokyo
BEGIN:STANDARD
DTSTART:19700101T000000
TZOFFSETFROM:+0900
TZOFFSETTO:+0900
TZNAME:JST
END:STANDARD
END:VTIMEZONE
BEGIN:VEVENT
UID:994236@techplay.jp
SUMMARY:2026年、AI駆動型ビジネスへの転換に向けた最短実
 行ロードマップ〜「なんとなくAI導入してみた」の終
 焉と、今期やるべきこと〜
DTSTART;TZID=Asia/Tokyo:20260422T150000
DTEND;TZID=Asia/Tokyo:20260422T153000
DTSTAMP:20260425T161807Z
CREATED:20260401T065438Z
DESCRIPTION:イベント詳細はこちら\nhttps://techplay.jp/event/99423
 6?utm_medium=referral&utm_source=ics&utm_campaign=ics\n\n対象者\n本
 ウェビナーは、AI活用において「次の一手」を模索し
 ている方々、特に、現場の意思決定を担う経営層・マ
 ネジメント層・DX推進リーダーの皆様に向けて、今期
 すぐに役立てていただけるような視点を共有いたしま
 す。以下のような課題をお持ちではないですか？\n\nPoC
 疲れを感じている：導入は試みたものの、現場への定
 着や本格稼働への道筋が描けず足踏みしている\nAI活用
 に出遅れていることに危機感がある：競合他社が成果
 を出す中で、自社が「何から着手すれば最短で結果が
 出るか」を整理したい\n事業そのものをアップデート
 したい：狭い業務範囲の効率化ではなく、事業構造そ
 のものをアップデートするような本質的なAI活用を推
 進し始めたい\n\nウェビナー内容\n2025年までの生成AIの
 試行錯誤（PoC）フェーズは終わりを告げ、2026年はAIが
 ビジネスの基盤となる実用化の本番フェーズへと突入
 しました。もはやAIは単なる便利ツールではなく、事
 業の競争力を左右するOSそのものへと進化しています
 。本ウェビナーでは、株式会社Hakky代表の齋藤が、AI Sh
 ift時代の最前線で起きている「ビジネスプロセスの再
 分解」と、AIを主体とした事業構造への転換に向けた
 「最短実行ロードマップ」を30分で濃縮して解説しま
 す。「なんとなくAI」を卒業して、今期、組織として
 どの方向に舵を切るべきか。ヒントとなるような情報
 をお届けいたします。\n注意事項\n【参加資格について
 】本ウェビナーは、特定の業界や分野に従事している
 企業関係者を対象としております。個人の方や同業他
 社様からの参加申し込みは原則お断りをしております
 。申し込みがあった場合でも、視聴用のリンクは送付
 をしておりませんのでご理解のほど宜しくお願いいた
 します。 【事前登録に関して】ウェビナーへの参加
 を希望される方は、必ず事前にオンラインで登録を完
 了してください。登録なしでの参加は受け付けており
 ませんので、ご注意ください。 【プログラム内容に
 ついて】予告なくセッション内容やスピーカーが変更
 される可能性があります。最新の情報は公式ウェブサ
 イトで随時更新されますので、ご確認をお願いいたし
 ます。 【録画・録音について】ウェビナーの内容の
 録画、録音、またはその他の形式での記録は固く禁じ
 られています。知的財産権の保護と、講師および参加
 者のプライバシーを尊重するため、ご協力をお願いい
 たします。※これはアーカイブ配信が事前に告知され
 ている場合にも適用されます 【質問とフィードバッ
 ク】セッション中の質問は歓迎いたしますが、予め事
 前に質問フォームを通じて提出していただくことを推
 奨します。また、ウェビナー終了後にフィードバック
 をお寄せいただけると幸いです。
LOCATION:
URL:https://techplay.jp/event/994236?utm_medium=referral&utm_source=ics&utm
 _campaign=ics
END:VEVENT
END:VCALENDAR
