BEGIN:VCALENDAR
VERSION:2.0
PRODID:-//https://techplay.jp//JP
CALSCALE:GREGORIAN
METHOD:PUBLISH
X-WR-CALDESC:【無料】Excelで誰でも簡単にできる！「集計と
 可視化で学ぶデータ分析超入門」-今日から使える“伝
 わる資料作成術”-
X-WR-CALNAME:【無料】Excelで誰でも簡単にできる！「集計と
 可視化で学ぶデータ分析超入門」-今日から使える“伝
 わる資料作成術”-
X-WR-TIMEZONE:Asia/Tokyo
BEGIN:VTIMEZONE
TZID:Asia/Tokyo
BEGIN:STANDARD
DTSTART:19700101T000000
TZOFFSETFROM:+0900
TZOFFSETTO:+0900
TZNAME:JST
END:STANDARD
END:VTIMEZONE
BEGIN:VEVENT
UID:994239@techplay.jp
SUMMARY:【無料】Excelで誰でも簡単にできる！「集計と可
 視化で学ぶデータ分析超入門」-今日から使える“伝わ
 る資料作成術”-
DTSTART;TZID=Asia/Tokyo:20260422T190000
DTEND;TZID=Asia/Tokyo:20260422T200000
DTSTAMP:20260422T100435Z
CREATED:20260401T072202Z
DESCRIPTION:イベント詳細はこちら\nhttps://techplay.jp/event/99423
 9?utm_medium=referral&utm_source=ics&utm_campaign=ics\n\n■データ分
 析の第一歩は、「難しい数式」ではなく「見える化」
 から\n統計学ブームが起きて数年。いまや多くの企業
 がデータ分析を活用し、ビジネスの意思決定に役立て
 ています。その一方で、「高度な分析手法が増えすぎ
 て、何から学べばいいかわからない」という声も少な
 くありません。データ分析に魔法の公式は存在しませ
 ん。どんなに高度な手法を使っても、正しい考え方が
 伴わなければ成果にはつながらないのです。むしろ、
 シンプルな分析こそが最も強力な武器になることもあ
 ります。その基本といえるのが「集計と可視化」。数
 字を整理し、グラフなどで“見える化”することが、
 すべての分析の出発点です。\n■視覚的にとらえ、論
 理的に考える力を身につける\nどんなデータ分析にも
 重要なのは集計と可視化。これは単なる基礎ではなく
 、「問題を正しく理解する力」を育てる重要なプロセ
 スです。この段階をおろそかにすると、どんなに複雑
 な統計モデルを使っても、誤った結論に導かれる危険
 があります。一方で、正しく“見える化”できれば、
 データの背景が自然と浮かび上がり、人に伝わる説得
 力あるアウトプットへと変わります。人間は“目で理
 解する生き物”です。だからこそ、分析の最初の一歩
 こそ「ビジュアルで理解する力」が重要なのです。\n
 ■難しい数学は不要。誰でも今日から始められるデー
 タ分析\n本セミナーでは、これからデータ分析を始め
 たい方を対象に、「集計と可視化」で何ができるのか
 、なぜそれが重要なのかをやさしく解説します。高度
 な統計手法や数式は一切使わず、Excelなど身近なツー
 ルで実践的に学べる内容です。文系の方、数字が苦手
 な方、統計初心者の方でも安心してご参加ください。
 “難しそう”という先入観を超えて、データを「見え
 る化」して考える力を身につけましょう。\nセミナー
 概要\n・データ分析で効果が出ない理由・分析を行う
 上で必ずするべきこと・集計と可視化からデータを把
 握する・Excel上で集計と可視化を行う\n対象者\n・簡単
 な統計学を仕事に活かしたい方・集計と可視化を使っ
 てデータ分析をする必要がある方・数学が苦手だけど
 統計に興味がある方・仕事でEXCELを使い、統計も使い
 たい方\n講師紹介\n岡本　健太郎（おかもと　けんたろ
 う）\n\n〈経歴〉数理学博士（九州大学）\n国立研究開
 発法人科学技術振興機構 研究開発戦略センター 特任
 フェロー（2021~2022）九州大学で数理学の博士号を取得
 した切り絵アーティスト。ドイツのチュービンゲン大
 学に研究員として滞在経験あり。元日本学術振興会特
 別研究員。統計・数学教育にも力を入れており、学生
 から社会人まで、わかり易く授業を展開。指導可能範
 囲は中学・高校数学から、大学の教養・専門分野、デ
 ータ分析まで幅広く対応。また「数学」を使ったアー
 ト活動（切り絵）を通して、数学の有用性だけでなく
 美しさや魅力について積極的に発信。和から初の「数
 学とアート」に関するセミナーも実施。\n※講師は予
 告なく変更することがございますのでご承知おきくだ
 さい。\n■用意するもの\nzoomを用いてセミナーを行い
 ますので、ブラウザが利用できるPCやタブレットなど
 の環境をご用意ください。\nご参加にあたって（必ず
 ご確認ください）\n■開催当日は、以下の手順でご入
 場いただけます。1. メニューよりマイページの「参加
 申込イベント」を選択2. 本セミナーの「詳細ページへ
 」を選択3. セミナー詳細ページの「オンライン配信情
 報」にある【配信ページを表示】ボタンを押すとzoomの
 会場ページに繋がります。\n■開場は開催の約5分前と
 なります。それ以前のご入場はお控え下さい。■開催
 当日の電話対応はできかねます。お問合せはメール、
 もしくはお問合せフォームよりお願い致します。■iPad
 等タブレットの使用は一部機能が制限される場合がご
 ざいます。パソコン端末でのご参加を推奨いたします
 。
LOCATION:
URL:https://techplay.jp/event/994239?utm_medium=referral&utm_source=ics&utm
 _campaign=ics
END:VEVENT
END:VCALENDAR
