BEGIN:VCALENDAR
VERSION:2.0
PRODID:-//https://techplay.jp//JP
CALSCALE:GREGORIAN
METHOD:PUBLISH
X-WR-CALDESC:クラウド MySQL 8.0 EOL、アップグレードにどう備
 えるべきか～ IT責任者・管理者が押さえたい非互換性
 ・性能悪化・移行リスク ～
X-WR-CALNAME:クラウド MySQL 8.0 EOL、アップグレードにどう備
 えるべきか～ IT責任者・管理者が押さえたい非互換性
 ・性能悪化・移行リスク ～
X-WR-TIMEZONE:Asia/Tokyo
BEGIN:VTIMEZONE
TZID:Asia/Tokyo
BEGIN:STANDARD
DTSTART:19700101T000000
TZOFFSETFROM:+0900
TZOFFSETTO:+0900
TZNAME:JST
END:STANDARD
END:VTIMEZONE
BEGIN:VEVENT
UID:994319@techplay.jp
SUMMARY:クラウド MySQL 8.0 EOL、アップグレードにどう備え
 るべきか～ IT責任者・管理者が押さえたい非互換性・
 性能悪化・移行リスク ～
DTSTART;TZID=Asia/Tokyo:20260423T140000
DTEND;TZID=Asia/Tokyo:20260423T150000
DTSTAMP:20260425T021431Z
CREATED:20260403T003736Z
DESCRIPTION:イベント詳細はこちら\nhttps://techplay.jp/event/99431
 9?utm_medium=referral&utm_source=ics&utm_campaign=ics\n\nクラウド MyS
 QL 8.0 EOL、アップグレードにどう備えるべきか～ IT責任
 者・管理者が押さえたい非互換性・性能悪化・移行リ
 スク ～\n本セミナーはWebセミナーです。ツールはzoomを
 使います。URLは直前にメールにてご連絡いたします。\
 nMySQL 8.0のサポート終了、自社の対応方針は正しく把握
 できていますか？\n2026年4月、MySQL 8.0のサポートが終了
 （EOL）します。IT部門では既に対応検討が始まってい
 るかもしれませんが、「担当者に任せている」状態で
 本当に大丈夫でしょうか。\nアップグレード対応は、
 方式の選択・非互換性の確認・性能劣化リスクの把握
 など、現場担当者だけでは判断しきれない問題が数多
 く発生します。対応方針の妥当性を確認・承認できる
 立場の方が、技術的な勘所を押さえておくことが、ト
 ラブルを未然に防ぐうえで不可欠です。\nIT責任者・管
 理者として、何をどのタイミングで判断すべきか。 本
 セミナーはその視点を整理することを目的としていま
 す。\nなぜ今、IT管理者がアップグレードの中身を把握
 する必要があるのか\nMySQL 8.0 EOL対応では、移行方針の
 策定から実作業の体制づくりまで、IT責任者が主導し
 て判断すべき場面が数多く発生します。\n\n移行方式の
 選定と承認：インプレースアップグレード、論理移行
 、クラウドマネージドサービスへの移行など、方式に
 よってリスクと工数が大きく異なり、最終的な方針決
 定はIT責任者の役割となる\n内製か外注かの判断：自社
 エンジニアで対応できる範囲と、外部ベンダーへ委託
 すべき範囲の切り分けが必要\n非互換性リスクの把握
 ：バージョン間の仕様変更による既存アプリケーショ
 ンへの影響を、正しく評価できる知識が求められる\n
 性能劣化への事前対策：アップグレード後に発生しう
 る性能劣化のパターンを理解し、対策を計画に組み込
 めているかを確認する\nロールバック計画の承認：問
 題発生時に切り戻せる体制が整っているかを、責任者
 として確認・承認する\n\nこれらの判断が曖昧なまま進
 めると、移行後のトラブル対応に多大なコストと時間
 を要することになります。\n本セミナーで得られる視
 点\n本セミナーでは、DBaaS環境（Amazon RDS / Aurora / Google C
 loud SQL）におけるMySQL 8.0 EOL対応を題材に、IT責任者・
 管理者が押さえるべきポイントを実務目線で解説しま
 す。主な内容は以下のとおりです。\n\nMySQL 8.0 EOLが自
 社環境に与える影響と、対応を急ぐべき理由\nDBaaS各社
 （RDS / Aurora / Cloud SQL）のサポート期限と対応の違い\n
 主要なアップグレード方式の比較と、自社に合った選
 択の考え方\nバージョン間の非互換性：見落としがち
 なポイントと確認方法\nアップグレードに伴う性能劣
 化の具体例と事前対策\n確実なロールバック計画の立
 て方\n\nIT責任者として正しく関与・判断するための視
 点を持ち帰っていただける内容です。\nこんな方にお
 すすめです\n\n移行後のトラブルリスクを最小化したい
 立場で、対応方針の妥当性を確認したい方MySQL 8.0 EOL対
 応、DBaaS環境で押さえるべき影響とリスク\n自社のMySQL 
 EOL対応状況は把握しているが、アップグレードのリス
 クや方式の詳細が見えていないIT責任者・部門管理者
 の方\n担当者から「MySQL EOL対応が必要」と報告を受け
 ているが、何をどう判断・承認すべきか分からない方\
 nアップグレード計画のレビューや意思決定を求められ
 ているが、技術的な勘所を整理したいIT管理者の方\n\n
 開催情報\n\n\n\n項目\n内容\n\n\n\n\n日時\n2026年4月23日（
 木）14:00-15:00　※最大60分（予定）としております。　
 講義内容によっては開催時間が短くなる場合がありま
 す。\n\n\n会場\nオンライン配信　Zoom\n\n\n定員\n10名\n\n\n
 参加費\n無料\n\n\n参加申込み締切り\n各セミナーの開催
 前日12:00\n\n\n主催\n株式会社パソナデータ＆デザイン（
 旧スマートスタイル）\n\n\n\n\n\n\n\n免責事項\n※以下の
 方について、当社判断によりご参加をご遠慮頂く場合
 がございます。予めご了承下さい。\n・講演企業の競
 合となる商品・サービスを提供している企業、同業の
 企業、及びそのグループ企業・関連企業の方・個人や
 個人事業主の方・海外から参加される方・日本に活動
 拠点が無い企業の方・その他、弊社及び講演企業が不
 適切と判断した企業・個人の方※申込が多数の場合、
 弊社抽選にてご参加をご遠慮頂く場合がございますの
 で、予めご了承ください。\n\n本セミナーはWebセミナー
 です※視聴方法について：開催日前までに別途専用URL
 をお送りいたします。※メールが届かないなどのお問
 合せ・ご不明点やキャンセルなどは、セミナー運営事
 務局へご連絡ください。\n\nお問合せ\nパソナデータ＆
 デザインセミナー運営事務局 marketing@s-style.co.jp
LOCATION:
URL:https://techplay.jp/event/994319?utm_medium=referral&utm_source=ics&utm
 _campaign=ics
END:VEVENT
END:VCALENDAR
