BEGIN:VCALENDAR
VERSION:2.0
PRODID:-//https://techplay.jp//JP
CALSCALE:GREGORIAN
METHOD:PUBLISH
X-WR-CALDESC:第５回　Tableau自治体ユーザー会　in広島
X-WR-CALNAME:第５回　Tableau自治体ユーザー会　in広島
X-WR-TIMEZONE:Asia/Tokyo
BEGIN:VTIMEZONE
TZID:Asia/Tokyo
BEGIN:STANDARD
DTSTART:19700101T000000
TZOFFSETFROM:+0900
TZOFFSETTO:+0900
TZNAME:JST
END:STANDARD
END:VTIMEZONE
BEGIN:VEVENT
UID:994495@techplay.jp
SUMMARY:第５回　Tableau自治体ユーザー会　in広島
DTSTART;TZID=Asia/Tokyo:20260522T140000
DTEND;TZID=Asia/Tokyo:20260522T160000
DTSTAMP:20260425T194916Z
CREATED:20260408T044715Z
DESCRIPTION:イベント詳細はこちら\nhttps://techplay.jp/event/99449
 5?utm_medium=referral&utm_source=ics&utm_campaign=ics\n\nTableau自治体
 ユーザー会in広島、開催決定！\n概要\n広島県では初開
 催となる Tableau自治体ユーザー会です。Tableauを使って
 いる、または導入を検討している自治体・官公庁の方
 々が集い、データ活用やEBPM（エビデンスに基づく政策
 立案）の推進に向けて、現場の知見やスキルを共有し
 ていきます。\n県内組織に限らず、全国の自治体・公
 共機関・関係者の参加も大歓迎。現地での参加に加え
 、オンラインでもご参加いただけます。\nまだTableauを
 触ったことがない方や、「BIツールはよくわからない
 けれど、データ活用を進めてみたい」という方も気軽
 にご参加ください。\n会場（オンラインでも参加可能
 ）\n〒730-0053 広島市中区東千田町一丁目1番89号広島大
 学　東千田キャンパス　地域連携フロアSENDA LAB※「東
 千田キャンパス」ですので、お間違えの無いように！\
 n●交通アクセスマップhttps://www.hiroshima-u.ac.jp/access/senda
 \n●キャンパス内マップ（地域連携フロアSENDA LAB）https
 ://www.hiroshima-u.ac.jp/iagcc/ccc/sendalab\nタイムスケジュール\
 n\n\n\n時間\n内容\n\n\n\n\n13:30〜\n現地受付開始\n\n\n14:00〜
 \nオープニング\n\n\n14:10〜14:25\n取組紹介廿日市市\n\n\n14
 :30〜14:50\n取組紹介呉市\n\n\n15:00～15:20\ncoming soon\n\n\n時
 間調整中\nデータ活用つまづき事例集目黒区（東京都
 ）\n\n\n15:25〜15:55\n取組紹介＆パネルディスカッション
 　　　　　　　　　　　　　　　　　　　　　　　　
 　　広島県目黒区ほか参加自治体\n\n\n16:00\nクロージン
 グ延長戦：質問・交流会　※現地のみ\n\n\n\n※ 当日予
 告なく時間配分・内容が変更になる可能性がございま
 す。\n登壇予定自治体\n廿日市市\n呉市\n広島県\nほか、
 県外自治体も含め調整中！\n【モデレーター】\n武山 
 大輔\n目黒区 企画経営課データ利活用推進担当係長\n
 自治体職員として基幹系住民システムの運用に携わっ
 たのち、民間企業でのITエンジニア、マーケティング
 リサーチ・データ分析業務の経験を経て、2022年から現
 職。\nTableauを活用したデータダッシュボード作成、デ
 ータ加工を通じたDX推進・業務改善、EBPMに関する職員
 研修、アンケート調査のプランニング、生成AIの業務
 活用検討まで、データ活用全般に幅広く携わっている
 。\nTableauは使い始めて3年ほど。2024年にDATA Saber認定。\
 n自治体AI活用マガジン（note）※では、ChatGPTの業務利
 用についての情報発信を行っている。\n\n※目黒区note
 　　https://note.com/meguro_city\n参加対象\n\n自治体・官公庁
 職員の方\n公共団体職員の方\n\n参加費\n無料\n注意事項
 \n\nリクルーティング、勧誘など、採用目的でのイベン
 ト参加はお断りしております。\nキャンセル待ち・補
 欠・落選の方はご参加いただくことが出来ませんので
 ご了承ください。\n欠席される場合は、お手数ですが
 速やかにキャンセル処理をお願い致します。\n無断キ
 ャンセルや欠席が続く場合、次回以降の参加をお断り
 させていただく場合がございます。\n
LOCATION:広島大学 東千田キャンパス 広島県広島市中区東
 千田町１丁目１−８９
URL:https://techplay.jp/event/994495?utm_medium=referral&utm_source=ics&utm
 _campaign=ics
END:VEVENT
END:VCALENDAR
