BEGIN:VCALENDAR
VERSION:2.0
PRODID:-//https://techplay.jp//JP
CALSCALE:GREGORIAN
METHOD:PUBLISH
X-WR-CALDESC:JavaScript講座【レベル3:実践編】～非同期・API
 ・UI表現・クラス設計をまとめて極める
X-WR-CALNAME:JavaScript講座【レベル3:実践編】～非同期・API
 ・UI表現・クラス設計をまとめて極める
X-WR-TIMEZONE:Asia/Tokyo
BEGIN:VTIMEZONE
TZID:Asia/Tokyo
BEGIN:STANDARD
DTSTART:19700101T000000
TZOFFSETFROM:+0900
TZOFFSETTO:+0900
TZNAME:JST
END:STANDARD
END:VTIMEZONE
BEGIN:VEVENT
UID:994497@techplay.jp
SUMMARY:JavaScript講座【レベル3:実践編】～非同期・API・UI
 表現・クラス設計をまとめて極める
DTSTART;TZID=Asia/Tokyo:20260512T190000
DTEND;TZID=Asia/Tokyo:20260512T200000
DTSTAMP:20260420T110500Z
CREATED:20260408T050559Z
DESCRIPTION:イベント詳細はこちら\nhttps://techplay.jp/event/99449
 7?utm_medium=referral&utm_source=ics&utm_campaign=ics\n\nJavaScript講座
 【レベル3:実践編】～非同期・API・UI表現・クラス設計
 をまとめて極める\n＞＞詳細およびお申込は、当社Web
 サイトからご確認ください。\nクリーク･アンド･リ
 バー社（C&R社）では、2026年5月12日（火）より全4回で
 、JavaScriptの実務スキルを一気に引き上げる「レベル3
 ：実践編」を実施します。\nJavaScript講座の最終ステッ
 プとなる【レベル3:実践編】では、非同期処理・API連
 携・UIの動き・クラス設計といった“実務そのもの”
 の技術を総合的に学びます。\nPromise / async-await を使っ
 たデータ取得、Fetch API を用いた外部APIの読み込み、try
 -catch を使ったエラー処理の組み立てなど、アプリ開発
 で必須となる基盤をしっかり身につけます。\nさらに
 、タイマー・要素サイズの取得・アニメーションなど 
 UI の表現力を高める技術や、npm によるライブラリ導入
 も体験し、モダンなJavaScript開発の流れを理解します。
 \n最終回では class（クラス）を使ったオブジェクト指
 向の基本設計に触れ、“コードを整理して扱えるエン
 ジニア的思考” を身につけます。\n▼予定しているカ
 リキュラム\n【1回目】非同期（Promise/then/catch）／Fetch
 の基本／Networkの見方（5月12日（火）19:00～21:00）\n\n同
 期/非同期の感覚、Promiseの概念\nサーバーとの連携\nfetc
 h → Response → json()\nthen/catch とエラーハンドリング\nDev
 Tools Networkで確認（ステータス、レスポンス）\n\n【2回
 目】async/await／try-catch／データ展開（5月19日（火）19:00
 ～21:00）\n\nasync/awaitの使い方、書き方\ntry/catch、throw、f
 inally\nデータ展開の方法\n配列操作との組み合わせ、並
 び替え処理\nnull\,undefined安全の処理\n\n【3回目】UI表現
 の強化（タイマー／サイズ取得／Transition）＋ライブラ
 リ導入（5月26日（火）19:00～21:00）\n\nsetTimeout/setInterval
 、クリア\n要素サイズ取得（getBoundinClientRect）、画面サ
 イズ（innerWidth）\ntransitionとclass切替の組み合わせ\nラ
 イブラリを使うメリット／npmとは／導入の流れ\n\n【4
 回目】オブジェクト指向（class）／コンストラクタ／
 継承（6月2日（火）19:00～21:00）\n\nクラスとは何か\nclas
 s、constructor、インスタンス、メソッド\n“なぜclass？”
 ：データと処理をまとめる、責務の境界\n継承の紹介
 と方法\n\n▼お申込み前にご確認ください\n※当オンラ
 イン講座の対象・レベル・環境などの注意点です。ご
 確認の上お申し込みください。\n\nHTML、CSSの基礎知識
 があることを前提に講義を進めます。\nJavaScrip基礎編
 の続編にあたる内容です。JavaScriptについても基礎レベ
 ルを理解されていることを前提に講義を進めます\nご
 自宅にインターネット環境があること\nVisualStudioCode時
 点最新版と機能拡張・GoogleChromeがインストールされて
 いるパソコンがあること\n（PCは、Windows10以上、macOS バ
 ージョン11以上が推奨です）\n講義で作成したプログラ
 ムは復習用に配布します。\nアーカイブの配信はござ
 いませんので予めご了承ください。\n\n▼こんな方にオ
 ススメ！\n\nJavaScriptで API連携や非同期処理を扱えるよ
 うになりたい\nUIの動きをコントロールして表現力を高
 めたい\nライブラリやnpmなど 実務に近いツールを触っ
 てみたい\nclass を使った 設計・整理の考え方を理解し
 たい\n\n登壇者\n関口 和真（せきぐち・かずま）氏\n株
 式会社コムセント取締役 CTO\nサイトデザイン、HTMLのコ
 ーディング、JavaScript・PHP等を利用したプログラム開発
 、iOS・Android向けアプリの作成、ウェブサーバーの実装
 、運用などトータルでウェブサイトの作成を行う。テ
 クノロジーを理解し、デザインやコーディング、サー
 バー運用やサービス運用のアドバイスをトータルで行
 える点が強み。\n株式会社コムセント(Web制作会社)のCTO
 としてWebサイト作成、システム開発及びプログラム開
 発に従事。ECサイトのカスタマイズ、フルスクラッチ
 によるWebシステム開発、映像配信システムや映像配信
 、配信用スマートフォンアプリ作成を主に手がける。\
 n大学・専門学校にて、Web制作の授業を担当（非常勤）
 。イベントやセミナーの登壇経験も豊富。 Dreamweaver等
 の著書も。\n\n参加費\n無料\nお申込み\nこちらのサイト
 からお申込みください。\n▼お申込締切：2026年5月12日
 （火）21:00\n\n▼C&R社で実施しているオンライン講座・
 ウェビナー　一覧ページhttps://www.c-place.ne.jp/
LOCATION:
URL:https://techplay.jp/event/994497?utm_medium=referral&utm_source=ics&utm
 _campaign=ics
END:VEVENT
END:VCALENDAR
