BEGIN:VCALENDAR
VERSION:2.0
PRODID:-//https://techplay.jp//JP
CALSCALE:GREGORIAN
METHOD:PUBLISH
X-WR-CALDESC:マーケティング交流会【大阪・本町】2026年6月
 25日 - 広報\,商品戦略\,データアナリスト\,SNSマーケタ
 ーなどが集まる交流イベント
X-WR-CALNAME:マーケティング交流会【大阪・本町】2026年6月
 25日 - 広報\,商品戦略\,データアナリスト\,SNSマーケタ
 ーなどが集まる交流イベント
X-WR-TIMEZONE:Asia/Tokyo
BEGIN:VTIMEZONE
TZID:Asia/Tokyo
BEGIN:STANDARD
DTSTART:19700101T000000
TZOFFSETFROM:+0900
TZOFFSETTO:+0900
TZNAME:JST
END:STANDARD
END:VTIMEZONE
BEGIN:VEVENT
UID:994514@techplay.jp
SUMMARY:マーケティング交流会【大阪・本町】2026年6月25日
  - 広報\,商品戦略\,データアナリスト\,SNSマーケターな
 どが集まる交流イベント
DTSTART;TZID=Asia/Tokyo:20260625T190000
DTEND;TZID=Asia/Tokyo:20260625T203000
DTSTAMP:20260423T131457Z
CREATED:20260408T110504Z
DESCRIPTION:イベント詳細はこちら\nhttps://techplay.jp/event/99451
 4?utm_medium=referral&utm_source=ics&utm_campaign=ics\n\n広報\,商品
 戦略\,データアナリスト\,SNSマーケティングなどに携わ
 る方が集まるビジネス交流会を大阪・本町で開催しま
 す。\n企業でマーケティング関連の業務（広報\,商品戦
 略\,データアナリスト\,SNSマーケティングなど）を担当
 している方や、広告代理店・マーケティング企業・PR
 会社等で働く方の人脈形成・情報交換に、本イベント
 をお役立てください！\n【概要】\n\n立席スタイルでご
 歓談\n服装自由\n定員制（会場により15〜30名）\n荷物を
 置くスペースはありますがロッカーはありません\n会
 場内で貴重品はご携帯ください\n他の参加者のご迷惑
 になる勧誘行為等はお控えください\n\n【開催日時】202
 6年6月25日(木)　19:00〜20:30※5分前からご入場いただけ
 ます\n【会場】大阪府大阪市中央区瓦町4丁目4番7号 お
 おきに御堂筋瓦町ビル2階おおきに会議室 中会議室・
 地下鉄御堂筋線 本町駅（2号出口）から徒歩3分・地下
 鉄四つ橋線 本町駅（25号出口）から徒歩8分\n※ご来場
 時間に関するご案内当会場の正面入口は20時に施錠さ
 れます。20時以降にご来場予定の方は、お手数ですが
 会場裏手の通用口までお回りください。なお、通用口
 は外側から開錠できないため、到着予定時刻を本サイ
 ト経由にて事前にお知らせください。スタッフが通用
 口までお迎えにまいります。\n【参加費用】3\,000円(税
 込)お支払い方法：現金、PayPay(いずれも当日受付にて)
 ※領収書を発行いたします\n【持ち物】お名刺（枚数
 に余裕をもってご準備ください）※ 受付にて1枚ご提
 出いただきます\n【ご対象者】マーケティング関連の
 業務に携わっている方例：デジタルマーケター、Webマ
 ーケター、SNSマーケター、オフラインマーケター、コ
 ンテンツマーケター、マーケティングリサーチャー、
 データアナリスト、プロダクトマネージャー、広告・
 宣伝、広報、PR、商品企画、商品戦略、販売促進、マ
 ーチャンダイザー など\n本交流会では参加者を「マー
 ケティング関連の業務に携わっている方」に限定して
 おります。なお、個人・法人は問いません。\nこのよ
 うなニーズをお持ちの方に！\n\n他社のマーケティング
 担当者と話してみたい\n企業・業種の垣根を超えて、
 マーケター同士で情報交換がしたい\n他社の同業者と
 交流することで、仕事のモチベーションを上げたい\n
 仕事の話で盛り上がれる同業の友達が欲しい\n同じ業
 界の先輩に、今後のキャリアを相談したい\n協業でき
 るビジネスパートナーを探している\n\n【過去に開催し
 た交流会の様子】 【禁止事項】参加者の皆様に安心
 してご参加いただくために、下記を行っている方等の
 ご参加および下記の行為等をお断りしております。詳
 細は、Doomo公式サイトの「禁止事項」をご確認くださ
 い。\n・ネットワークビジネス、マルチ商法、金融投
 資などの勧誘・類似の交流会の勧誘・その他、お相手
 の迷惑となる営業、勧誘等\nもし上記のような行為に
 あった方は、運営までご一報をお願いいたします。健
 全で円滑なビジネス交流が育まれるよう、ご協力いた
 だけると幸いです。
LOCATION:おおきに会議室 中会議室 大阪市中央区瓦町4丁目
 4番7号 おおきに御堂筋瓦町ビル2階
URL:https://techplay.jp/event/994514?utm_medium=referral&utm_source=ics&utm
 _campaign=ics
END:VEVENT
END:VCALENDAR
