BEGIN:VCALENDAR
VERSION:2.0
PRODID:-//https://techplay.jp//JP
CALSCALE:GREGORIAN
METHOD:PUBLISH
X-WR-CALDESC:【GW前開催！】CREEKSコワーキング無料体験&見
 学DAY #14
X-WR-CALNAME:【GW前開催！】CREEKSコワーキング無料体験&見
 学DAY #14
X-WR-TIMEZONE:Asia/Tokyo
BEGIN:VTIMEZONE
TZID:Asia/Tokyo
BEGIN:STANDARD
DTSTART:19700101T000000
TZOFFSETFROM:+0900
TZOFFSETTO:+0900
TZNAME:JST
END:STANDARD
END:VTIMEZONE
BEGIN:VEVENT
UID:994562@techplay.jp
SUMMARY:【GW前開催！】CREEKSコワーキング無料体験&見学DAY 
 #14
DTSTART;TZID=Asia/Tokyo:20260501T130000
DTEND;TZID=Asia/Tokyo:20260501T200000
DTSTAMP:20260420T110224Z
CREATED:20260409T060145Z
DESCRIPTION:イベント詳細はこちら\nhttps://techplay.jp/event/99456
 2?utm_medium=referral&utm_source=ics&utm_campaign=ics\n\n集中できる
 場所を体験！CREEKSコワーキングスペース無料体験DAY\n\n
 いよいよ、新生活が始まる方も多いのではないですか
 ？\nそんな方に環境を変える大チャンス！！\nCREEKSのコ
 ワーキングでは、快適な環境のなかで仕事・作業を加
 速させましょう✨\n\nまた、毎回参加者の方向けに特典
 もご用意しております！\n実際にスペースを1日利用す
 ることができますよ〜！\n皆さまにお会いできること
 を楽しみにしております。\n\n〜こんな人におすすめ〜
 \n▼フリーランス・リモートワークで働く場所を探し
 ている\n▼2拠点生活のベースを見つけたい\n▼いつも
 と異なる環境で作業がしたい\n\n《体験内容》\n・施設
 案内・設備紹介\n・コワーキングスペース利用（20時ま
 で）\n・ビジネス相談会（希望者のみ）\n\n\n\n《開催概
 要》\n日　時：5月1日(金) ①13:00〜15:00／②18:00〜20:00\n
 ※①と②の内容は同一です。\n場　所：CREEKS NAGANO 2F\n
 （長野市西後町町並1583リプロ表参道）※長野駅から徒
 歩11分\n主催：CREEKS NAGANO
LOCATION:CREEKS NAGANO 2F 長野県長野市西後町町並1583リプロ表
 参道
URL:https://techplay.jp/event/994562?utm_medium=referral&utm_source=ics&utm
 _campaign=ics
END:VEVENT
END:VCALENDAR
