BEGIN:VCALENDAR
VERSION:2.0
PRODID:-//https://techplay.jp//JP
CALSCALE:GREGORIAN
METHOD:PUBLISH
X-WR-CALDESC:NuWave vol.1「Backlog導入前後で、組織はどう変わ
 ったのか？ツール導入“その後”の効果と、次の未来
 」
X-WR-CALNAME:NuWave vol.1「Backlog導入前後で、組織はどう変わ
 ったのか？ツール導入“その後”の効果と、次の未来
 」
X-WR-TIMEZONE:Asia/Tokyo
BEGIN:VTIMEZONE
TZID:Asia/Tokyo
BEGIN:STANDARD
DTSTART:19700101T000000
TZOFFSETFROM:+0900
TZOFFSETTO:+0900
TZNAME:JST
END:STANDARD
END:VTIMEZONE
BEGIN:VEVENT
UID:994607@techplay.jp
SUMMARY:NuWave vol.1「Backlog導入前後で、組織はどう変わった
 のか？ツール導入“その後”の効果と、次の未来」
DTSTART;TZID=Asia/Tokyo:20260520T190000
DTEND;TZID=Asia/Tokyo:20260520T210000
DTSTAMP:20260419T201837Z
CREATED:20260410T060156Z
DESCRIPTION:イベント詳細はこちら\nhttps://techplay.jp/event/99460
 7?utm_medium=referral&utm_source=ics&utm_campaign=ics\n\n\n  イベント
 概要\n\n\nNuWave（ヌーウェイブ）は、ヌーラボ製品（Back
 log / Cacoo / Nulab Pass）の導入推進担当者・責任者の皆様
 を対象としたコミュニティです。\n\n「ツールをどのよ
 うに社内へ浸透させるか」「どうすれば活用が加速す
 るか」をメインテーマに、実践的な知見や悩みを共有
 し、皆様の「導入・定着・活用」を支援します。チー
 ム全体でより良い働き方を実現するためのヒントを得
 る場としてぜひご活用ください。\n\n今回は、「Backlog
 導入前後で、組織はどう変わったのか？ツール導入“
 その後”の効果と、次の未来」をテーマに、2名のユー
 ザー様にご登壇いただきます。\n\n本イベントでは、Bac
 klog導入前後で組織に起きた変化を軸に、導入推進担当
 者が直面した悩みや課題、それをどのように乗り越え
 、現場へ定着させてきたのかを実体験をもとに共有い
 ただきます。\nさらにその延長線上として、Backlog AI ア
 シスタントがもたらす「次の働き方」や「チームの未
 来」を、ユーザー視点のリアルな事例とともに描いて
 いきます。\n\n\n  日時：2026年5月20日（水）19:00-21:00\n  \
 n    場所：\n    \n      株式会社ヌーラボ 東京事務所\n   
  \n    〒105-0012 東京都港区芝大門2-1-16 ＋SHIFT SHIBADAIMON B1
 F\n  \n  主催：株式会社ヌーラボ\n  参加方法：このDoorke
 eperページから事前申込\n\n\n\n こんな方におすすめ\n\n\n
 \nチーム全体のタスク管理をより円滑に進めたい\nBacklo
 gやCacooをチームや他部門へ展開・定着させたい\n他社
 の導入事例や、現場のリアルな工夫を知りたい方\n同
 じ立場にある他社の担当者と、悩みやTipsを情報交換し
 たい\n最新機能が自社の業務にどう役立つのか、具体
 的な活用イメージを知りたい\n\n\n\n  \n    「NuWave」に込
 めた想い\n  \n  NulabとNewWaveをかけています。新しい波
 （Wave）を起こし、変化を楽しみながら成長していくコ
 ミュニティを目指しています。組織にツールを浸透さ
 せることは、決して簡単ではありません。時には抵抗
 に遭い、思うように進まないこともあります。でも、
 一人ひとりの小さなアクションが「波」となり、やが
 てチーム全体、組織全体へと広がっていく——そんな
 変化の起点となる場所でありたいと考えています。\n\n
 \n\n\n\n  タイムテーブル\n\n\n\n\n  \n    \n      \n        時間
 \n      \n      \n        内容\n      \n    \n\n    \n      18:30 – 1
 9:00\n      開場・受付\n    \n\n    \n      19:00 – 19:10\n      
 冒頭挨拶・コミュニティの趣旨説明\n    \n\n    \n      19:
 10 – 19:30\n      ユーザー事例セッション①\n    \n\n    \n 
      19:30 – 19:50\n      ユーザー事例セッション②\n    \n\
 n    \n      19:50 – 20:00\n      休憩・ネットワーキング\n  
   \n\n    \n      20:00 – 20:30\n      \n        パネルディスカ
 ッション\n        ・パネルトーク（15分）\n        ・グル
 ープ分け・説明（2分）\n        ・グループワーク（8分
 ）\n        ・グループ毎に発表（10分）\n      \n    \n\n    
 \n      20:30 – 20:40\n      締めの案内・アンケート・集合
 写真\n    \n\n     \n      20:40 – 21:15\n      交流会・ネット
 ワーキング（任意参加）\n    \n  \n\n\n\n\n\n\n  登壇者プ
 ロフィール\n\n\n\n\n\n  \n    東京ガスエンジニアリング
 ソリューションズ株式会社 江川 宇倫\n    \n      （Urin E
 gawa）\n    \n  \n\n  \n\n \n    Backlogを使った、小さな成功
 体験のつくり方\n  \n\n  \n    【登壇者紹介】\n    ENEOS㈱
 にて設備保全エンジニア・DXプロジェクトリードとし
 て工場・本社を経験後、2023年より現職。現在は、製造
 業向けのデジタルソリューションの技術営業として、
 顧客の現場課題整理の支援を担当。また、ソリューシ
 ョン営業のノウハウ開発や浸透企画について計画・実
 行を行い、自組織内の新しい文化醸成と課題解決に取
 り組んでいる。\n  \n\n\n    【セッション概要】\n   組織
 の試行錯誤のスピードをいかに高められるか。熱量は
 あるのに思うように前進感がない、答えのないチャレ
 ンジは不安が尽きず自信が持てない、\nそんな課題を
 持っている方も多いのではないでしょうか？\n今回は
 、東京ガスグループで営業現場に伴走するメンバーが
 新しい事業の推進での取り組みにbacklogを活用した工夫
 を率直に振り返り、\nどのようにチャレンジし、成功
 体験を積み重ねたか、実際の取組みの景色をお届けし
 ます。\n  \n\n\n\n  \n    アイティメディア株式会社 めん
 ふく\n    \n      （Menfuku）\n    \n  \n\n  \n\n \n    Backlog導入
 をきっかけに組織をアップデート、次なる波への展望\
 n  \n\n  \n    【登壇者紹介】\n    アイティメディア株式
 会社 メディア・テクノロジー本部所属。メディアの価
 値向上やユーザー体験の最適化などの事業支援を担当
 。前職では、Webディレクターやメディア運用・開発な
 どを経験。Backlog利用歴は10年以上。現場の泥臭い実務
 から組織の仕組みづくりまで幅広く経験し、ツールを
 活用した社内業務の効率化・定着化を推進している。\
 n  \n\n\n    【セッション概要】\n  ツール導入はゴール
 ではなくスタート。20年使い続けた自社ツールから脱
 却し、組織がどう変わったのか。現状維持バイアスと
 いう摩擦を減らすための半年間のトライアル運用や、A
 PIによるリマインド自動化など、現場の負担を減らす
 ための試行錯誤を振り返ります。放置チケットゼロを
 実現し、自走し始めたチームの今。Backlogを軸とした「
 次なる波」への展望まで、変化をきっかけに組織がア
 ップデートされていく様子を共有します。\n  \n\n\n\n\n\n
   その他\n\n\n\n  注意事項\n\n\n\n  主催者による撮影\n  \n
     \n      会場内では、株式会社ヌーラボによる写真撮
 影が行われる予定です。\n      会場内のお客さまが映
 り込む場合があります。\n    \n    \n      撮影された写
 真は、株式会社ヌーラボによるイベント終了後の広告
 物\n      （Webページ、YouTube、メール、資料など）に掲
 載される場合があります。\n      あらかじめご了承く
 ださい。\n    \n  \n\n\n\n  ご参加にあたってのお願い\n  \
 n    \n      本イベントの趣旨と関係のない迷惑行為、営
 業活動、宣伝行為、採用活動、\n      ならびにネット
 ワーキングのみを目的としたご参加はご遠慮ください
 。\n    \n  \n\n\n\n  個人情報の取り扱いについて\n\n\n\n  
 本イベントに申込ことによって、参加者に関する情報
 が株式会社ヌーラボに提供され、株式会社ヌーラボの\
 n  \n    プライバシーポリシー\n  \n  に基づき取り扱わ
 れることに同意します。\n\n\n\n  行動規範\n\n\n\n  ヌー
 ラボが開催するイベントは\n  \n    Code of Conduct\n  \n  に
 則り運営しています。\n\n\n\n  主催：株式会社ヌーラボ
 \n\n\n\n  \n  \n  \n    株式会社ヌーラボは、福岡に本社を
 おく、\n    コラボレーションツール\n    Backlog /\n    Caco
 o /\n    Nulab Pass\n    を提供する会社です。現在は、国内
 3拠点（福岡・京都・東京）に加え、ニューヨーク、ア
 ムステルダムに海外拠点を持ち、グローバルに展開し
 ています。\n  \n
LOCATION:株式会社ヌーラボ 東京事務所 〒105-0012 東京都港
 区芝大門二丁目1番16号　＋SHIFT SHIBADAIMON　B1F
URL:https://techplay.jp/event/994607?utm_medium=referral&utm_source=ics&utm
 _campaign=ics
END:VEVENT
END:VCALENDAR
