BEGIN:VCALENDAR
VERSION:2.0
PRODID:-//https://techplay.jp//JP
CALSCALE:GREGORIAN
METHOD:PUBLISH
X-WR-CALDESC:AI×クリエイターが創り出す新世界 〜Adobe Firefl
 yを活用してデザイン力を磨く〜
X-WR-CALNAME:AI×クリエイターが創り出す新世界 〜Adobe Firefl
 yを活用してデザイン力を磨く〜
X-WR-TIMEZONE:Asia/Tokyo
BEGIN:VTIMEZONE
TZID:Asia/Tokyo
BEGIN:STANDARD
DTSTART:19700101T000000
TZOFFSETFROM:+0900
TZOFFSETTO:+0900
TZNAME:JST
END:STANDARD
END:VTIMEZONE
BEGIN:VEVENT
UID:994614@techplay.jp
SUMMARY:AI×クリエイターが創り出す新世界 〜Adobe Fireflyを
 活用してデザイン力を磨く〜
DTSTART;TZID=Asia/Tokyo:20260519T200000
DTEND;TZID=Asia/Tokyo:20260519T210000
DTSTAMP:20260421T185928Z
CREATED:20260410T065453Z
DESCRIPTION:イベント詳細はこちら\nhttps://techplay.jp/event/99461
 4?utm_medium=referral&utm_source=ics&utm_campaign=ics\n\n概要\n「AIで
 制作効率が上がる」という話は耳にするけれど、実際
 の業務にどう落とし込めばいいのか、クオリティをど
 う担保すればいいのか。そして、自分のキャリアにど
 う影響するのか——。そんな漠然とした不安や期待を
 抱えていませんか？\n今、クリエイティブの現場は大
 きな転換点を迎えています。Adobe Fireflyをはじめとする
 生成AIの台頭は、単なるツールの進化に留まらず、ク
 リエイターの「役割」そのものを再定義しようとして
 います。\n本ウェビナーでは、世界中のクリエイター
 コミュニティを支えるアドビ社よりエバンジェリスト
 の仲尾毅氏をゲストに迎え、Adobe Fireflyの具体的な活用
 法を業務シナリオ別にご紹介します。AI時代に新たな
 制作スタイルを確立するための実践術と、これからの
 キャリアの描き方について紐解きます。\n【開催日時
 】\n2026年5月19日（火）20：00 ｰ 21：00\n【プログラム】\
 n1. AIが変える、クリエイティブの現場（エイクエント
 ）2. Adobe Creative Cloud と AI（アドビ）\n\nAIを活用してク
 リエイティブの可能性を広げる方法 ・Fireflyの実践的
 な使い方（バナー/モーション/動画作成など）\nFirefly
 とPhotoshop、Illustrator、Premiere Proの連携\nFireflyにおける
 効果的なプロンプトの使い方\n\n3. AI時代におけるキャ
 リアを考える（エイクエント）\n【このような方にお
 すすめ】\n\nデザイナー、マーケター、コンテンツ制作
 者の方々\n日頃からAdobeソフトを活用してクリエイティ
 ブの制作を行っている方々\nクリエイティブ制作業務
 にAIを効果的に取り入れたい方\n\n※こちらのウェビナ
 ーは、クリエイティブ実務経験者向けの内容となりま
 す。\n【スピーカー紹介】\n仲尾毅 | Tsuyoshi Nakao アドビ
 株式会社 Creative Cloud エバンジェリスト上智大学理工学
 部電気電子工学科卒業後、プロビデオシステムエンジ
 ニアとしてキャリアスタート。その後Apple Disability Cente
 r、UMAX、Visio、Microsoft MacBU と、IT系ハード・ソフトベン
 ダーで一貫してプロダクトマーケティング業務に携わ
 る。2012年6月、Adobe 入社 Creative Cloud伝道師として、Ado
 be の最新技術、製品、サービスの訴求と移行促進に従
 事。クリエイティブ&テクノロジーの力で世界が変わる
 と ’マジ’ に信じ、願い、実行することがライフワ
 ーク。木曜夜8時 Creative Cloud 道場 on YouTube Live 開講中 #C
 CDojo　\n王堂波人 | Namito Odo エイクエント・エルエルシ
 ー エージェント香港のカナダ系インターナショナルス
 クールを経て、中央大学卒業。その後リテール業界で
 店舗マネジメントと責任者経験を積む。2022年にエイク
 エントに入社し、クリエイティブ・マーケティング・
 デジタル領域のスペシャリスト派遣・業務委託契約を
 担当。現在は外資系エンタープライズ企業の支援を中
 心に、AI導入が進むクリエイティブ現場の変革を人材
 とキャリアの観点からサポートしている。\n【開催形
 式】\n当日はZoomを使用して接続を行います。お申し込
 みフォーム送信後、登録が完了しましたら参加用URLを
 メールでお送りいたします。\n※競合にあたる企業の
 方のお申込みはお断りさせていただく場合がございま
 す。※ウェビナーの講師や内容は変更になる可能性が
 ございます。あらかじめご了承ください。\n AQUENT エ
 イクエントについて https://aquent.co.jp/\nエイクエントは
 、世界をリードするグローバル・ワークソリューショ
 ン企業です。人材、テクノロジー、サービスなど、企
 業が優位性を維持するために必要とする様々なソリュ
 ーションを提供し、専門性の高い人材紹介や採用CX、
 クリエイティブ戦略からプロジェクトマネジメントま
 で、すべての人にとって、より良い仕事の未来を実現
 します。1997年に日本に進出し、東京、名古屋、大阪、
 福岡にオフィスを構えています。
LOCATION:
URL:https://techplay.jp/event/994614?utm_medium=referral&utm_source=ics&utm
 _campaign=ics
END:VEVENT
END:VCALENDAR
