BEGIN:VCALENDAR
VERSION:2.0
PRODID:-//https://techplay.jp//JP
CALSCALE:GREGORIAN
METHOD:PUBLISH
X-WR-CALDESC:安野さんご登壇！〜エンジニアチームの開発
 体制や技術選定の背景と展望〜
X-WR-CALNAME:安野さんご登壇！〜エンジニアチームの開発
 体制や技術選定の背景と展望〜
X-WR-TIMEZONE:Asia/Tokyo
BEGIN:VTIMEZONE
TZID:Asia/Tokyo
BEGIN:STANDARD
DTSTART:19700101T000000
TZOFFSETFROM:+0900
TZOFFSETTO:+0900
TZNAME:JST
END:STANDARD
END:VTIMEZONE
BEGIN:VEVENT
UID:994616@techplay.jp
SUMMARY:安野さんご登壇！〜エンジニアチームの開発体制
 や技術選定の背景と展望〜
DTSTART;TZID=Asia/Tokyo:20260527T120000
DTEND;TZID=Asia/Tokyo:20260527T130000
DTSTAMP:20260420T110220Z
CREATED:20260410T071746Z
DESCRIPTION:イベント詳細はこちら\nhttps://techplay.jp/event/99461
 6?utm_medium=referral&utm_source=ics&utm_campaign=ics\n\n📝イベント
 概要\n生成AIの進化やデジタル化の加速を背景に、テク
 ノロジーの社会的役割はかつてないほど関心が高まっ
 ています。透明性のある意思決定や多様な声を政策に
 反映する仕組みづくりに対してエンジニアの知見や技
 術が、より良い社会の実現にどのように貢献できるの
 か。その可能性を具体的に感じられる機会が求められ
 ています。その実践の一例が、「テクノロジーによっ
 て民主主義をアップデートする」という挑戦を掲げる
 チームみらいの取り組みです。永田町エンジニアチー
 ムでは、プロダクトのOSS公開やLLMを活用した開発体制
 など、透明性とスピードを両立した開発のあり方を実
 践し、注目を集めています。本イベントでは、チーム
 みらい党首でありエンジニアでもある安野 貴博氏をお
 招きし、「エンジニアリングは今、社会課題に対して
 何ができるのか」 「日本のエンジニアは、社会にどん
 なインパクトを起こせるのか」といった問いについて
 語っていただきます。テクノロジーで社会をより良く
 したいと考えるエンジニアの皆様にとって、スキルや
 キャリアの可能性を広げる機会をお届けします。\n🧑
 ‍💻こんな方におすすめ\n\nソフトウェアエンジニア
 、SE、PMなど、プロダクトの開発に関わっている方\nOSS
 やGovTech\, PoliTechに関心のあるエンジニアの方\n技術を
 通した社会貢献に興味関心のあるエンジニアの方\n\n☑
 ️イベントのゴール\n\nチームみらい 永田町エンジニ
 アチームの開発について知ることができた\nGovTechやPoli
 Techへの関心が持てた\n技術を通した社会貢献をやって
 みようと思えた\n\n🕐タイムテーブル\n\n\n\n時間\nセッ
 ションタイトル\nスピーカー\n\n\n\n\n12:00~12:03\nオープニ
 ング\nFindy運営\n\n\n12:03-12:33\nご講演\n安野さん\n\n\n12:33~
 12:57\nQ&A\n\n\n\n12:57~13:00\nクロージング(バッファ込み)\nFi
 ndy運営\n\n\n\n※セッション内容は変更の可能性があり
 ます、ご了承ください。\n🎁参加方法とプレゼント企
 画\nURLはお申し込みいただいた方へ視聴用リンクをお
 渡ししています。参加後アンケート回答者の中から抽
 選で5名様へ以下の書籍をプレゼント差し上げます。は
 じめる力 \n🎤登壇者\n安野 貴博チームみらい 党首参
 議院議員・AIエンジニア・SF作家参議院議員・チームみ
 らい党首・AIエンジニア・SF作家。開成高校を卒業後、
 東京大学へ進学、松尾研究室出身。外資系コンサルテ
 ィング会社のボストン・コンサルティング・グループ
 を経て、AIチャットボットの株式会社BEDORE（現PKSHA Commu
 nication）、リーガルテックのMNTSQ株式会社を創業（後者
 は共同創業）し、テクノロジーを通じた社会システム
 変革に携わる。2024年に東京都知事選に出馬し15万票獲
 得。2025年5月に「チームみらい」を結党し、参議院選
 挙（比例代表）で初当選、政党要件を満たす2%以上の
 得票率を達成。AIを活用した市民参加を軸に、現場と
 政策をつなぐ活動、双方向型のコミュニケーションを
 実践している。\n\nモデレーター\n山田 裕一朗 (@yuichiro8
 26 )ファインディ株式会社代表取締役同志社大学経済学
 部卒業後、三菱重工業、ボストン・コンサルティング
 ・グループを経て2010年、創業期のレアジョブ入社レア
 ジョブでは執行役員として人事、マーケティング等を
 担当。その後、ファインディ株式会社を創業。\n⚠️
 諸注意\n\n参加用リンクは開催当日、参加確定者にTECH P
 LAY経由で通知します。\nエージェントの方や営業目的
 でのイベントの参加はご遠慮ください。\n性別/性的指
 向/障碍の有無/人種/宗教/年齢/容姿/体格/技術の選択に
 関わりなく、 誰もが気持ちよく参加できるようにご協
 力ください。\n当イベントの内容およびスケジュール
 は、予告なく変更となる場合があります。予めご了承
 ください。\nイベント参加時に入力いただいた情報は
 、以下に基づき扱います。ファインディ株式会社 プラ
 イバシーポリシー\n\n📣主催・運営\nファインディ株式
 会社\n\nIT/Webエンジニアの転職サービス「Findy」 :独自
 のアルゴリズムを用いてエンジニアのスキルを可視化
 し、ハイスキルなエンジニアと企業をマッチングする
 転職サービスです。登録エンジニアは12万人を突破、
 登録企業数は約1\,100社、スタートアップ企業を中心にD
 Xを推進したい大手企業まで幅広い企業に導入していた
 だいております。\nハイスキルなフリーランスエンジ
 ニア紹介サービス「Findy Freelance」 :ハイスキルなフリ
 ーランスエンジニアと企業の業務委託案件のマッチン
 グサービスです。「Findy」同様にGitHubを解析した独自
 アルゴリズムを用いたスキル評価をもとに、単価保証
 の案件を紹介しています。登録エンジニア数は5万人を
 突破し、スタートアップ企業を中心にDXを推進したい
 大手企業まで1\,500社以上に導入いただいております。\
 nエンジニア組織の開発生産性可視化・向上SaaS 「Findy T
 eam+」 :特許取得の独自技術を用いて、GitHub、GitLab、Bitb
 ucket、Backlog、Jiraなどを解析し「Four Keys」や「SPACE」と
 いった指標やフレームワークに基づき、開発のアクテ
 ィビティ・効率・クオリティやエンゲージメントなど
 を多面的に可視化することで、開発生産性・開発者体
 験向上をサポートしています。\n開発ツールのレビュ
 ーサイト「Findy Tools」：開発ツールに特化したレビュ
 ーサイトです。第三者の視点で実際にツールの選定を
 行った企業の生の声を集めることで、ツール選定に関
 する不安を解消し、導入検討に必要な情報を提供しま
 す。\n
LOCATION:
URL:https://techplay.jp/event/994616?utm_medium=referral&utm_source=ics&utm
 _campaign=ics
END:VEVENT
END:VCALENDAR
