BEGIN:VCALENDAR
VERSION:2.0
PRODID:-//https://techplay.jp//JP
CALSCALE:GREGORIAN
METHOD:PUBLISH
X-WR-CALDESC:【動画公開中】分析と実務をシームレスに。
 生成AIで変わる意思決定の精度とは。
X-WR-CALNAME:【動画公開中】分析と実務をシームレスに。
 生成AIで変わる意思決定の精度とは。
X-WR-TIMEZONE:Asia/Tokyo
BEGIN:VTIMEZONE
TZID:Asia/Tokyo
BEGIN:STANDARD
DTSTART:19700101T000000
TZOFFSETFROM:+0900
TZOFFSETTO:+0900
TZNAME:JST
END:STANDARD
END:VTIMEZONE
BEGIN:VEVENT
UID:994652@techplay.jp
SUMMARY:【動画公開中】分析と実務をシームレスに。生成A
 Iで変わる意思決定の精度とは。
DTSTART;TZID=Asia/Tokyo:20260413T120000
DTEND;TZID=Asia/Tokyo:20260420T230000
DTSTAMP:20260419T124359Z
CREATED:20260413T015106Z
DESCRIPTION:イベント詳細はこちら\nhttps://techplay.jp/event/99465
 2?utm_medium=referral&utm_source=ics&utm_campaign=ics\n\n目次\n１．
 詳細\n２．開催概要\n３．スピーカー\n４．プログラム\
 n５．データフォーシーズとは\n６．注意事項\n\n１．詳
 細\n金融・ヘルスケア領域へのマーケティング分析支
 援\n金融・ヘルスケア領域向けに、マーケティング分
 析の支援事例と、その応用可能性についてご紹介いた
 します。生成AIを用いた最新の支援実績を交え、分析
 と業務をシームレスにつなぐ重要性をお伝えします。
 現場の課題に寄り添ったデータ分析支援の在り方を、
 ぜひこの機会にご確認ください。\n\n２．開催概要\n\n
 タイトル：金融・ヘルスケア領域へのマーケティング
 分析支援\n公開期間：絶賛公開中！　 2026年4月20日(月)
 まで\n参加費　：無料 (事前登録制)\n配信形式：配信ウ
 ェビナー（視聴用サイトはお申込者様向けにメールで
 ご案内いたします。）\n\n🌟動画視聴後のアンケート
 回答特典として、内容をまとめた【配布用資料】を差
 し上げております。 ぜひアンケートに回答して、振り
 返りにご活用ください（回答目安：3分程度）。\n\n３
 ．スピーカー\n佐藤 勝義\n（株式会社データフォーシ
 ーズ　ビジネス コンサルティング ユニット　ユニッ
 トディレクター）\n非常勤講師(心理学)を経験し、入社
 後、通信分野や生損保分野でのマーケティング、医療
 ビッグデータ分析等、様々な業界における分析プロジ
 ェクトを実施。直近では、日本屈指の生活雑貨企業に
 おける需要予測・在庫最適化のプロジェクトに従事。
 その他、データ利活用推進のためのトレーニング・研
 修支援や、分析業務のアドバイザー支援等を実施。”
 実際に現場で利用されるデータ分析”を信念に、クラ
 イアントのマーケティング戦略の高度化に寄与してい
 る。\n\n４．プログラム\n・金融・ヘルスケア領域への
 マーケティング分析支援の可能性・事例１　　：需要
 予測・在庫最適・発注計画検討ご支援・事例２ー１：
 リピート購入率分類検討ご支援・事例２ー２：解約予
 測分析検討ご支援・事例２ー３：動線分析検討ご支援
 ・総括\n※ 当日予告なく時間配分・内容が変更になる
 可能性がございます。\n\n５．データフォーシーズとは
 \nD4cグループは2005年の創業以来、「ビジネスを加速す
 る」ことを使命としてクライアント企業を支援する、
 データ解析のスペシャリスト集団です。データに科学
 的な分析と洞察のメスを入れることでデータサイエン
 ティストらによる効果的な企業経営の実現を支援して
 います。https://www.data4cs.co.jp/\n\n６．注意事項\n\n以下の
 方について、弊社判断によりご視聴をご遠慮いただく
 場合がございます。\n\n弊社の競合・同業となるサービ
 スを提供している企業、及び、そのグループ企業・関
 連企業の方\n個人や個人事業主の方\nその他、弊社が不
 適切と判断した企業・個人の方\n\n\n
LOCATION:
URL:https://techplay.jp/event/994652?utm_medium=referral&utm_source=ics&utm
 _campaign=ics
END:VEVENT
END:VCALENDAR
