BEGIN:VCALENDAR
VERSION:2.0
PRODID:-//https://techplay.jp//JP
CALSCALE:GREGORIAN
METHOD:PUBLISH
X-WR-CALDESC:デモンストレーションを見ながら学ぶ AIサー
 ビスが提供するエージェント機能 〜 ChatGPT／Claude／Gemi
 ni／Copilotの違いと導入時の考え方 〜
X-WR-CALNAME:デモンストレーションを見ながら学ぶ AIサー
 ビスが提供するエージェント機能 〜 ChatGPT／Claude／Gemi
 ni／Copilotの違いと導入時の考え方 〜
X-WR-TIMEZONE:Asia/Tokyo
BEGIN:VTIMEZONE
TZID:Asia/Tokyo
BEGIN:STANDARD
DTSTART:19700101T000000
TZOFFSETFROM:+0900
TZOFFSETTO:+0900
TZNAME:JST
END:STANDARD
END:VTIMEZONE
BEGIN:VEVENT
UID:994655@techplay.jp
SUMMARY:デモンストレーションを見ながら学ぶ AIサービス
 が提供するエージェント機能 〜 ChatGPT／Claude／Gemini／C
 opilotの違いと導入時の考え方 〜
DTSTART;TZID=Asia/Tokyo:20260428T190000
DTEND;TZID=Asia/Tokyo:20260428T210000
DTSTAMP:20260424T153919Z
CREATED:20260413T022225Z
DESCRIPTION:イベント詳細はこちら\nhttps://techplay.jp/event/99465
 5?utm_medium=referral&utm_source=ics&utm_campaign=ics\n\nデモンスト
 レーションを見ながら学ぶ AIサービスが提供するエー
 ジェント機能 〜 ChatGPT／Claude／Gemini／Copilotの違いと導
 入時の考え方 〜\n＞＞詳細およびお申込は、当社Webサ
 イトからご確認ください。\nクリーク･アンド･リバ
 ー社（C&R社）では、2026年4月28日（火）に、AIサービス
 が提供するエージェント機能の基礎と実務での考え方
 を学ぶウェビナーを開催します。\n近年のAIは、「質問
 に答えるチャットツール」から、目的を与えると自ら
 考え、調査し、ツールを使いながら作業を進める“エ
 ージェント”へと進化しつつあります。\n本ウェビナ
 ーでは、AIサービスが提供するエージェント機能につ
 いて、チャット型AIとの違いを軸に全体像を整理しま
 す。エージェントの基本的な概念から、AIがどのよう
 な流れで考え、実行に至るのかを確認しながら、ChatGPT
 ／Claude／Gemini／Copilotといった主要サービスの特徴や違
 いを解説します。さらに、実務で活用しやすい場面と
 注意すべき場面を整理し、導入時にどのような設計や
 判断が求められるのかについても解説します。\n当日
 は、講師によるデモンストレーションを通して、実際
 の画面や動作を確認しながら、エージェント機能がど
 のように考え、実行されているのかを解説します。\n
 チャットでの利用と何が違うのか、調査・整理・決ま
 った手順のある業務ではどのように活用できるのか、
 また、人が担うべき判断や承認はどこに残すべきかと
 いった点を、実務の視点から整理していきます。\nさ
 らに、どの情報までAIに渡すのか、外部ツールや操作
 をどこまで許容するのか、そして最終的な責任や判断
 を誰が担うのかといった、エージェント導入時に避け
 て通れない考え方についても触れます。\nAIエージェン
 トを「なんとなく便利そうな新機能」としてではなく
 、業務にどう位置づけ、どう付き合っていくかを理解
 するためのウェビナーです。\n\n▼こんな方におすすめ
 \n\nAIエージェントという言葉は聞いたことがあるが、
 実態がよく分からない方\nChatGPT／Claude／Gemini／Copilotの
 違いを整理したい方\n業務でAIを活用したいが、任せる
 範囲に不安がある方\n導入前に考え方や注意点を一度
 整理しておきたい方\n企画職、ディレクター、プロジ
 ェクトマネージャーの方\n業務改善やDX、AI活用の検討
 を担当している方\nエンジニアや開発者とAI活用につい
 て相談する立場の方\n非エンジニア職で、仕事へのAI活
 用を検討している方\n\n登壇者\n関口 和真（せきぐち・
 かずま）氏\n株式会社コムセント取締役 CTO\nサイトデ
 ザイン、HTMLのコーディング、JavaScript・PHP等を利用し
 たプログラム開発、iOS・Android向けアプリの作成、ウェ
 ブサーバーの実装、運用などトータルでウェブサイト
 の作成を行う。テクノロジーを理解し、デザインやコ
 ーディング、サーバー運用やサービス運用のアドバイ
 スをトータルで行える点が強み。\n株式会社コムセン
 ト(Web制作会社)のCTOとしてWebサイト作成、システム開
 発及びプログラム開発に従事。ECサイトのカスタマイ
 ズ、フルスクラッチによるWebシステム開発、映像配信
 システムや映像配信、配信用スマートフォンアプリ作
 成を主に手がける。\n大学・専門学校にて、Web制作の
 授業を担当（非常勤）。イベントやセミナーの登壇経
 験も豊富。 Dreamweaver等の著書も。\n\n参加費\n無料\nお
 申込み\nこちらのサイトからお申込みください。\n▼お
 申込締切：2026年4月28日（火）21:00\n\n▼C&R社で実施して
 いるオンライン講座・ウェビナー　一覧ページhttps://ww
 w.c-place.ne.jp/
LOCATION:
URL:https://techplay.jp/event/994655?utm_medium=referral&utm_source=ics&utm
 _campaign=ics
END:VEVENT
END:VCALENDAR
