BEGIN:VCALENDAR
VERSION:2.0
PRODID:-//https://techplay.jp//JP
CALSCALE:GREGORIAN
METHOD:PUBLISH
X-WR-CALDESC:【待ったなし！企業防衛の最前線】令和のセ
 キュリティ対策～最新動向からゼロトラストセキュリ
 ティの導入まで～
X-WR-CALNAME:【待ったなし！企業防衛の最前線】令和のセ
 キュリティ対策～最新動向からゼロトラストセキュリ
 ティの導入まで～
X-WR-TIMEZONE:Asia/Tokyo
BEGIN:VTIMEZONE
TZID:Asia/Tokyo
BEGIN:STANDARD
DTSTART:19700101T000000
TZOFFSETFROM:+0900
TZOFFSETTO:+0900
TZNAME:JST
END:STANDARD
END:VTIMEZONE
BEGIN:VEVENT
UID:994668@techplay.jp
SUMMARY:【待ったなし！企業防衛の最前線】令和のセキュ
 リティ対策～最新動向からゼロトラストセキュリティ
 の導入まで～
DTSTART;TZID=Asia/Tokyo:20260526T130000
DTEND;TZID=Asia/Tokyo:20260526T180000
DTSTAMP:20260421T073635Z
CREATED:20260413T055644Z
DESCRIPTION:イベント詳細はこちら\nhttps://techplay.jp/event/99466
 8?utm_medium=referral&utm_source=ics&utm_campaign=ics\n\n企業防衛の
 最前線】令和のセキュリティ対策～最新動向からゼロ
 トラストセキュリティの導入まで～\n概要\nAIの急速な
 進化、国際情勢の変化、サプライチェーンの複雑化。
 いま、企業を取り巻くサイバーリスクは“想定外”の
 スピードで高度化しています。 こんなお悩みはあり
 ませんか？・これまでの対策は、今の脅威に本当に通
 用するのか・インシデントが起きたとき、組織として
 正しく対応できるのか・どこから、何から手を付ける
 べきなのかこうした悩みを抱える企業さまは、決して
 少なくありません。 セミナー開催の背景そこで今回
 、NTT、NTT東日本グループの専門家による最新の脅威動
 向から実践的な対策、リアルなインシデント対応の現
 場知見までを「1日でまとめて学べる」無料セミナー 
 を開催します。 以下のようなお悩みがある方に、特
 におすすめです。・自社のセキュリティ対策が最新水
 準に達しているか不安・経産省サプライチェーン評価
 制度など、今押さえるべき要点を整理したい・実際の
 インシデント対応のを学びたい・具体的なセキュリテ
 ィ強化の手法を知りたい 「何から始めるべきか」を
 明確にしたい方に最適なセミナーです。この機会にぜ
 ひお気軽にご参加ください！ 開催概要 ■　開催日202
 6年5月26日（火）12:30 受付開始／13:00 開始／17:30 終了※
 17:30頃〜19:30 懇親会（任意参加）\nタイムスケジュール
 \n\n\n\n時間\n内容\n\n\n\n\n12:30－13:00\n受付\n\n\n13:00－13:10
 ​\nセミナー概要説明\n\n\n13:10－14:00​\n「国際情勢とAI
 時代のセキュリティ」NTT株式会社 技術企画部門 セキ
 ュリティ・アンド・トラスト室 チーフ・サイバーセキ
 ュリティ・ストラテジスト 松原 実穂子\n\n\n14:00－14:50
 ​\n「セキュリティアセスメントのすすめ ― サプライ
 チェーン強化に向けたセキュリティ対策評価制度を見
 据え」NTT東日本株式会社 ビジネス開発本部 サイバー
 セキュリティビジネス部セキュリティビジネス戦略担
 当 担当部長 麻生 享路\n\n\n14:50－15:00\n休憩\n\n\n15:00－15
 :50​\n「NTT-CERTが語る高度インシデント対応の最前線」
 NTT株式会社 技術企画部門 セキュリティ・アンド・ト
 ラスト室 NTT-CERT 担当部長 今野 俊一\n\n\n15:50－16:40​\n
 「企業の“守り”は待ったなし、BizDriveで実現するセ
 キュリティ強化策！」NTT東日本株式会社 ビジネスイノ
 ベーション本部 先進事業推進部 先端技術部門 チーフ 
 金指 龍太郎\n\n\n16:40－16:50​\n休憩\n\n\n16:50－17:30​\n「
 生成AI活用を加速するセキュリティ ― NTT東日本×ネク
 ストモードが描く新基準」ネクストモード株式会社 代
 表取締役社長 里見 宗律\n\n\n~19:30\n懇親会\n\n\n\n※ 当日
 予告なく時間配分・内容が変更になる可能性がござい
 ます。\n参加費\n無料\n注意事項\n\nリクルーティング、
 勧誘など、採用目的でのイベント参加はお断りしてお
 ります。\nキャンセル待ち・補欠・落選の方はご参加
 いただくことが出来ませんのでご了承ください。\n欠
 席される場合は、お手数ですが速やかにキャンセル処
 理をお願い致します。\n無断キャンセルや欠席が続く
 場合、次回以降の参加をお断りさせていただく場合が
 ございます。\n\nK26-00191【2604-2605】
LOCATION:ベルサール西新宿 東京都新宿区西新宿4-15-3
URL:https://techplay.jp/event/994668?utm_medium=referral&utm_source=ics&utm
 _campaign=ics
END:VEVENT
END:VCALENDAR
