BEGIN:VCALENDAR
VERSION:2.0
PRODID:-//https://techplay.jp//JP
CALSCALE:GREGORIAN
METHOD:PUBLISH
X-WR-CALDESC:4/24(金)12:00- Microsoft Copilot・AIエージェントの今
 と未来 〜『Agent 365』が描くビジネスのNext Story〜
X-WR-CALNAME:4/24(金)12:00- Microsoft Copilot・AIエージェントの今
 と未来 〜『Agent 365』が描くビジネスのNext Story〜
X-WR-TIMEZONE:Asia/Tokyo
BEGIN:VTIMEZONE
TZID:Asia/Tokyo
BEGIN:STANDARD
DTSTART:19700101T000000
TZOFFSETFROM:+0900
TZOFFSETTO:+0900
TZNAME:JST
END:STANDARD
END:VTIMEZONE
BEGIN:VEVENT
UID:994680@techplay.jp
SUMMARY:4/24(金)12:00- Microsoft Copilot・AIエージェントの今と
 未来 〜『Agent 365』が描くビジネスのNext Story〜
DTSTART;TZID=Asia/Tokyo:20260424T120000
DTEND;TZID=Asia/Tokyo:20260424T130000
DTSTAMP:20260420T091126Z
CREATED:20260413T072723Z
DESCRIPTION:イベント詳細はこちら\nhttps://techplay.jp/event/99468
 0?utm_medium=referral&utm_source=ics&utm_campaign=ics\n\n■ プログラ
 ム概要\n多くの企業でMicrosoft Copilotの導入が進む今、ビ
 ジネスの関心は「AIをどう使うか」から「AIとどう働く
 か」へとシフトしています。　　本セッションでは、A
 Iアーキテクトとして豊富な経験を持ち、現在は日本マ
 イクロソフト株式会社のパートナーソリューションア
 ーキテクトとして、国内企業のAIソリューション設計
 ・実装を支援する花ケ﨑氏をゲストに迎えます。株式
 会社スキルアップNeXtのCTOであり国内トップクラスのAI
 実装・人材育成の支援実績を持つ小縣と共に、Microsoft 
 Copilotの活用・定着の本質や、AIエージェントと自律型
 ビジネスへの展望を深掘りします。　　前半では、ス
 キルアップNeXtが協力パートナーを務めた生成AIコンテ
 スト「AI Challenge Day」の舞台裏を通じ、現場が直面する
 課題を整理します。さらに、Microsoft Copilotを日常業務
 へ落とし込むための具体的なプロセスと最新の事例を
 交えて、両者の視点から解説します。　後半では、組
 織知能の鍵を握るコンテキストエンジニアリングの概
 念や、本国でも5月にリリース予定の、自律的に動くAI
 をガバナンスし、信頼性を担保するための「Agent 365」
 の最新動向と展望を考察します。 Microsoftの最先端技術
 がビジネスや働き方をどう変えるのか、そのNEXTストー
 リーを提示します。　日本マイクロソフト株式会社本
 社から生配信でお届けする、実装の「今」とエージェ
 ントの「未来」をつなぐ特別な対談をぜひリアルタイ
 ムでご視聴ください。\n\n■ このような方におすすめ\n
 \nMicrosoft Copilotを導入したが、具体的な活用事例や高度
 な運用方法を模索している方\n最新のAIトレンド（Agent 
 365）をいち早くビジネスに取り入れたい方\nAI Challenge D
 ayの知見から、現場に定着するAI実装のヒントを得たい
 DX推進担当者の方\nコンテキストエンジニアリングを理
 解し、Agent 365と共に歩む組織像を構築したい経営・戦
 略層の方\n\n\n■ タイムスケジュール\n12:00～12:05　オー
 プニング12:05～12:25　実装の現在地：実務への落とし込
 みと定着の壁12:25～12:55　ビジネスの未来：Agent 365と自
 律型ワークスタイル12:55～13:00　クロージング\n\n■ ス
 ピーカー\n日本マイクロソフト株式会社 エンタープラ
 イズパートナー技術本部 パートナーソリューションア
 ーキテクト / 花ケ﨑 伸祐 氏大手日系・外資系 SIer に
 て AI アーキテクトを経験後、日本マイクロソフトに参
 画。現在は Data&AI 領域(Azure OpenAI/Azure AI Search) を中心に
 、日本国内の SI パートナーを対象とした AI ソリュー
 ションの設計・実装・アーキテクチャレビューを支援
 。　株式会社スキルアップNeXt 取締役CTO / 小縣 信也兵
 庫県出身。大阪市立大学工学部卒業後、建材メーカー
 、設備設計事務所に勤務。2010年、OpenFOAM勉強会for beginn
 er(現オープンCAE勉強会＠関東)を立ち上げ3年間幹事を
 務める。建築環境に関する数値シミュレーション、電
 力量や温湿度などのセンサーデータに関する分析が専
 門。1級建築士、エネルギー管理士。2013年、国土交通
 省国土技術政策総合研究所 優秀技術者賞受賞。 日本
 ディープラーニング協会主催2018E資格試験 優秀賞受賞
 、2019#1E資格試験優秀賞受賞。最近は、需要予測や異常
 検知などのモデル開発に取り組んでいる。著書「徹底
 攻略ディープラーニングE資格エンジニア問題集」（イ
 ンプレス）。\n\n■ 日時\n4月24日(金)　12:00-13:00 ( 参加
 費：無料 )\n\n■ 開催場所\nZoom\n※参加URLは、開催前日
 迄にお申し込みいただいたメールアドレスにご連絡い
 たします。メールが届かない方は、当日12時迄に info@s
 killupai.com へお問い合わせください。\n\n■ 注意事項\n
 ※本セミナーは企業様限定のセミナーとなります。お
 申し込みは、法人メールアドレスをご入力ください。\
 n※本セミナーの途中入退室は自由です。\n※一部プロ
 グラムに変更が生じる場合がございます。\n※セミナ
 ー事業を展開されている企業様からのお申込み、また
 は所属する会社名や団体名の記載のない方（個人名の
 み、フリーランスの方含む）のお申込みは、参加をお
 断りさせていただいております。予めご了承ください
 。　【ご協力のお願い】\n・申込後のキャンセルにつ
 いては、前日までにご連絡ください。\n\n■ 個人情報
 の取扱いについて\n\n人材育成サービス利用規約\n\n株
 式会社スキルアップNeXt（旧:スキルアップAI株式会社）
 が実施するセミナーにご参加いただく際には、「人材
 育成サービス利用規約」を遵守いただくことへの同意
 をお願いしております。利用規約はこちらからご確認
 ください。\n\nプライバシーポリシー\n\n個人情報の取
 扱いについてご同意を頂いた上でお申し込みをお願い
 しております。プライバシーポリシーはこちらからご
 確認ください。\n\n■ 運営団体\n株式会社スキルアップ
 NeXt（旧:スキルアップAI株式会社）\nhttps://www.skillupai.com
 /
LOCATION:
URL:https://techplay.jp/event/994680?utm_medium=referral&utm_source=ics&utm
 _campaign=ics
END:VEVENT
END:VCALENDAR
