BEGIN:VCALENDAR
VERSION:2.0
PRODID:-//https://techplay.jp//JP
CALSCALE:GREGORIAN
METHOD:PUBLISH
X-WR-CALDESC:ツール研修だけでは身につかない！現場でデ
 ータを活用するための“その先の育成”へ ～ トレー
 ニングを受けっぱなしで終わらせない、業務で活かす
 ための各種サービスをご紹介 ～
X-WR-CALNAME:ツール研修だけでは身につかない！現場でデ
 ータを活用するための“その先の育成”へ ～ トレー
 ニングを受けっぱなしで終わらせない、業務で活かす
 ための各種サービスをご紹介 ～
X-WR-TIMEZONE:Asia/Tokyo
BEGIN:VTIMEZONE
TZID:Asia/Tokyo
BEGIN:STANDARD
DTSTART:19700101T000000
TZOFFSETFROM:+0900
TZOFFSETTO:+0900
TZNAME:JST
END:STANDARD
END:VTIMEZONE
BEGIN:VEVENT
UID:994893@techplay.jp
SUMMARY:ツール研修だけでは身につかない！現場でデータ
 を活用するための“その先の育成”へ ～ トレーニン
 グを受けっぱなしで終わらせない、業務で活かすため
 の各種サービスをご紹介 ～
DTSTART;TZID=Asia/Tokyo:20260424T110000
DTEND;TZID=Asia/Tokyo:20260424T120000
DTSTAMP:20260421T152625Z
CREATED:20260417T082707Z
DESCRIPTION:イベント詳細はこちら\nhttps://techplay.jp/event/99489
 3?utm_medium=referral&utm_source=ics&utm_campaign=ics\n\nツール研修
 だけでは身につかない！現場でデータを活用するため
 の“その先の育成”へ～ トレーニングを受けっぱなし
 で終わらせない、業務で活かすための各種サービスを
 ご紹介 ～\n概要\n多くの企業でDXが加速し、データ活用
 人材の育成が急務となっています。「データの民主化
 」の流れの中で、ビジネスに関わる全ての方がデータ
 を使って意思決定できる“データドリブン人材”にな
 ることが求められています。\nその一方で、BIツールを
 導入してデータ活用研修を実施したにもかかわらず、
 研修の成果を業務に活用する社員はごくわずかで、ほ
 とんどの社員は研修を受けただけで終わってしまって
 いる、という話をよく耳にします。\n実はここには、
 「ツールの使い方を学ぶこと」と「業務で活用できる
 ようになること」のギャップという根本的な課題が存
 在します。ツール操作を習得しても「業務のどこで使
 うのか」「どんな可視化が意思決定に役立つのか」と
 いった観点が抜けていると業務活用は難しくなります
 。\n本セミナーでは、この “スキル習得と業務活用の
 間にあるギャップ” を分かりやすく整理し、そのギャ
 ップを埋めるための各種サービス（ZEAL DX-Learning Room、
 分析・可視化ワークショップ、演習ワークショップ、
 データドリブン人材育成プログラム）をご紹介します
 。\n\n<こんな方におすすめ>\n・ 社内でBIツール研修を
 実施したが業務活用に繋がらないとお悩みの方・ 現場
 レベルでデータ活用を広めようとしている方・ Power BI
 、MotionBoard、TableauなどのBIツールを業務で活用すべく
 推進している方・ 新年度予算を使ったデータ活用研修
 を検討している方\n～分析･可視化ワークショップ無
 料実施キャンペーン～本セミナー参加企業様限定で、
 「分析･可視化ワークショップ（全2日）」の1日目（2
 時間半）を無料体験できる特別キャンペーンを実施し
 ます。本キャンペーンでは、実際の有料ワークショッ
 プと同様の構成・進行で、ワークやペアワークを含め
 た実践的な内容を体験いただけます。講義中心の過去
 セミナー「分析･可視化ワークショップ 1日目体験セ
 ミナー」とは異なり、貴社メンバーを対象として、1社
 ごとに実施します。詳細はセミナーでご案内いたしま
 す。\n【キャンペーン参加条件】・最大2社限定（1社6
 名様まで）※実施は各社ごと・セミナーご参加企業様\
 n【キャンペーンへのお申し込み】✓ウェビナー後アン
 ケート内の「キャンペーン参加希望」にチェック※本
 キャンペーンのお申し込みは、当日ウェビナー参加企
 業様に限ります。\n分析・可視化ワークショップ につ
 いて詳しく知りたい方はこちらhttps://www.zdh.co.jp/products-
 services/dxhrevelopment/analysis-visualization-workshop/お客様導入
 事例：GSユアサ様 データ分析に必要な思考と業務に活
 かせる実践的スキルとはhttps://www.zdh.co.jp/customer/gs-yuasa/
 \nアジェンダ・タイムスケジュール\n10:50～11:00受付開
 始\n--------------------------\n11:00～11:20ツール研修だけでは
 身につかない！現場でデータを活用するための“その
 先の育成”へ\n――登壇者――株式会社ジール　デー
 タドリブンサービスユニット戸田 仁\n----------------------
 ----\n11:20～11:35データ活用人材育成eラーニングサービ
 ス「ZEAL DX-Learning Room」のご紹介\n――登壇者――株式
 会社ジール　データドリブンサービスユニット戸田 仁
 \n--------------------------\n11:35～11:50ツール研修のその後に
 必要な教育・手立てとは？「分析･可視化ワークショ
 ップ」等のご紹介\n――登壇者――株式会社ジール　
 大阪支社DXコンサルティング部鶴田 奈央\n-----------------
 ---------\n11:50～12:00質疑応答アンケート、個別のご相談
 をお受けいたします。\n--------------------------\n参加費\n
 無料\n\nセミナー対象者・前提条件\n皆様のお申込みを
 心よりお待ちしております。なお、パートナーおよび
 競合企業の方のお申込みはご遠慮いただいております
 ので予めご了承くださいませ。
LOCATION:
URL:https://techplay.jp/event/994893?utm_medium=referral&utm_source=ics&utm
 _campaign=ics
END:VEVENT
END:VCALENDAR
