BEGIN:VCALENDAR
VERSION:2.0
PRODID:-//https://techplay.jp//JP
CALSCALE:GREGORIAN
METHOD:PUBLISH
X-WR-CALDESC:【無料体験】 5/26開催 in日本橋｜失敗しない最
 新デジタルイベント企画
X-WR-CALNAME:【無料体験】 5/26開催 in日本橋｜失敗しない最
 新デジタルイベント企画
X-WR-TIMEZONE:Asia/Tokyo
BEGIN:VTIMEZONE
TZID:Asia/Tokyo
BEGIN:STANDARD
DTSTART:19700101T000000
TZOFFSETFROM:+0900
TZOFFSETTO:+0900
TZNAME:JST
END:STANDARD
END:VTIMEZONE
BEGIN:VEVENT
UID:995000@techplay.jp
SUMMARY:【無料体験】 5/26開催 in日本橋｜失敗しない最新
 デジタルイベント企画
DTSTART;TZID=Asia/Tokyo:20260526T100000
DTEND;TZID=Asia/Tokyo:20260526T170000
DTSTAMP:20260423T230624Z
CREATED:20260421T020121Z
DESCRIPTION:イベント詳細はこちら\nhttps://techplay.jp/event/99500
 0?utm_medium=referral&utm_source=ics&utm_campaign=ics\n\n【無料体験
 】 5/26開催 in日本橋｜失敗しない最新デジタルイベン
 ト企画 \n集客の目玉が欲しいイベント担当者様、必見
 。 昨年50社以上が参加した「イベントソリューション
 展示会」が、さらに内容を充実させて日本橋にて再び
 開催されます。 今回のテーマは、夏の鉄板コンテン
 ツ「昆虫」「恐竜」「水族館」。『おえかきパラダイ
 ス』や『てくてく段ボール迷路』など、日販テクシー
 ドが誇る最新のデジタル×リアル体験を、カタログで
 はなく「実機」でご体験いただけます。\n【本展示会
 で解決できるお悩み】\n・子供たちの好奇心を刺激し
 て、親子で夢中になれる時間を提供したい！・限られ
 たスペースを最大限に活用し、集客密度の高い空間を
 作りたい！・会場全体の回遊性を高めて、隅々までイ
 ベントを楽しんでほしい！・確信を持って企画を提案
 し、自信を持って当日を迎えたい！ その場でスタッ
 フに直接相談可能。夏休みの成功を、この一日で手に
 入れてください。\n【展示会の目玉】 \n■おえかきパ
 ラダイス  描いた絵やぬりえが大画面で動き出します
 。省スペースから大規模まで、どのようなイベントで
 も対応できる集客ツールです。 \n■ペイントすなば 
 砂場にプロジェクションマッピング×深度センサーの
 技術を組み合わせた新感覚のデジタル砂遊び。子ども
 たちはもちろん大人も夢中になる人気遊具です。 \n■
 てくてく段ボール迷路巨大段ボール迷路×デジタルス
 タンプラリー。迷路の中に隠れた昆虫や恐竜のたまご
 を見つ けてタブレットで撮影。全部見つけてゴール
 をめざします。 \n■AIアートラボ4つのキーワードカー
 ドを組み合わせてAIアートを生成。AIアートはポストカ
 ードに印刷してお渡しします。 \n■工作ワークショッ
 プ 親子で挑戦できる紙工作のワークショップ。デジ
 タルアトラクションと組み合わせたイベント展開がお
 すすめです。  \n【開催概要】 \n主　催：日販テクシ
 ード株式会社 日　時：2026年5月26日(火) 10:00～17:00（最
 終受付16:00） 会　場：日販テクシード株式会社　日本
 橋本社（MAP） 対　象：イベント担当者様、代理店様 
 入場料：無料（事前登録制） 展　示：おえかきパラ
 ダイス、ペイントすなば、てくてく段ボール迷路、AI
 アートラボ、工作ワークショップ \n【事前登録】 \n
 お申込はこちら※必ず上記の事前登録専用サイトでお
 申込をしてください。
LOCATION:日販テクシード株式会社　日本橋本社 東京都中
 央区日本橋浜町3-3-2　トルナーレ日本橋浜町 オフィス
 棟4F
URL:https://techplay.jp/event/995000?utm_medium=referral&utm_source=ics&utm
 _campaign=ics
END:VEVENT
END:VCALENDAR
