BEGIN:VCALENDAR
VERSION:2.0
PRODID:-//https://techplay.jp//JP
CALSCALE:GREGORIAN
METHOD:PUBLISH
X-WR-CALDESC:「学んだAIスキル」を「稼ぐ側」へ。 AIスキル
 を"高単価案件"に変える提案術 〜元自衛官・飲食店経
 営者が、なぜAI業務で稼ぎ続けられるのか〜【60分・無
 料】
X-WR-CALNAME:「学んだAIスキル」を「稼ぐ側」へ。 AIスキル
 を"高単価案件"に変える提案術 〜元自衛官・飲食店経
 営者が、なぜAI業務で稼ぎ続けられるのか〜【60分・無
 料】
X-WR-TIMEZONE:Asia/Tokyo
BEGIN:VTIMEZONE
TZID:Asia/Tokyo
BEGIN:STANDARD
DTSTART:19700101T000000
TZOFFSETFROM:+0900
TZOFFSETTO:+0900
TZNAME:JST
END:STANDARD
END:VTIMEZONE
BEGIN:VEVENT
UID:995034@techplay.jp
SUMMARY:「学んだAIスキル」を「稼ぐ側」へ。 AIスキルを"
 高単価案件"に変える提案術 〜元自衛官・飲食店経営
 者が、なぜAI業務で稼ぎ続けられるのか〜【60分・無料
 】
DTSTART;TZID=Asia/Tokyo:20260424T190000
DTEND;TZID=Asia/Tokyo:20260424T200000
DTSTAMP:20260422T101541Z
CREATED:20260421T114811Z
DESCRIPTION:イベント詳細はこちら\nhttps://techplay.jp/event/99503
 4?utm_medium=referral&utm_source=ics&utm_campaign=ics\n\nAIを稼ぐ力
 に。企業顧客への効果的なヒアリング・提案術とは？\
 n「AIって、IT系の人がやるものでしょ？」そう思って
 いた人が、今、月に複数の企業からAI業務を受注して
 います。\n講師の鶴田は、飲食店を2店舗経営する現役
 オーナーであり、もともと自衛官出身。ITのバックグ
 ラウンドもなければ、エンジニア経験もゼロ。それで
 も今、AI導入支援の案件を継続的に受け、企業の業務
 改革を動かしています。\nなぜ、そんな人が企業から
 のAI案件を獲得し続けることができているのか？\n顧客
 が求めているのは、より高度なAIツールを使える人で
 はなく、「自分の曖昧な悩みを整理して、解決策を示
 してくれる人」です。\n本ウェビナーでは、これらの
 スキルにおけるポイントを60分で実践的に解説します
 。\n\nこんな状態になっていませんか？\n\nChatGPT / Dify 
 は使える。でも「誰に・どうやって営業するか」がわ
 からない\n提案しようとすると「何を言えばいいか」
 詰まって止まる\n「AIで何ができますか？」と聞かれる
 と、うまく答えられない\nクラウドソーシングに登録
 したが、実績がなく全く選ばれない\n単発の案件は取
 れても、継続にならず収入が安定しない\n\n\nこのウェ
 ビナーで得られること\n\n最初のお客さんをどこで・ど
 うやって見つけるか\n「いきなり営業」にならないア
 プローチの型\nアポ前に勝負を決める「Deepリサーチ」\
 n初回ヒアリングで押さえるべき6つの質問\nAIを知らな
 い顧客への導入術\n「作って終わり」にしない継続契
 約の作り方\n\n\nこんな方におすすめ\n\nChatGPT / Claude / Di
 fy / n8n などを日常的に使っている方\nAIスキルを副業・
 フリーランスの収入に変えたいが、営業・提案の仕方
 がわからない方\n「ITの人だけが仕事を取れる」という
 思い込みを壊したい方\n学んだAIスキルを、実務として
 経験できる環境に興味がある方\n\n\n講師\n鶴田（元自
 衛官 / 飲食店2店舗経営 / 発注自動化AI開発 / AI導入支
 援）\n元ITエンジニアでも、コンサル出身でもない。飲
 食現場と自衛隊という、一見AIと縁遠い世界で培った**
 「現場の課題を構造化する力」**がAI提案の武器になっ
 ている。\n自店の発注業務をAIで自動化した実体験をベ
 ースに、中小企業へのAI導入支援を展開中。ツールの
 使い方ではなく、「課題の発見から継続契約まで」の
 プロセス全体を教えることで定評がある。\n\n開催概要
 \n\n\n\n項目\n内容\n\n\n\n\n日程\n4月24日（金）\n\n\n時間\n1
 9:00〜20:00（60分）\n\n\n形式\nオンライン\n\n\n参加費\n無
 料（定員限定・先着順）\n\n\n
LOCATION:
URL:https://techplay.jp/event/995034?utm_medium=referral&utm_source=ics&utm
 _campaign=ics
END:VEVENT
END:VCALENDAR
