BEGIN:VCALENDAR
VERSION:2.0
PRODID:-//https://techplay.jp//JP
CALSCALE:GREGORIAN
METHOD:PUBLISH
X-WR-CALDESC:【一夜限りのオンライン開催】ゼロから始め
 るClaude Code講座
X-WR-CALNAME:【一夜限りのオンライン開催】ゼロから始め
 るClaude Code講座
X-WR-TIMEZONE:Asia/Tokyo
BEGIN:VTIMEZONE
TZID:Asia/Tokyo
BEGIN:STANDARD
DTSTART:19700101T000000
TZOFFSETFROM:+0900
TZOFFSETTO:+0900
TZNAME:JST
END:STANDARD
END:VTIMEZONE
BEGIN:VEVENT
UID:995043@techplay.jp
SUMMARY:【一夜限りのオンライン開催】ゼロから始めるClau
 de Code講座
DTSTART;TZID=Asia/Tokyo:20260503T180000
DTEND;TZID=Asia/Tokyo:20260503T190000
DTSTAMP:20260424T142210Z
CREATED:20260421T140151Z
DESCRIPTION:イベント詳細はこちら\nhttps://techplay.jp/event/99504
 3?utm_medium=referral&utm_source=ics&utm_campaign=ics\n\n【初心者歓
 迎・無料】ゼロから始めるClaude Code講座\n\n〜ターミナ
 ルから始めるAIコーディング革命〜\n\nプログラミング
 経験ゼロでもOK！当日その場でClaude Codeを動かしてみよ
 う\n\n\n\n🔥 なぜ今、Claude Codeが注目されているのか？\
 n\nAIを使ったコーディング支援ツールは以前からあり
 ましたが、Claude Codeは一線を画しています。単にコー
 ドを補完するのではなく、「自分でToDoリストを作り、
 自律的にタスクを遂行するAIエージェント」 として動
 作するからです。\n\n📈 急拡大する採用実績\n\n2025年
 のGitHub上のコーディングエージェント調査では、Claude 
 Codeが最も多くのプロジェクトで採用されており、特に
 新規プロジェクトでの導入率は約21%と圧倒的なシェア
 を誇ります。\n\n🚀 「コーディングは解決された課題
 」と開発者自身が断言\n\nClaude Codeの責任者であるボリ
 ス・チェルニーは、「AIモデルが単にコーディングに
 ついて説明するだけではなく、実際にコーディングで
 きるようになった」と語っています。また、AIによる
 バグ修正の性能指標（SWE-bench）は2024年の33%から2025年
 には70%超へと急伸しており、実用レベルが一気に跳ね
 上がりました。\n\n🏢 企業の全社導入が相次いでいる\
 n\n2025年後半から、複数の国内スタートアップがClaude Co
 deの全社導入を決断。ある企業では「開発コードの6〜7
 割をAIに任せられるようになった」と報告しており、
 コードレビューの精度向上も確認されています。\n\n
 👔 非エンジニアも使い始めている\n\n以前はターミナ
 ル操作が必要なエンジニア向けツールでしたが、現在
 はVS CodeなどのIDEプラグインやデスクトップアプリから
 、ChatGPTとほぼ変わらない感覚で操作できます。非エン
 ジニアが戦略立案・リサーチ・タスク管理をClaude Code
 に集約し、複数ツールを切り替えていた認知的コスト
 を大幅に削減した事例も登場しています。\n\n\n\n💡 Cla
 ude Code 導入メリット 5選\n\n① 開発スピードが劇的に上
 がる\n\nコードの生成・修正・テスト作成・リファクタ
 リングをAIが担うことで、コードレビューやテスト生
 成といった本来時間がかかる業務も短時間で処理でき
 るため、エンジニアの生産性は大きく向上します。「
 やりたいこと」を日本語で伝えるだけで、実装のたた
 き台が即座に出てきます。\n\n② プロジェクト全体を
 文脈ごと理解してくれる\n\nClaude Codeは長文のコードや
 複雑な仕様に対して高精度な理解と処理ができるのが
 強みで、コードの生成だけでなく、改善提案や不具合
 の洗い出しにも活用されています。1ファイルだけでな
 く、プロジェクト全体の構造を把握した上で作業して
 くれます。\n\n③ エンジニアがコア業務に集中できる\n
 \n繰り返し作業をClaudeに任せることで、開発者は設計
 ・要件定義・レビューといったコア領域に集中でき、
 納期短縮だけでなくコードの品質向上にもつながりま
 す。\n\n④ 非エンジニアでも業務自動化ができる\n\nClau
 de Codeは「コードを書くツール」ではなく、「やりたい
 ことを自然言語で伝えると、ファイル操作やデータ処
 理を自律的にやってくれるエージェント」です。営業
 資料の自動生成やデータ整理など、コーディング以外
 の業務への活用事例も増えています。\n\n⑤ 使い方を
 覚えること自体がスキルになる\n\nもはやClaude Codeネイ
 ティブで仕事をしているかどうかで、エンジニア・非
 エンジニアを問わず生産性に大きな差が出る時代にな
 りつつあります。今のうちに使いこなせるようになる
 ことが、今後のキャリアにとっての重要な差別化ポイ
 ントになります。\n\n\n\n📌 こんな方におすすめ\n\n\n「
 Claude Code」が気になっているけど、何から始めればい
 いかわからない\nAIを使った開発を体験してみたい\nプ
 ログラミング学習中で、もっと効率よく進めたい\n開
 発業務の生産性を上げたいエンジニア・非エンジニア
 の方\n\n\n\n\n🎯 このイベントについて\n\n本講座では 
 「その日のうちに動かす」 をゴールに、環境構築から
 実践ハンズオンまでを体験します。\n\n\n\n🎁 持ち帰れ
 るもの\n\n\n設定済みの Claude Code 環境（自分のPCにその
 まま残ります）\n当日作成した動くサンプルコード\nす
 ぐ使えるコマンドチートシート\n現場で役立つプロン
 プトパターン集\n\n\n\n\n💻 参加にあたって必要なもの\
 n\n必須\n\n\nノートPC（Windows / Mac / Linux いずれも可）\nAn
 thropicアカウント（claude.ai で事前に無料登録をお願い
 します）\nClaude Pro以上のプラン（Claude Codeの利用に必
 要です／当日加入も可）\n\n\n不要なもの\n\n\nプログラ
 ミング経験（あれば尚よし）\n事前のセットアップ（
 当日一緒に行います！）\n\n\n\n⚠️ Claude Codeの利用に
 はAnthropicの有料プラン（Pro以上、月額約20ドル〜）が
 必要です。\n
LOCATION:テックジム東京本校 東京都千代田区平河町2-7-2 VO
 RT永田町6F
URL:https://techplay.jp/event/995043?utm_medium=referral&utm_source=ics&utm
 _campaign=ics
END:VEVENT
END:VCALENDAR
