BEGIN:VCALENDAR
VERSION:2.0
PRODID:-//https://techplay.jp//JP
CALSCALE:GREGORIAN
METHOD:PUBLISH
X-WR-CALDESC:"証明書でデバイス認証" OneLoginからAIへのアク
 セスを個体許可
X-WR-CALNAME:"証明書でデバイス認証" OneLoginからAIへのアク
 セスを個体許可
X-WR-TIMEZONE:Asia/Tokyo
BEGIN:VTIMEZONE
TZID:Asia/Tokyo
BEGIN:STANDARD
DTSTART:19700101T000000
TZOFFSETFROM:+0900
TZOFFSETTO:+0900
TZNAME:JST
END:STANDARD
END:VTIMEZONE
BEGIN:VEVENT
UID:995073@techplay.jp
SUMMARY:"証明書でデバイス認証" OneLoginからAIへのアクセス
 を個体許可
DTSTART;TZID=Asia/Tokyo:20260520T140000
DTEND;TZID=Asia/Tokyo:20260520T150000
DTSTAMP:20260423T155258Z
CREATED:20260422T071143Z
DESCRIPTION:イベント詳細はこちら\nhttps://techplay.jp/event/99507
 3?utm_medium=referral&utm_source=ics&utm_campaign=ics\n\n\n概要\n在宅
 ワークが当たり前になり、社内AIの活用も進む中、AI環
 境を本当に「会社の資産」として守れていますか？「
 社用PCのみの利用」というルールはあるものの、個人
 デバイスからも仕組み的にはアクセス可能―― そんな
 状態で、顧客情報、会話データ、生成AIの成果物、さ
 らには人事評価や給与情報まで扱っていないでしょう
 か。\nAI環境はもはや単なるツールではなく、企業の知
 的財産そのものになりつつあります。そのため、従来
 のSaaS向けセキュリティ対策だけでは不十分であると感
 じている方もいらっしゃるのではないでしょうか。\n
 本セミナーでは、OneLogin × デバイス固有証明書による
 「ユーザ＋デバイス」の厳格なアクセス制御を通じて
 、AI環境（ChatGPT / Gemini など）を社用PCのみに限定する
 方法を解説します。\nOneLoginとは？OneLoginとは、企業のI
 D管理とセキュリティを統合するクラウド型のID管理サ
 ービス（IDaaS）です。シングルサインオン（SSO）、多
 要素認証（MFA）やID管理 / 認証 (IAM)などの機能を提供
 しています。\nプログラム\n\n生成AI 情報漏れ対策の難
 しさ\n生成AIへのアクセスを制限するポイント\nOneLogin
 におけるMFAの考え方\nデバイス固有の証明書(3rd Party証
 明書)の利用\nデバイス固有の証明書でOneLoginログイン
 を会社支給PCに制限\nデバイス固有の証明書でAI環境(Cha
 tGPT\, Gemini)へのSSOを制限\n\n登壇者\nOneLogin Engineer川口 
 蒼\n参加対象\n\nIT戦略\, DX担当者\n情報システム部門\, 
 社内SE\nセキュリティにご関心のある方\n\n参加費\n無料
 \n開催方法\n\nオンライン（Zoom Webinarを使用します）\n\n
 注意事項\n\n開催前日までのZoom登録をお願いいたしま
 す。\n本セミナー内で投影される資料の画面キャプチ
 ャや録画などはご遠慮ください。\n参加申し込みは会
 社メールアドレスでお願いいたします。\n競合他社の
 方のご参加はご遠慮いただく場合がございます。\n
LOCATION:
URL:https://techplay.jp/event/995073?utm_medium=referral&utm_source=ics&utm
 _campaign=ics
END:VEVENT
END:VCALENDAR
