BEGIN:VCALENDAR
VERSION:2.0
PRODID:-//https://techplay.jp//JP
CALSCALE:GREGORIAN
METHOD:PUBLISH
X-WR-CALDESC:【5/12(火)13:00～】ホームページ集客を見直すな
 ら今。基礎から学ぶSEO改善セミナー【SEOセミナー】
X-WR-CALNAME:【5/12(火)13:00～】ホームページ集客を見直すな
 ら今。基礎から学ぶSEO改善セミナー【SEOセミナー】
X-WR-TIMEZONE:Asia/Tokyo
BEGIN:VTIMEZONE
TZID:Asia/Tokyo
BEGIN:STANDARD
DTSTART:19700101T000000
TZOFFSETFROM:+0900
TZOFFSETTO:+0900
TZNAME:JST
END:STANDARD
END:VTIMEZONE
BEGIN:VEVENT
UID:995129@techplay.jp
SUMMARY:【5/12(火)13:00～】ホームページ集客を見直すなら
 今。基礎から学ぶSEO改善セミナー【SEOセミナー】
DTSTART;TZID=Asia/Tokyo:20260512T130000
DTEND;TZID=Asia/Tokyo:20260512T140000
DTSTAMP:20260424T202512Z
CREATED:20260423T081256Z
DESCRIPTION:イベント詳細はこちら\nhttps://techplay.jp/event/99512
 9?utm_medium=referral&utm_source=ics&utm_campaign=ics\n\n【5/12(火)13:0
 0～】ホームページ集客を見直すなら今。基礎から学ぶ
 SEO改善セミナー【SEOセミナー】\n概要\n【無料】最新SEO
 セミナー開催のご案内のお知らせです！内部対策に特
 化したお得な検索エンジン対策情報を無料でお届け致
 します！！\n検索エンジン対策に詳しくなりたい企業
 様や、SEOに真剣に取り組んでいる企業様向けに企画し
 た無料で参加できるSEOセミナーです。\n主な内容とし
 ては現状のSEOに関する情報や、SEO内部施策の重要性に
 ついて伝授いたします。最後に業界初のSEOサービス【S
 EO極】のご紹介も行わせて頂きます。※最新の検索エ
 ンジン情報、SEO情報、すぐに役立つSEO内部対策情報等
 が満載です！\n詳細\n現在、Yahoo!検索がGoogle 検索エン
 ジンのアルゴリズムを採用し、Googleに強いホームペー
 ジ制作、コンテンツの作成、諸々の最適化が急務にな
 ってきました。また、従来のSEO では外部リンクの重要
 性が問われておりましたが、Google では今後内部施策に
 注力して行う方針に変わり、今まで以上にホームペー
 ジの質が問われるようになってきています。\nそのよ
 うな中で、弊社は「SEO 内部施策セミナー」と題しまし
 てSEOの内部施策についてのセミナーを開催致します。\
 n検索エンジン対策に詳しくなりたい企業様や、SEOに真
 剣に取り組んでいる企業様向けに企画した、無料で参
 加できるSEOセミナーです。\n主な内容としては現状のSE
 Oに関する情報や、SEO内部施策の重要性について伝授い
 たします。\nこれからSEOをビジネスとしてお考えの方
 々、SEO極をご検討いただいている方々、SEO極の取次店
 の方々、SEO極をご購入いただいた方々など 是非ともご
 参加ご検討ください。 皆様のご参加、お待ちいたし
 ております。\n最新の検索エンジン情報、SEO情報、す
 ぐに役立つSEO内部対策情報等が満載です！\nタイムス
 ケジュール\n\n\n\n時間\n内容\n\n\n\n\n13:00〜13:55\nホーム
 ページ集客を見直すなら今。基礎から学ぶSEO改善セミ
 ナー【SEOセミナー】\n\n\n13:55〜14:00\nアンケート回答\n\n
 \n\n※ 当日予告なく時間配分・内容が変更になる可能
 性がございます。\n登壇者\n名取 雄介株式会社ディテ
 イルクラウドクリエイティブ取締役副社長\n参加対象\n
 \nSEO内部対策を今後考えていらっしゃる方々\n\n参加費\
 n無料\nハッシュタグ\n#techplayjp\n注意事項\n\nリクルーテ
 ィング、勧誘など、採用目的でのイベント参加はお断
 りしております。\nキャンセル待ち・補欠・落選の方
 はご参加いただくことが出来ませんのでご了承くださ
 い。\n欠席される場合は、お手数ですが速やかにキャ
 ンセル処理をお願い致します。\n無断キャンセルや欠
 席が続く場合、次回以降の参加をお断りさせていただ
 く場合がございます。\n
LOCATION:
URL:https://techplay.jp/event/995129?utm_medium=referral&utm_source=ics&utm
 _campaign=ics
END:VEVENT
END:VCALENDAR
