BEGIN:VCALENDAR
VERSION:2.0
PRODID:-//https://techplay.jp//JP
CALSCALE:GREGORIAN
METHOD:PUBLISH
X-WR-CALDESC:5/20(水)16:30- 指示待ちAIからの脱却 Microsoft 「Age
 nt 365」と 「Copilot Cowork」で実現する自律型組織への転
 換
X-WR-CALNAME:5/20(水)16:30- 指示待ちAIからの脱却 Microsoft 「Age
 nt 365」と 「Copilot Cowork」で実現する自律型組織への転
 換
X-WR-TIMEZONE:Asia/Tokyo
BEGIN:VTIMEZONE
TZID:Asia/Tokyo
BEGIN:STANDARD
DTSTART:19700101T000000
TZOFFSETFROM:+0900
TZOFFSETTO:+0900
TZNAME:JST
END:STANDARD
END:VTIMEZONE
BEGIN:VEVENT
UID:995137@techplay.jp
SUMMARY:5/20(水)16:30- 指示待ちAIからの脱却 Microsoft 「Agent 36
 5」と 「Copilot Cowork」で実現する自律型組織への転換
DTSTART;TZID=Asia/Tokyo:20260520T163000
DTEND;TZID=Asia/Tokyo:20260520T173000
DTSTAMP:20260425T225155Z
CREATED:20260423T115517Z
DESCRIPTION:イベント詳細はこちら\nhttps://techplay.jp/event/99513
 7?utm_medium=referral&utm_source=ics&utm_campaign=ics\n\n■ プログラ
 ム概要\n生成AIの業務利用が拡大する一方で、多くの企
 業では組織的なコントロールと実効性の欠如が大きな
 課題となっています。\n部門や個人ごとに異なるエー
 ジェントが導入され、利用実態が把握できないことに
 よるセキュリティリスクの拡大に加え、現在稼働して
 いるAIの多くは依然として「指示待ち」の域を出てい
 ません。複数のステップを跨ぐ複雑なワークフローを
 完結させる自律性に欠けているため、結果としてAIが
 業務の断絶を生み、期待したほどの投資対効果（ROI）
 が得られないという壁に直面しているのが実情です。\
 nこうした停滞を打破すべく、Microsoftは2026年の主要ア
 ップデートとして、組織内の全エージェントを統合管
 理し安全な運用を実現する「Agent 365」と、自律的にタ
 スクを完結させる「Microsoft Cowork」を提示しました。本
 セミナーでは、これらの技術がもたらすガバナンスの
 再構築から、次世代の自律型ワークフローまで、最新
 のエージェント・エコシステムが組織に与えるインパ
 クトを詳解します。\nあわせて、弊社が新たに提供を
 開始する、組織を「エージェント・ファースト」へと
 変革するための実装・伴走支援プログラムについても
 いち早くご紹介いたします。\n\n■ このような方にお
 すすめ\n\n「指示待ちAI」に限界を感じ、自律的な業務
 完了を実現する高度な運用を模索している方\n最新のAI
 トレンド（Agent 365・Copilot Cowork）をいち早くビジネス
 に取り入れたい方\n乱立するAIのガバナンスを強化し、
 安全に統合管理したい情報システム・DX推進担当者の
 方\nAIの投資対効果（ROI）を高め、「エージェント・フ
 ァースト」実装のヒントを得たい方\n人と自律型AIが協
 働する、次世代の組織像を構築したい経営・戦略層の
 方\n\n\n■ タイムスケジュール\n16:30～16:35　オープニン
 グ16:35～17:10　本講演17:10～17:25　質疑応答17:25～17:30　
 クロージング\n\n■ 登壇者\n株式会社スキルアップNeXt 
 執行役員CRO / 斉藤 翔汰2019年に新卒で入社。Deep Learning
 ・機械学習・最適化などの人工知能分野におけるアル
 ゴリズムの研究開発や、開発コンサルティングおよびD
 X/AI領域の人材育成業務に従事。2019 年には人工知能分
 野のトップ国際会議 ICML に論文採択され、以降も共著
 論文がトップレベルの国際会議に採択される。2025 Micro
 soft Top Partner Engineer Award（Modern Work・Copilot部門）受賞。
 著書：「徹底攻略ディープラーニングE資格エンジニア
 問題集」\n\n■ 日時\n5月20日(水)　16:30-17:30 ( 参加費：
 無料 )\n\n■ 開催場所\nZoom\n※参加URLは、開催前日迄に
 お申し込みいただいたメールアドレスにご連絡いたし
 ます。メールが届かない方は、当日12時迄に info@skillup
 ai.com へお問い合わせください。\n\n■ 注意事項\n※本
 セミナーは企業様限定のセミナーとなります。お申し
 込みは、法人メールアドレスをご入力ください。\n※
 本セミナーの途中入退室は自由です。\n※一部プログ
 ラムに変更が生じる場合がございます。\n※セミナー
 事業を展開されている企業様からのお申込み、または
 所属する会社名や団体名の記載のない方（個人名のみ
 、フリーランスの方含む）のお申込みは、参加をお断
 りさせていただいております。予めご了承ください。
 　【ご協力のお願い】\n・申込後のキャンセルについ
 ては、前日までにご連絡ください。\n\n■ 個人情報の
 取扱いについて\n\n人材育成サービス利用規約\n\n株式
 会社スキルアップNeXt（旧:スキルアップAI株式会社）が
 実施するセミナーにご参加いただく際には、「人材育
 成サービス利用規約」を遵守いただくことへの同意を
 お願いしております。利用規約はこちらからご確認く
 ださい。\n\nプライバシーポリシー\n\n個人情報の取扱
 いについてご同意を頂いた上でお申し込みをお願いし
 ております。プライバシーポリシーはこちらからご確
 認ください。\n\n■ 運営団体\n株式会社スキルアップNeX
 t（旧:スキルアップAI株式会社）\nhttps://www.skillupai.com/
LOCATION:
URL:https://techplay.jp/event/995137?utm_medium=referral&utm_source=ics&utm
 _campaign=ics
END:VEVENT
END:VCALENDAR
