BEGIN:VCALENDAR
VERSION:2.0
PRODID:-//https://techplay.jp//JP
CALSCALE:GREGORIAN
METHOD:PUBLISH
X-WR-CALDESC:人手が足りない時代に、売上を伸ばす店舗の
 共通点 ― 省人化DX×SNS集客で実現する"少人数で売れる
 "仕組みづくり ―
X-WR-CALNAME:人手が足りない時代に、売上を伸ばす店舗の
 共通点 ― 省人化DX×SNS集客で実現する"少人数で売れる
 "仕組みづくり ―
X-WR-TIMEZONE:Asia/Tokyo
BEGIN:VTIMEZONE
TZID:Asia/Tokyo
BEGIN:STANDARD
DTSTART:19700101T000000
TZOFFSETFROM:+0900
TZOFFSETTO:+0900
TZNAME:JST
END:STANDARD
END:VTIMEZONE
BEGIN:VEVENT
UID:995145@techplay.jp
SUMMARY:人手が足りない時代に、売上を伸ばす店舗の共通
 点 ― 省人化DX×SNS集客で実現する"少人数で売れる"仕
 組みづくり ―
DTSTART;TZID=Asia/Tokyo:20260519T150000
DTEND;TZID=Asia/Tokyo:20260519T160000
DTSTAMP:20260424T202646Z
CREATED:20260423T204531Z
DESCRIPTION:イベント詳細はこちら\nhttps://techplay.jp/event/99514
 5?utm_medium=referral&utm_source=ics&utm_campaign=ics\n\nー セミナー
 情報 ー\n第一部：株式会社BESW\n広告費を増やさず集客
 を伸ばす 飲食・サロン・小売のSNS活用 成功パターン\n
 「人手が足りない、でも売上は落とせない」飲食・サ
 ロン・小売の経営者が今、最も頭を悩ませる課題です
 。求人を出しても人が集まらない時代に、少ない人数
 で売上を維持・拡大するには"集客の仕組み化"が欠か
 せません。本セミナーでは、700社以上の支援実績を持
 つBESWが、店舗の業務負担を増やさずにSNSで集客を仕組
 み化する方法を解説。SNS経由の売上が51倍に拡大した
 事例や、LINE活用で来店者数が3倍になった実績をもと
 に、明日から実践できる具体的なステップをお伝えし
 ます。\n– 学べること –\n\n少ない人数でも売上を伸
 ばす「SNS集客の仕組み化」の考え方\nSNS経由で売上51倍
 ・来店数3倍を実現した店舗の具体的な成功パターン\n
 忙しい現場でも続けられる、月10時間のSNS運用体制の
 作り方\n\n– こんな方にオススメ –\n\n人手不足の中で
 も売上を伸ばす方法を探している経営者・店舗責任者\
 nSNSを始めたいが、現場が忙しく手が回らないと感じて
 いる方\n広告費をかけずに集客を安定させたい飲食・
 サロン・小売の経営者\n\n\n田中 千晶（Tanaka Chiaki）\n株
 式会社BESW　代表取締役2009年、大学在学中に会社を設
 立し、1年半で大手企業、中小企業50社と取引をする。 
 Webプロモーション支援を得意とし、特にSNS活用支援で
 多くの実績をもつ。2012年から全国各地でセミナーを精
 力的に実施。シリコンバレーのFacebook本社やX本社へ毎
 年出向いて直接SNSの最先端情報を仕入れてきている。
 角川出版社、マイナビ社、技術評論社、翔泳社、イン
 プレス社でマーケティング支援の書籍を8冊出版。連載
 も8社で行う。自身のラジオ番組、パーソナリティとし
 ても活動し、SNSの最新情報を届けている。\n▼ 代表田
 中のXアカウントはこちらhttps://x.com/c_tanaka1987\n\n\n第二
 部：株式会社ユニエイム\n省人化で終わらない、飲食
 店の成長戦略。店舗経営の“余白“をつくる第一歩と
 は？\n人手不足や人件費の高騰で、日々の営業を回す
 だけで精一杯。売上を伸ばしたい気持ちはあっても、
 分析や改善、販促まで手が回らない――そんなお悩み
 はありませんか。本ウェビナーでは、タッチパネル型
 券売機・セルフレジ・モバイルオーダーなどを活用し
 、注文・会計業務の負担を軽減して、現場に“余白“
 を生み出す方法をわかりやすく解説します。さらに、
 その余白を売上分析やメニュー改善、販促強化へつな
 げ、店舗の成長ストーリーを描くための考え方と実践
 のヒントをお届けします。\n– 学べること –\n\n業態
 ごとにどんな事をすれば業務負担が軽減できるのか？\
 n具体的にどれくらい軽減できるのか？\nその余白で何
 ができるのか？どうすればいいのか？具体例を用いて
 、わかりやすくお教えします！\n\n– こんな方にオス
 スメ –\n\n人手不足や人件費高騰の中で、日々の営業
 を回すだけで手一杯な飲食店経営者・店舗責任者の方\
 n券売機・セルフレジ・モバイルオーダーの導入を検討
 しているものの、自店舗にどう活用できるか具体的に
 イメージできていない方\n省人化や効率化で終わらせ
 ず、できた余白を売上アップや店舗改善につなげたい
 と考えている方\n\n\n吉中 佑馬（Yuma Yoshinaka）\n株式会
 社ユニエイム 取締役兼POS事業部責任者\n2024年に入社し
 、2025年に取締役へ就任。前職では飲食店経営に携わり
 、現場で培った実務視点と経営感覚を強みに、POSサー
 ビス「CASHIER」事業部の統括を担当している。数値分析
 をもとにした課題抽出と改善提案を得意とし、店舗ご
 との状況に応じた最適なPOSや関連サービスを提案。ク
 ライアントの課題解決にとどまらず、その先の成長ま
 で見据えた支援をモットーとしている。\n\n＜ 実施概
 要 ＞\n【日程】  5月19日(火)　15:00 ～ 16:00\n【開催形
 式】オンライン（※WEBツール：Zoom）\n＜ 注意事項 ＞\n
 \nWEBのみの開催となりますので、ご了承ください。エ
 ントリーいただいた方に、前日までにWEBセミナー開催
 のURLをお送りします。\n競合、同業社様のご参加はお
 断りいたします。\nセミナーに関するフォームでのご
 入力情報は株式会社BESWがセミナーやサービスのご案内
 （広告メール含む）をするため取得し、同目的で利用
 するため、以下の共催企業に提供いたします。各社の
 個人情報の取り扱いの詳細は以下をご覧ください。・
 株式会社BESW・株式会社ユニエイム\nお申込が予定数を
 超過した場合は、早期受付終了とさせていただく場合
 がございます。\nお申込後のキャンセルが発生した場
 合は再受付させていただく事がございますので、ご参
 加が難しくなった際は下記までご連絡いただきますよ
 うお願い申し上げます。\n\n＜株式会社BESW　セミナー
 運営担当 03-5829-3510＞
LOCATION:
URL:https://techplay.jp/event/995145?utm_medium=referral&utm_source=ics&utm
 _campaign=ics
END:VEVENT
END:VCALENDAR
